Workbook

Sheet MAY-D
A1: ತಿಂಗಳು | D1: ಶಾಲೆಯ ಹೆಸರು : | Q1: ವರ್ಷ | X1: sukumarkadinakonda@gmail.com
A2: ದಿನಾಂಕ | B2: ಊಟ ಮಾಡಿದ ಮಕ್ಕಳ ಸಂಖ್ಯೆ | F2: ವಿವರ | G2: ಅಕ್ಕಿ | K2: ಗೋಧಿ | O2: ಬೇಳೆ | S2: ಎಣ್ಣೆ | X2: ದಿನಾಂಕ | Y2: ಮೊಟ್ಟೆ ವಿತರಣೆ ಸಂಖ್ಯೆ | Z2: ಬಾಳೆಹಣ್ಣು ವಿತರಣೆ ಸಂಖ್ಯೆ | AA2: ಮೊಟ್ಟೆ ಖರೀದಿ ವಿವರ | AF2: ಬಾಳೆಹಣ್ಣು | AG2: ಬಾಳೆಹಣ್ಣು ಮತ್ತು ಮೊಟ್ಟೆ ಒಟ್ಟು ವೆಚ್ಚ
B3: LKG-UKG | C3: 1 ರಿಂದ 5 | D3: 6 ರಿಂದ 8 | E3: ಒಟ್ಟು | G3: LKG-UKG | H3: 1 ರಿಂದ 5 | I3: 6 ರಿಂದ 8 | J3: ಒಟ್ಟು | K3: LKG-UKG | L3: 1 ರಿಂದ 5 | M3: 6 ರಿಂದ 8 | N3: ಒಟ್ಟು | O3: LKG-UKG | P3: 1 ರಿಂದ 5 | Q3: 6 ರಿಂದ 8 | R3: ಒಟ್ಟು | S3: LKG-UKG | T3: 1 ರಿಂದ 5 | U3: 6 ರಿಂದ 8 | V3: ಒಟ್ಟು | AA3: ಖರೀದಿ ವೆಚ್ಚ | AB3: ಸಾಗಾಣಿಕಾ ವೆಚ್ಚ | AC3: ಬೇಯಿಸಿದ ಬಾಬ್ತು | AD3: ಗ್ಯಾಸ್ ವೆಚ್ಚ | AE3: ಮೊಟ್ಟೆಯ ಒಟ್ಟು ವೆಚ್ಚ | AF3: ಖರೀದಿ ವೆಚ್ಚ
A4: 46174 | B4: Sukumar Kadinakonda | F4: ಆರಂಭಿಕ ಶಿಲ್ಕು | G4: 10 | H4: 0 | I4: 0 | J4: =I4+H4+G4 -> 10 | K4: 50 | L4: 0 | M4: 0 | N4: =M4+L4+K4 -> 50 | O4: 20 | P4: 0 | Q4: 0 | R4: =Q4+P4+O4 -> 20 | S4: 12 | T4: 0 | U4: 0 | V4: =U4+T4+S4 -> 12 | X4: 183 | Y4: 0 | Z4: 0 | AA4: =Y4*5 -> 0 | AB4: =Y4*0.2 -> 0 | AC4: =Y4*0.3 -> 0 | AD4: =Y4*0.5 -> 0 | AE4: =AD4+AC4+AB4+AA4 -> 0 | AF4: =Z4*6 -> 0 | AG4: =AF4+AE4 -> 0
F5: ತಿಂಗಳ ಸರಬರಾಜು | G5: 5 | H5: 0 | I5: 0 | J5: =I5+H5+G5 -> 5 | K5: 0 | L5: 0 | M5: 0 | N5: 2 | O5: 5 | P5: 0 | Q5: 0 | R5: =Q5+P5+O5 -> 5 | S5: 2 | T5: 0 | U5: 0 | V5: =U5+T5+S5 -> 2 | X5: 184 | Y5: 0 | Z5: 0 | AA5: =Y5*5 -> 0 | AB5: =Y5*0.2 -> 0 | AC5: =Y5*0.3 -> 0 | AD5: =Y5*0.5 -> 0 | AE5: =AD5+AC5+AB5+AA5 -> 0 | AF5: =Z5*6 -> 0 | AG5: =AF5+AE5 -> 0
F6: ಒಟ್ಟು ಆರಂಭಿಕ ಶಿಲ್ಕು | G6: =G4+G5 -> 15 | H6: =H4+H5 -> 0 | I6: =I4+I5 -> 0 | J6: =I6+H6+G6 -> 15 | K6: =K4+K5 -> 50 | L6: =L4+L5 -> 0 | M6: =M4+M5 -> 0 | N6: =M6+L6+K6 -> 50 | O6: =O4+O5 -> 25 | P6: =P4+P5 -> 0 | Q6: =Q4+Q5 -> 0 | R6: =Q6+P6+O6 -> 25 | S6: =S4+S5 -> 14 | T6: =T4+T5 -> 0 | U6: =U4+U5 -> 0 | V6: =U6+T6+S6 -> 14 | X6: 185 | Y6: 0 | AA6: =Y6*5 -> 0 | AB6: =Y6*0.2 -> 0 | AC6: =Y6*0.3 -> 0 | AD6: =Y6*0.5 -> 0 | AE6: =AD6+AC6+AB6+AA6 -> 0 | AF6: =Z6*6 -> 0 | AG6: =AF6+AE6 -> 0
B7: 10 | C7: 10 | D7: 10 | E7: =D7+C7+B7 -> 30 | F7: ಬಳಕೆ | G7: =B7*0.1 -> 1 | H7: =C7*0.1 -> 1 | I7: =D7*0.15 -> 1.5 | J7: =I7+H7+G7 -> 3.5 | N7: =M7+L7+K7 -> 0 | O7: =B7*0.02 -> 0.2 | P7: =C7*0.02 -> 0.2 | Q7: =D7*0.03 -> 0.3 | R7: =Q7+P7+O7 -> 0.7 | S7: =B7*0.005 -> 0.05 | T7: =C7*0.005 -> 0.05 | U7: =D7*0.0075 -> 0.075 | V7: =U7+T7+S7 -> 0.175 | X7: 186 | Y7: 0 | AA7: =Y7*5 -> 0 | AB7: =Y7*0.2 -> 0 | AC7: =Y7*0.3 -> 0 | AD7: =Y7*0.5 -> 0 | AE7: =AD7+AC7+AB7+AA7 -> 0 | AF7: =Z7*6 -> 0 | AG7: =AF7+AE7 -> 0
F8: ಉಳಿಕೆ/ ಒಟ್ಟು | G8: =G6-G7 -> 14 | H8: =H6-H7 -> -1 | I8: =I6-I7 -> -1.5 | J8: =J6-J7 -> 11.5 | K8: =K6-K7 -> 50 | L8: =L6-L7 -> 0 | M8: =M6-M7 -> 0 | N8: =N6-N7 -> 50 | ... V8: =V6-V7 -> 13.825 | X8: 187 | Y8: 0 | AA8: =Y8*5 -> 0 | AB8: =Y8*0.2 -> 0 | AC8: =Y8*0.3 -> 0 | AD8: =Y8*0.5 -> 0 | AE8: =AD8+AC8+AB8+AA8 -> 0 | AF8: =Z8*6 -> 0 | AG8: =AF8+AE8 -> 0
A9: 46175 | F9: ಆರಂಭಿಕ ಶಿಲ್ಕು | G9: =G6-G7 -> 14 | H9: =H6-H7 -> -1 | I9: =I6-I7 -> -1.5 | J9: =J6-J7 -> 11.5 | K9: =K6-K7 -> 50 | L9: =L6-L7 -> 0 | M9: =M6-M7 -> 0 | N9: =N6-N7 -> 50 | ... V9: =V6-V7 -> 13.825 | X9: 188 | Y9: 0 | Z9: 0 | AA9: =Y9*5 -> 0 | AB9: =Y9*0.2 -> 0 | AC9: =Y9*0.3 -> 0 | AD9: =Y9*0.5 -> 0 | AE9: =AD9+AC9+AB9+AA9 -> 0 | AF9: =Z9*6 -> 0 | AG9: =AF9+AE9 -> 0
F10: ತಿಂಗಳ ಸರಬರಾಜು | G10: 0 | H10: 0 | I10: 0 | J10: =I10+H10+G10 -> 0 | K10: 0 | L10: 0 | M10: 0 | N10: 2 | O10: 0 | P10: 0 | Q10: 0 | R10: =Q10+P10+O10 -> 0 | S10: 0 | T10: 0 | U10: 0 | V10: =U10+T10+S10 -> 0 | X10: 189 | Y10: 0 | Z10: 0 | AA10: =Y10*5 -> 0 | AB10: =Y10*0.2 -> 0 | AC10: =Y10*0.3 -> 0 | AD10: =Y10*0.5 -> 0 | AE10: =AD10+AC10+AB10+AA10 -> 0 | AF10: =Z10*6 -> 0 | AG10: =AF10+AE10 -> 0
F11: ಒಟ್ಟು ಆರಂಭಿಕ ಶಿಲ್ಕು | G11: =G9+G10 -> 14 | H11: =H9+H10 -> -1 | I11: =I9+I10 -> -1.5 | J11: =I11+H11+G11 -> 11.5 | K11: =K9+K10 -> 50 | L11: =L9+L10 -> 0 | M11: =M9+M10 -> 0 | N11: =M11+L11+K11 -> 50 | O11: =O9+O10 -> 24.8 | P11: =P9+P10 -> -0.2 | Q11: =Q9+Q10 -> -0.3 | R11: =Q11+P11+O11 -> 24.3 | S11: =S9+S10 -> 13.95 | T11: =T9+T10 -> -0.05 | U11: =U9+U10 -> -0.075 | V11: =U11+T11+S11 -> 13.825 | X11: 190 | Y11: 0 | AA11: =Y11*5 -> 0 | AB11: =Y11*0.2 -> 0 | AC11: =Y11*0.3 -> 0 | AD11: =Y11*0.5 -> 0 | AE11: =AD11+AC11+AB11+AA11 -> 0 | AF11: =Z11*6 -> 0 | AG11: =AF11+AE11 -> 0
B12: 9 | C12: 7 | D12: 6 | E12: =D12+C12+B12 -> 22 | F12: ಬಳಕೆ | G12: =B12*0.1 -> 0.9 | H12: =C12*0.1 -> 0.7 | I12: =D12*0.15 -> 0.9 | J12: =I12+H12+G12 -> 2.5 | N12: =M12+L12+K12 -> 0 | O12: =B12*0.02 -> 0.18 | P12: =C12*0.02 -> 0.14 | Q12: =D12*0.03 -> 0.18 | R12: =Q12+P12+O12 -> 0.5 | S12: =B12*0.005 -> 0.045 | T12: =C12*0.005 -> 0.035 | U12: =D12*0.0075 -> 0.045 | V12: =U12+T12+S12 -> 0.125 | X12: 191 | Y12: 0 | AA12: =Y12*5 -> 0 | AB12: =Y12*0.2 -> 0 | AC12: =Y12*0.3 -> 0 | AD12: =Y12*0.5 -> 0 | AE12: =AD12+AC12+AB12+AA12 -> 0 | AF12: =Z12*6 -> 0 | AG12: =AF12+AE12 -> 0
F13: ಉಳಿಕೆ/ ಒಟ್ಟು | G13: =G11-G12 -> 13.1 | H13: =H11-H12 -> -1.7 | I13: =I11-I12 -> -2.4 | J13: =J11-J12 -> 9 | K13: =K11-K12 -> 50 | L13: =L11-L12 -> 0 | M13: =M11-M12 -> 0 | N13: =N11-N12 -> 50 | ... V13: =V11-V12 -> 13.7 | X13: 192 | Y13: 0 | AA13: =Y13*5 -> 0 | AB13: =Y13*0.2 -> 0 | AC13: =Y13*0.3 -> 0 | AD13: =Y13*0.5 -> 0 | AE13: =AD13+AC13+AB13+AA13 -> 0 | AF13: =Z13*6 -> 0 | AG13: =AF13+AE13 -> 0
A14: 46176 | F14: ಆರಂಭಿಕ ಶಿಲ್ಕು | G14: =G11-G12 -> 13.1 | H14: =H11-H12 -> -1.7 | I14: =I11-I12 -> -2.4 | J14: =J11-J12 -> 9 | K14: =K11-K12 -> 50 | L14: =L11-L12 -> 0 | M14: =M11-M12 -> 0 | N14: =N11-N12 -> 50 | ... V14: =V11-V12 -> 13.7 | X14: 193 | Y14: 0 | AA14: =Y14*5 -> 0 | AB14: =Y14*0.2 -> 0 | AC14: =Y14*0.3 -> 0 | AD14: =Y14*0.5 -> 0 | AE14: =AD14+AC14+AB14+AA14 -> 0 | AF14: =Z14*6 -> 0 | AG14: =AF14+AE14 -> 0
F15: ತಿಂಗಳ ಸರಬರಾಜು | G15: 0 | H15: 0 | I15: 0 | J15: =I15+H15+G15 -> 0 | K15: 0 | L15: 0 | M15: 0 | N15: 2 | O15: 0 | P15: 0 | Q15: 0 | R15: =Q15+P15+O15 -> 0 | S15: 0 | T15: 0 | U15: 0 | V15: =U15+T15+S15 -> 0 | X15: 194 | Y15: 0 | AA15: =Y15*5 -> 0 | AB15: =Y15*0.2 -> 0 | AC15: =Y15*0.3 -> 0 | AD15: =Y15*0.5 -> 0 | AE15: =AD15+AC15+AB15+AA15 -> 0 | AF15: =Z15*6 -> 0 | AG15: =AF15+AE15 -> 0
F16: ಒಟ್ಟು ಆರಂಭಿಕ ಶಿಲ್ಕು | G16: =G14+G15 -> 13.1 | H16: =H14+H15 -> -1.7 | I16: =I14+I15 -> -2.4 | J16: =I16+H16+G16 -> 9 | K16: =K14+K15 -> 50 | L16: =L14+L15 -> 0 | M16: =M14+M15 -> 0 | N16: =M16+L16+K16 -> 50 | O16: =O14+O15 -> 24.62 | P16: =P14+P15 -> -0.34 | Q16: =Q14+Q15 -> -0.48 | R16: =Q16+P16+O16 -> 23.8 | S16: =S14+S15 -> 13.905 | T16: =T14+T15 -> -0.085 | U16: =U14+U15 -> -0.12 | V16: =U16+T16+S16 -> 13.7 | X16: 195 | Y16: 0 | AA16: =Y16*5 -> 0 | AB16: =Y16*0.2 -> 0 | AC16: =Y16*0.3 -> 0 | AD16: =Y16*0.5 -> 0 | AE16: =AD16+AC16+AB16+AA16 -> 0 | AF16: =Z16*6 -> 0 | AG16: =AF16+AE16 -> 0
B17: 0 | C17: 0 | D17: 0 | E17: =D17+C17+B17 -> 0 | F17: ಬಳಕೆ | G17: =B17*0.1 -> 0 | H17: =C17*0.1 -> 0 | I17: =D17*0.15 -> 0 | J17: =I17+H17+G17 -> 0 | N17: =M17+L17+K17 -> 0 | O17: =B17*0.02 -> 0 | P17: =C17*0.02 -> 0 | Q17: =D17*0.03 -> 0 | R17: =Q17+P17+O17 -> 0 | S17: =B17*0.005 -> 0 | T17: =C17*0.005 -> 0 | U17: =D17*0.0075 -> 0 | V17: =U17+T17+S17 -> 0 | X17: 196 | Y17: 0 | AA17: =Y17*5 -> 0 | AB17: =Y17*0.2 -> 0 | AC17: =Y17*0.3 -> 0 | AD17: =Y17*0.5 -> 0 | AE17: =AD17+AC17+AB17+AA17 -> 0 | AF17: =Z17*6 -> 0 | AG17: =AF17+AE17 -> 0
F18: ಉಳಿಕೆ/ ಒಟ್ಟು | G18: =G16-G17 -> 13.1 | H18: =H16-H17 -> -1.7 | I18: =I16-I17 -> -2.4 | J18: =J16-J17 -> 9 | K18: =K16-K17 -> 50 | L18: =L16-L17 -> 0 | M18: =M16-M17 -> 0 | N18: =N16-N17 -> 50 | ... V18: =V16-V17 -> 13.7 | X18: 197 | Y18: 0 | AA18: =Y18*5 -> 0 | AB18: =Y18*0.2 -> 0 | AC18: =Y18*0.3 -> 0 | AD18: =Y18*0.5 -> 0 | AE18: =AD18+AC18+AB18+AA18 -> 0 | AF18: =Z18*6 -> 0 | AG18: =AF18+AE18 -> 0
A19: 46177 | F19: ಆರಂಭಿಕ ಶಿಲ್ಕು | G19: =G16-G17 -> 13.1 | H19: =H16-H17 -> -1.7 | I19: =I16-I17 -> -2.4 | J19: =J16-J17 -> 9 | K19: =K16-K17 -> 50 | L19: =L16-L17 -> 0 | M19: =M16-M17 -> 0 | N19: =N16-N17 -> 50 | ... V19: =V16-V17 -> 13.7 | X19: 198 | Y19: 0 | AA19: =Y19*5 -> 0 | AB19: =Y19*0.2 -> 0 | AC19: =Y19*0.3 -> 0 | AD19: =Y19*0.5 -> 0 | AE19: =AD19+AC19+AB19+AA19 -> 0 | AF19: =Z19*6 -> 0 | AG19: =AF19+AE19 -> 0
F20: ತಿಂಗಳ ಸರಬರಾಜು | G20: 0 | H20: 0 | I20: 0 | J20: =I20+H20+G20 -> 0 | K20: 0 | L20: 0 | M20: 0 | N20: 2 | O20: 0 | P20: 0 | Q20: 0 | R20: =Q20+P20+O20 -> 0 | S20: 0 | T20: 0 | U20: 0 | V20: =U20+T20+S20 -> 0 | X20: 199 | Y20: 0 | AA20: =Y20*5 -> 0 | AB20: =Y20*0.2 -> 0 | AC20: =Y20*0.3 -> 0 | AD20: =Y20*0.5 -> 0 | AE20: =AD20+AC20+AB20+AA20 -> 0 | AF20: =Z20*6 -> 0 | AG20: =AF20+AE20 -> 0
F21: ಒಟ್ಟು ಆರಂಭಿಕ ಶಿಲ್ಕು | G21: =G19+G20 -> 13.1 | H21: =H19+H20 -> -1.7 | I21: =I19+I20 -> -2.4 | J21: =I21+H21+G21 -> 9 | K21: =K19+K20 -> 50 | L21: =L19+L20 -> 0 | M21: =M19+M20 -> 0 | N21: =M21+L21+K21 -> 50 | O21: =O19+O20 -> 24.62 | P21: =P19+P20 -> -0.34 | Q21: =Q19+Q20 -> -0.48 | R21: =Q21+P21+O21 -> 23.8 | S21: =S19+S20 -> 13.905 | T21: =T19+T20 -> -0.085 | U21: =U19+U20 -> -0.12 | V21: =U21+T21+S21 -> 13.7 | X21: 200 | Y21: 0 | AA21: =Y21*5 -> 0 | AB21: =Y21*0.2 -> 0 | AC21: =Y21*0.3 -> 0 | AD21: =Y21*0.5 -> 0 | AE21: =AD21+AC21+AB21+AA21 -> 0 | AF21: =Z21*6 -> 0 | AG21: =AF21+AE21 -> 0
B22: 0 | C22: 0 | D22: 0 | E22: =D22+C22+B22 -> 0 | F22: ಬಳಕೆ | G22: =B22*0.1 -> 0 | H22: =C22*0.1 -> 0 | I22: =D22*0.15 -> 0 | J22: =I22+H22+G22 -> 0 | N22: =M22+L22+K22 -> 0 | O22: =B22*0.02 -> 0 | P22: =C22*0.02 -> 0 | Q22: =D22*0.03 -> 0 | R22: =Q22+P22+O22 -> 0 | S22: =B22*0.005 -> 0 | T22: =C22*0.005 -> 0 | U22: =D22*0.0075 -> 0 | V22: =U22+T22+S22 -> 0 | X22: 201 | Y22: 0 | AA22: =Y22*5 -> 0 | AB22: =Y22*0.2 -> 0 | AC22: =Y22*0.3 -> 0 | AD22: =Y22*0.5 -> 0 | AE22: =AD22+AC22+AB22+AA22 -> 0 | AF22: =Z22*6 -> 0 | AG22: =AF22+AE22 -> 0
F23: ಉಳಿಕೆ/ ಒಟ್ಟು | G23: =G21-G22 -> 13.1 | H23: =H21-H22 -> -1.7 | I23: =I21-I22 -> -2.4 | J23: =J21-J22 -> 9 | K23: =K21-K22 -> 50 | L23: =L21-L22 -> 0 | M23: =M21-M22 -> 0 | N23: =N21-N22 -> 50 | ... V23: =V21-V22 -> 13.7 | X23: 202 | Y23: 0 | AA23: =Y23*5 -> 0 | AB23: =Y23*0.2 -> 0 | AC23: =Y23*0.3 -> 0 | AD23: =Y23*0.5 -> 0 | AE23: =AD23+AC23+AB23+AA23 -> 0 | AF23: =Z23*6 -> 0 | AG23: =AF23+AE23 -> 0
A24: 46178 | F24: ಆರಂಭಿಕ ಶಿಲ್ಕು | G24: =G21-G22 -> 13.1 | H24: =H21-H22 -> -1.7 | I24: =I21-I22 -> -2.4 | J24: =J21-J22 -> 9 | K24: =K21-K22 -> 50 | L24: =L21-L22 -> 0 | M24: =M21-M22 -> 0 | N24: =N21-N22 -> 50 | ... V24: =V21-V22 -> 13.7 | X24: 203 | Y24: 0 | AA24: =Y24*5 -> 0 | AB24: =Y24*0.2 -> 0 | AC24: =Y24*0.3 -> 0 | AD24: =Y24*0.5 -> 0 | AE24: =AD24+AC24+AB24+AA24 -> 0 | AF24: =Z24*6 -> 0 | AG24: =AF24+AE24 -> 0
F25: ತಿಂಗಳ ಸರಬರಾಜು | G25: 0 | H25: 0 | I25: 0 | J25: =I25+H25+G25 -> 0 | K25: 0 | L25: 0 | M25: 0 | N25: 2 | O25: 0 | P25: 0 | Q25: 0 | R25: =Q25+P25+O25 -> 0 | S25: 0 | T25: 0 | U25: 0 | V25: =U25+T25+S25 -> 0 | X25: 204 | Y25: 0 | AA25: =Y25*5 -> 0 | AB25: =Y25*0.2 -> 0 | AC25: =Y25*0.3 -> 0 | AD25: =Y25*0.5 -> 0 | AE25: =AD25+AC25+AB25+AA25 -> 0 | AF25: =Z25*6 -> 0 | AG25: =AF25+AE25 -> 0
F26: ಒಟ್ಟು ಆರಂಭಿಕ ಶಿಲ್ಕು | G26: =G24+G25 -> 13.1 | H26: =H24+H25 -> -1.7 | I26: =I24+I25 -> -2.4 | J26: =I26+H26+G26 -> 9 | K26: =K24+K25 -> 50 | L26: =L24+L25 -> 0 | M26: =M24+M25 -> 0 | N26: =M26+L26+K26 -> 50 | O26: =O24+O25 -> 24.62 | P26: =P24+P25 -> -0.34 | Q26: =Q24+Q25 -> -0.48 | R26: =Q26+P26+O26 -> 23.8 | S26: =S24+S25 -> 13.905 | T26: =T24+T25 -> -0.085 | U26: =U24+U25 -> -0.12 | V26: =U26+T26+S26 -> 13.7 | X26: 205 | Y26: 0 | AA26: =Y26*5 -> 0 | AB26: =Y26*0.2 -> 0 | AC26: =Y26*0.3 -> 0 | AD26: =Y26*0.5 -> 0 | AE26: =AD26+AC26+AB26+AA26 -> 0 | AF26: =Z26*6 -> 0 | AG26: =AF26+AE26 -> 0
B27: 0 | C27: 0 | D27: 0 | E27: =D27+C27+B27 -> 0 | F27: ಬಳಕೆ | G27: =B27*0.1 -> 0 | H27: =C27*0.1 -> 0 | I27: =D27*0.15 -> 0 | J27: =I27+H27+G27 -> 0 | N27: =M27+L27+K27 -> 0 | O27: =B27*0.02 -> 0 | P27: =C27*0.02 -> 0 | Q27: =D27*0.03 -> 0 | R27: =Q27+P27+O27 -> 0 | S27: =B27*0.005 -> 0 | T27: =C27*0.005 -> 0 | U27: =D27*0.0075 -> 0 | V27: =U27+T27+S27 -> 0 | X27: 206 | Y27: 0 | AA27: =Y27*5 -> 0 | AB27: =Y27*0.2 -> 0 | AC27: =Y27*0.3 -> 0 | AD27: =Y27*0.5 -> 0 | AE27: =AD27+AC27+AB27+AA27 -> 0 | AF27: =Z27*6 -> 0 | AG27: =AF27+AE27 -> 0
F28: ಉಳಿಕೆ/ ಒಟ್ಟು | G28: =G26-G27 -> 13.1 | H28: =H26-H27 -> -1.7 | I28: =I26-I27 -> -2.4 | J28: =J26-J27 -> 9 | K28: =K26-K27 -> 50 | L28: =L26-L27 -> 0 | M28: =M26-M27 -> 0 | N28: =N26-N27 -> 50 | ... V28: =V26-V27 -> 13.7 | X28: 207 | Y28: 0 | AA28: =Y28*5 -> 0 | AB28: =Y28*0.2 -> 0 | AC28: =Y28*0.3 -> 0 | AD28: =Y28*0.5 -> 0 | AE28: =AD28+AC28+AB28+AA28 -> 0 | AF28: =Z28*6 -> 0 | AG28: =AF28+AE28 -> 0
A29: 46179 | F29: ಆರಂಭಿಕ ಶಿಲ್ಕು | G29: =G26-G27 -> 13.1 | H29: =H26-H27 -> -1.7 | I29: =I26-I27 -> -2.4 | J29: =J26-J27 -> 9 | K29: =K26-K27 -> 50 | L29: =L26-L27 -> 0 | M29: =M26-M27 -> 0 | N29: =N26-N27 -> 50 | ... V29: =V26-V27 -> 13.7 | X29: 208 | Y29: 0 | AA29: =Y29*5 -> 0 | AB29: =Y29*0.2 -> 0 | AC29: =Y29*0.3 -> 0 | AD29: =Y29*0.5 -> 0 | AE29: =AD29+AC29+AB29+AA29 -> 0 | AF29: =Z29*6 -> 0 | AG29: =AF29+AE29 -> 0
F30: ತಿಂಗಳ ಸರಬರಾಜು | G30: 0 | H30: 0 | I30: 0 | J30: =I30+H30+G30 -> 0 | K30: 0 | L30: 0 | M30: 0 | N30: 2 | O30: 0 | P30: 0 | Q30: 0 | R30: =Q30+P30+O30 -> 0 | S30: 0 | T30: 0 | U30: 0 | V30: =U30+T30+S30 -> 0 | X30: 209 | Y30: 0 | AA30: =Y30*5 -> 0 | AB30: =Y30*0.2 -> 0 | AC30: =Y30*0.3 -> 0 | AD30: =Y30*0.5 -> 0 | AE30: =AD30+AC30+AB30+AA30 -> 0 | AF30: =Z30*6 -> 0 | AG30: =AF30+AE30 -> 0
F31: ಒಟ್ಟು ಆರಂಭಿಕ ಶಿಲ್ಕು | G31: =G29+G30 -> 13.1 | H31: =H29+H30 -> -1.7 | I31: =I29+I30 -> -2.4 | J31: =I31+H31+G31 -> 9 | K31: =K29+K30 -> 50 | L31: =L29+L30 -> 0 | M31: =M29+M30 -> 0 | N31: =M31+L31+K31 -> 50 | O31: =O29+O30 -> 24.62 | P31: =P29+P30 -> -0.34 | Q31: =Q29+Q30 -> -0.48 | R31: =Q31+P31+O31 -> 23.8 | S31: =S29+S30 -> 13.905 | T31: =T29+T30 -> -0.085 | U31: =U29+U30 -> -0.12 | V31: =U31+T31+S31 -> 13.7 | X31: 210 | Y31: 0 | AA31: =Y31*5 -> 0 | AB31: =Y31*0.2 -> 0 | AC31: =Y31*0.3 -> 0 | AD31: =Y31*0.5 -> 0 | AE31: =AD31+AC31+AB31+AA31 -> 0 | AF31: =Z31*6 -> 0 | AG31: =AF31+AE31 -> 0
B32: 0 | C32: 0 | D32: 0 | E32: =D32+C32+B32 -> 0 | F32: ಬಳಕೆ | G32: =B32*0.1 -> 0 | H32: =C32*0.1 -> 0 | I32: =D32*0.15 -> 0 | J32: =I32+H32+G32 -> 0 | N32: =M32+L32+K32 -> 0 | O32: =B32*0.02 -> 0 | P32: =C32*0.02 -> 0 | Q32: =D32*0.03 -> 0 | R32: =Q32+P32+O32 -> 0 | S32: =B32*0.005 -> 0 | T32: =C32*0.005 -> 0 | U32: =D32*0.0075 -> 0 | V32: =U32+T32+S32 -> 0 | X32: 211 | Y32: 0 | AA32: =Y32*5 -> 0 | AB32: =Y32*0.2 -> 0 | AC32: =Y32*0.3 -> 0 | AD32: =Y32*0.5 -> 0 | AE32: =AD32+AC32+AB32+AA32 -> 0 | AF32: =Z32*6 -> 0 | AG32: =AF32+AE32 -> 0
F33: ಉಳಿಕೆ/ ಒಟ್ಟು | G33: =G31-G32 -> 13.1 | H33: =H31-H32 -> -1.7 | I33: =I31-I32 -> -2.4 | J33: =J31-J32 -> 9 | K33: =K31-K32 -> 50 | L33: =L31-L32 -> 0 | M33: =M31-M32 -> 0 | N33: =N31-N32 -> 50 | ... V33: =V31-V32 -> 13.7 | X33: 212 | Y33: 0 | AA33: =Y33*5 -> 0 | AB33: =Y33*0.2 -> 0 | AC33: =Y33*0.3 -> 0 | AD33: =Y33*0.5 -> 0 | AE33: =AD33+AC33+AB33+AA33 -> 0 | AF33: =Z33*6 -> 0 | AG33: =AF33+AE33 -> 0
A34: 46180 | F34: ಆರಂಭಿಕ ಶಿಲ್ಕು | G34: =G31-G32 -> 13.1 | H34: =H31-H32 -> -1.7 | I34: =I31-I32 -> -2.4 | J34: =J31-J32 -> 9 | K34: =K31-K32 -> 50 | L34: =L31-L32 -> 0 | M34: =M31-M32 -> 0 | N34: =N31-N32 -> 50 | ... V34: =V31-V32 -> 13.7 | X34: 213 | Y34: 0 | Z34: 0 | AA34: =Y34*5 -> 0 | AB34: =Y34*0.2 -> 0 | AC34: =Y34*0.3 -> 0 | AD34: =Y34*0.5 -> 0 | AE34: =AD34+AC34+AB34+AA34 -> 0 | AF34: =Z34*6 -> 0 | AG34: =AF34+AE34 -> 0
F35: ತಿಂಗಳ ಸರಬರಾಜು | G35: 0 | H35: 0 | I35: 0 | J35: =I35+H35+G35 -> 0 | K35: 0 | L35: 0 | M35: 0 | N35: 2 | O35: 0 | P35: 0 | Q35: 0 | R35: =Q35+P35+O35 -> 0 | S35: 0 | T35: 0 | U35: 0 | V35: =U35+T35+S35 -> 0 | X35: TOTAL | Y35: =SUM(Y4:Y34) -> 0 | Z35: =SUM(Z4:Z34) -> 0 | AA35: =Y35*5 -> 0 | AB35: =Y35*0.2 -> 0 | AC35: =Y35*0.3 -> 0 | AD35: =Y35*0.5 -> 0 | AE35: =AD35+AC35+AB35+AA35 -> 0 | AF35: =Z35*6 -> 0 | AG35: =AF35+AE35 -> 0
F36: ಒಟ್ಟು ಆರಂಭಿಕ ಶಿಲ್ಕು | G36: =G34+G35 -> 13.1 | H36: =H34+H35 -> -1.7 | I36: =I34+I35 -> -2.4 | J36: =I36+H36+G36 -> 9 | K36: =K34+K35 -> 50 | L36: =L34+L35 -> 0 | M36: =M34+M35 -> 0 | N36: =M36+L36+K36 -> 50 | O36: =O34+O35 -> 24.62 | P36: =P34+P35 -> -0.34 | Q36: =Q34+Q35 -> -0.48 | R36: =Q36+P36+O36 -> 23.8 | S36: =S34+S35 -> 13.905 | T36: =T34+T35 -> -0.085 | U36: =U34+U35 -> -0.12 | V36: =U36+T36+S36 -> 13.7 | X36: TOTAL | Y36: EXCLUDING GAS | AE36: =AE35-AD35 -> 0 | AF36: =AF35 -> 0 | AG36: =AE36+AF35 -> 0
B37: 0 | C37: 0 | D37: 0 | E37: =D37+C37+B37 -> 0 | F37: ಬಳಕೆ | G37: =B37*0.1 -> 0 | H37: =C37*0.1 -> 0 | I37: =D37*0.15 -> 0 | J37: =I37+H37+G37 -> 0 | N37: =M37+L37+K37 -> 0 | O37: =B37*0.02 -> 0 | P37: =C37*0.02 -> 0 | Q37: =D37*0.03 -> 0 | R37: =Q37+P37+O37 -> 0 | S37: =B37*0.005 -> 0 | T37: =C37*0.005 -> 0 | U37: =D37*0.0075 -> 0 | V37: =U37+T37+S37 -> 0 | X37: ¸ÀgÀPÁgÀzÀ ªÀw¬ÄAzÀ ¤ÃqÀÄªÀ 2 ¢£ÀzÀ (ªÉÆmÉÖ/¨Á¼ÉºÀtÄÚ/ ±ÉÃAUÁ aQÌ MlÄÖ RZÀÄð ªÀiÁvÀæ) | AC37: 250
F38: ಉಳಿಕೆ/ ಒಟ್ಟು | G38: =G36-G37 -> 13.1 | H38: =H36-H37 -> -1.7 | I38: =I36-I37 -> -2.4 | J38: =J36-J37 -> 9 | K38: =K36-K37 -> 50 | L38: =L36-L37 -> 0 | M38: =M36-M37 -> 0 | N38: =N36-N37 -> 50 | ... V38: =V36-V37 -> 13.7 | X38: CfÃA ¥ÉæÃªÀiïf ¥ËAqÉÃ±À£ï ªÀw¬ÄAzÀ (ªÉÆmÉÖ/¨Á¼ÉºÀtÄÚ/ ±ÉÃAUÁ aQÌ MlÄÖ RZÀÄð ªÀiÁvÀæ) | AC38: 125 | AD38: =AC37+AC38 -> 375
A39: 46181 | F39: ಆರಂಭಿಕ ಶಿಲ್ಕು | G39: =G36-G37 -> 13.1 | H39: =H36-H37 -> -1.7 | I39: =I36-I37 -> -2.4 | J39: =J36-J37 -> 9 | K39: =K36-K37 -> 50 | L39: =L36-L37 -> 0 | M39: =M36-M37 -> 0 | N39: =N36-N37 -> 50 | ... V39: =V36-V37 -> 13.7
F40: ತಿಂಗಳ ಸರಬರಾಜು | G40: 0 | H40: 0 | I40: 0 | J40: =I40+H40+G40 -> 0 | K40: 0 | L40: 0 | M40: 0 | N40: 2 | O40: 0 | P40: 0 | Q40: 0 | R40: =Q40+P40+O40 -> 0 | S40: 0 | T40: 0 | U40: 0 | V40: =U40+T40+S40 -> 0 | X40: ಕ್ಷೀರಭಾಗ್ಯ ವಿತರಣೆ ವಿವರ
F41: ಒಟ್ಟು ಆರಂಭಿಕ ಶಿಲ್ಕು | G41: =G39+G40 -> 13.1 | H41: =H39+H40 -> -1.7 | I41: =I39+I40 -> -2.4 | J41: =I41+H41+G41 -> 9 | K41: =K39+K40 -> 50 | L41: =L39+L40 -> 0 | M41: =M39+M40 -> 0 | N41: =M41+L41+K41 -> 50 | O41: =O39+O40 -> 24.62 | P41: =P39+P40 -> -0.34 | Q41: =Q39+Q40 -> -0.48 | R41: =Q41+P41+O41 -> 23.8 | S41: =S39+S40 -> 13.905 | T41: =T39+T40 -> -0.085 | U41: =U39+U40 -> -0.12 | V41: =U41+T41+S41 -> 13.7 | X41: ದಿನಾಂಕ | Y41: ಸ್ವೀಕರಿಸಿದ ಮಕ್ಕಳ ಸಂಖ್ಯೆ | Z41: ಹಾಲಿನ ಪ್ರಮಾಣ ಕಿ.ಗ್ರಾಂ. | AA41: ಸಕ್ಕರೆಯ ವೆಚ್ಚ ರೂ. | AB41: ಇತರೆ ವೆಚ್ಚ | AC41: ಗ್ಯಾಸ್ ವೆಚ್ಚ
B42: 0 | C42: 0 | D42: 0 | E42: =D42+C42+B42 -> 0 | F42: ಬಳಕೆ | G42: =B42*0.1 -> 0 | H42: =C42*0.1 -> 0 | I42: =D42*0.15 -> 0 | J42: =I42+H42+G42 -> 0 | N42: =M42+L42+K42 -> 0 | O42: =B42*0.02 -> 0 | P42: =C42*0.02 -> 0 | Q42: =D42*0.03 -> 0 | R42: =Q42+P42+O42 -> 0 | S42: =B42*0.005 -> 0 | T42: =C42*0.005 -> 0 | U42: =D42*0.0075 -> 0 | V42: =U42+T42+S42 -> 0
F43: ಉಳಿಕೆ/ ಒಟ್ಟು | G43: =G41-G42 -> 13.1 | H43: =H41-H42 -> -1.7 | I43: =I41-I42 -> -2.4 | J43: =J41-J42 -> 9 | K43: =K41-K42 -> 50 | L43: =L41-L42 -> 0 | M43: =M41-M42 -> 0 | N43: =N41-N42 -> 50 | ... V43: =V41-V42 -> 13.7 | X43: 46204 | Y43: 0 | Z43: =Y43*0.018 -> 0 | AA43: =Y43*0.32 -> 0 | AB43: =Y43*0.12 -> 0 | AC43: =Y43*0.15 -> 0
A44: 46182 | F44: ಆರಂಭಿಕ ಶಿಲ್ಕು | G44: =G41-G42 -> 13.1 | H44: =H41-H42 -> -1.7 | I44: =I41-I42 -> -2.4 | J44: =J41-J42 -> 9 | K44: =K41-K42 -> 50 | L44: =L41-L42 -> 0 | M44: =M41-M42 -> 0 | N44: =N41-N42 -> 50 | ... V44: =V41-V42 -> 13.7 | X44: 46205 | Y44: 0 | Z44: =Y44*0.018 -> 0 | AA44: =Y44*0.32 -> 0 | AB44: =Y44*0.12 -> 0 | AC44: =Y44*0.15 -> 0
F45: ತಿಂಗಳ ಸರಬರಾಜು | G45: 0 | H45: 0 | I45: 0 | J45: =I45+H45+G45 -> 0 | K45: 0 | L45: 0 | M45: 0 | N45: 2 | O45: 0 | P45: 0 | Q45: 0 | R45: =Q45+P45+O45 -> 0 | S45: 0 | T45: 0 | U45: 0 | V45: =U45+T45+S45 -> 0 | X45: 46206 | Z45: =Y45*0.018 -> 0 | AA45: =Y45*0.32 -> 0 | AB45: =Y45*0.12 -> 0 | AC45: =Y45*0.15 -> 0
F46: ಒಟ್ಟು ಆರಂಭಿಕ ಶಿಲ್ಕು | G46: =G44+G45 -> 13.1 | H46: =H44+H45 -> -1.7 | I46: =I44+I45 -> -2.4 | J46: =I46+H46+G46 -> 9 | K46: =K44+K45 -> 50 | L46: =L44+L45 -> 0 | M46: =M44+M45 -> 0 | N46: =M46+L46+K46 -> 50 | O46: =O44+O45 -> 24.62 | P46: =P44+P45 -> -0.34 | Q46: =Q44+Q45 -> -0.48 | R46: =Q46+P46+O46 -> 23.8 | S46: =S44+S45 -> 13.905 | T46: =T44+T45 -> -0.085 | U46: =U44+U45 -> -0.12 | V46: =U46+T46+S46 -> 13.7 | X46: 46207 | Z46: =Y46*0.018 -> 0 | AA46: =Y46*0.32 -> 0 | AB46: =Y46*0.12 -> 0 | AC46: =Y46*0.15 -> 0
B47: 0 | C47: 0 | D47: 0 | E47: =D47+C47+B47 -> 0 | F47: ಬಳಕೆ | G47: =B47*0.1 -> 0 | H47: =C47*0.1 -> 0 | I47: =D47*0.15 -> 0 | J47: =I47+H47+G47 -> 0 | N47: =M47+L47+K47 -> 0 | O47: =B47*0.02 -> 0 | P47: =C47*0.02 -> 0 | Q47: =D47*0.03 -> 0 | R47: =Q47+P47+O47 -> 0 | S47: =B47*0.005 -> 0 | T47: =C47*0.005 -> 0 | U47: =D47*0.0075 -> 0 | V47: =U47+T47+S47 -> 0 | X47: 46208 | Z47: =Y47*0.018 -> 0 | AA47: =Y47*0.32 -> 0 | AB47: =Y47*0.12 -> 0 | AC47: =Y47*0.15 -> 0 | AE47: Sukumar Kadinakonda
F48: ಉಳಿಕೆ/ ಒಟ್ಟು | G48: =G46-G47 -> 13.1 | H48: =H46-H47 -> -1.7 | I48: =I46-I47 -> -2.4 | J48: =J46-J47 -> 9 | K48: =K46-K47 -> 50 | L48: =L46-L47 -> 0 | M48: =M46-M47 -> 0 | N48: =N46-N47 -> 50 | ... V48: =V46-V47 -> 13.7 | X48: 46209 | Z48: =Y48*0.018 -> 0 | AA48: =Y48*0.32 -> 0 | AB48: =Y48*0.12 -> 0 | AC48: =Y48*0.15 -> 0
A49: 46183 | F49: ಆರಂಭಿಕ ಶಿಲ್ಕು | G49: =G46-G47 -> 13.1 | H49: =H46-H47 -> -1.7 | I49: =I46-I47 -> -2.4 | J49: =J46-J47 -> 9 | K49: =K46-K47 -> 50 | L49: =L46-L47 -> 0 | M49: =M46-M47 -> 0 | N49: =N46-N47 -> 50 | ... V49: =V46-V47 -> 13.7 | X49: 46210 | Z49: =Y49*0.018 -> 0 | AA49: =Y49*0.32 -> 0 | AB49: =Y49*0.12 -> 0 | AC49: =Y49*0.15 -> 0
F50: ತಿಂಗಳ ಸರಬರಾಜು | G50: 0 | H50: 0 | I50: 0 | J50: =I50+H50+G50 -> 0 | K50: 0 | L50: 0 | M50: 0 | N50: 2 | O50: 0 | P50: 0 | Q50: 0 | R50: =Q50+P50+O50 -> 0 | S50: 0 | T50: 0 | U50: 0 | V50: =U50+T50+S50 -> 0 | X50: 46211 | Z50: =Y50*0.018 -> 0 | AA50: =Y50*0.32 -> 0 | AB50: =Y50*0.12 -> 0 | AC50: =Y50*0.15 -> 0
F51: ಒಟ್ಟು ಆರಂಭಿಕ ಶಿಲ್ಕು | G51: =G49+G50 -> 13.1 | H51: =H49+H50 -> -1.7 | I51: =I49+I50 -> -2.4 | J51: =I51+H51+G51 -> 9 | K51: =K49+K50 -> 50 | L51: =L49+L50 -> 0 | M51: =M49+M50 -> 0 | N51: =M51+L51+K51 -> 50 | O51: =O49+O50 -> 24.62 | P51: =P49+P50 -> -0.34 | Q51: =Q49+Q50 -> -0.48 | R51: =Q51+P51+O51 -> 23.8 | S51: =S49+S50 -> 13.905 | T51: =T49+T50 -> -0.085 | U51: =U49+U50 -> -0.12 | V51: =U51+T51+S51 -> 13.7 | X51: 46212 | Z51: =Y51*0.018 -> 0 | AA51: =Y51*0.32 -> 0 | AB51: =Y51*0.12 -> 0 | AC51: =Y51*0.15 -> 0
B52: 0 | C52: 0 | D52: 0 | E52: =D52+C52+B52 -> 0 | F52: ಬಳಕೆ | G52: =B52*0.1 -> 0 | H52: =C52*0.1 -> 0 | I52: =D52*0.15 -> 0 | J52: =I52+H52+G52 -> 0 | N52: =M52+L52+K52 -> 0 | O52: =B52*0.02 -> 0 | P52: =C52*0.02 -> 0 | Q52: =D52*0.03 -> 0 | R52: =Q52+P52+O52 -> 0 | S52: =B52*0.005 -> 0 | T52: =C52*0.005 -> 0 | U52: =D52*0.0075 -> 0 | V52: =U52+T52+S52 -> 0 | X52: 46213 | Z52: =Y52*0.018 -> 0 | AA52: =Y52*0.32 -> 0 | AB52: =Y52*0.12 -> 0 | AC52: =Y52*0.15 -> 0
F53: ಉಳಿಕೆ/ ಒಟ್ಟು | G53: =G51-G52 -> 13.1 | H53: =H51-H52 -> -1.7 | I53: =I51-I52 -> -2.4 | J53: =J51-J52 -> 9 | K53: =K51-K52 -> 50 | L53: =L51-L52 -> 0 | M53: =M51-M52 -> 0 | N53: =N51-N52 -> 50 | ... V53: =V51-V52 -> 13.7 | X53: 46214 | Z53: =Y53*0.018 -> 0 | AA53: =Y53*0.32 -> 0 | AB53: =Y53*0.12 -> 0 | AC53: =Y53*0.15 -> 0
A54: 46184 | F54: ಆರಂಭಿಕ ಶಿಲ್ಕು | G54: =G51-G52 -> 13.1 | H54: =H51-H52 -> -1.7 | I54: =I51-I52 -> -2.4 | J54: =J51-J52 -> 9 | K54: =K51-K52 -> 50 | L54: =L51-L52 -> 0 | M54: =M51-M52 -> 0 | N54: =N51-N52 -> 50 | ... V54: =V51-V52 -> 13.7 | X54: 46215 | Z54: =Y54*0.018 -> 0 | AA54: =Y54*0.32 -> 0 | AB54: =Y54*0.12 -> 0 | AC54: =Y54*0.15 -> 0
F55: ತಿಂಗಳ ಸರಬರಾಜು | G55: 0 | H55: 0 | I55: 0 | J55: =I55+H55+G55 -> 0 | K55: 0 | L55: 0 | M55: 0 | N55: 2 | O55: 0 | P55: 0 | Q55: 0 | R55: =Q55+P55+O55 -> 0 | S55: 0 | T55: 0 | U55: 0 | V55: =U55+T55+S55 -> 0 | X55: 46216 | Z55: =Y55*0.018 -> 0 | AA55: =Y55*0.32 -> 0 | AB55: =Y55*0.12 -> 0 | AC55: =Y55*0.15 -> 0
F56: ಒಟ್ಟು ಆರಂಭಿಕ ಶಿಲ್ಕು | G56: =G54+G55 -> 13.1 | H56: =H54+H55 -> -1.7 | I56: =I54+I55 -> -2.4 | J56: =I56+H56+G56 -> 9 | K56: =K54+K55 -> 50 | L56: =L54+L55 -> 0 | M56: =M54+M55 -> 0 | N56: =M56+L56+K56 -> 50 | O56: =O54+O55 -> 24.62 | P56: =P54+P55 -> -0.34 | Q56: =Q54+Q55 -> -0.48 | R56: =Q56+P56+O56 -> 23.8 | S56: =S54+S55 -> 13.905 | T56: =T54+T55 -> -0.085 | U56: =U54+U55 -> -0.12 | V56: =U56+T56+S56 -> 13.7 | X56: 46217 | Z56: =Y56*0.018 -> 0 | AA56: =Y56*0.32 -> 0 | AB56: =Y56*0.12 -> 0 | AC56: =Y56*0.15 -> 0
B57: 0 | C57: 0 | D57: 0 | E57: =D57+C57+B57 -> 0 | F57: ಬಳಕೆ | G57: =B57*0.1 -> 0 | H57: =C57*0.1 -> 0 | I57: =D57*0.15 -> 0 | J57: =I57+H57+G57 -> 0 | N57: =M57+L57+K57 -> 0 | O57: =B57*0.02 -> 0 | P57: =C57*0.02 -> 0 | Q57: =D57*0.03 -> 0 | R57: =Q57+P57+O57 -> 0 | S57: =B57*0.005 -> 0 | T57: =C57*0.005 -> 0 | U57: =D57*0.0075 -> 0 | V57: =U57+T57+S57 -> 0 | X57: 46218 | Z57: =Y57*0.018 -> 0 | AA57: =Y57*0.32 -> 0 | AB57: =Y57*0.12 -> 0 | AC57: =Y57*0.15 -> 0
F58: ಉಳಿಕೆ/ ಒಟ್ಟು | G58: =G56-G57 -> 13.1 | H58: =H56-H57 -> -1.7 | I58: =I56-I57 -> -2.4 | J58: =J56-J57 -> 9 | K58: =K56-K57 -> 50 | L58: =L56-L57 -> 0 | M58: =M56-M57 -> 0 | N58: =N56-N57 -> 50 | ... V58: =V56-V57 -> 13.7 | X58: 46219 | Z58: =Y58*0.018 -> 0 | AA58: =Y58*0.32 -> 0 | AB58: =Y58*0.12 -> 0 | AC58: =Y58*0.15 -> 0
A59: 46185 | F59: ಆರಂಭಿಕ ಶಿಲ್ಕು | G59: =G56-G57 -> 13.1 | H59: =H56-H57 -> -1.7 | I59: =I56-I57 -> -2.4 | J59: =J56-J57 -> 9 | K59: =K56-K57 -> 50 | L59: =L56-L57 -> 0 | M59: =M56-M57 -> 0 | N59: =N56-N57 -> 50 | ... V59: =V56-V57 -> 13.7 | X59: 46220 | Z59: =Y59*0.018 -> 0 | AA59: =Y59*0.32 -> 0 | AB59: =Y59*0.12 -> 0 | AC59: =Y59*0.15 -> 0
F60: ತಿಂಗಳ ಸರಬರಾಜು | G60: 0 | H60: 0 | I60: 0 | J60: =I60+H60+G60 -> 0 | K60: 0 | L60: 0 | M60: 0 | N60: 2 | O60: 0 | P60: 0 | Q60: 0 | R60: =Q60+P60+O60 -> 0 | S60: 0 | T60: 0 | U60: 0 | V60: =U60+T60+S60 -> 0 | X60: 46221 | Z60: =Y60*0.018 -> 0 | AA60: =Y60*0.32 -> 0 | AB60: =Y60*0.12 -> 0 | AC60: =Y60*0.15 -> 0
F61: ಒಟ್ಟು ಆರಂಭಿಕ ಶಿಲ್ಕು | G61: =G59+G60 -> 13.1 | H61: =H59+H60 -> -1.7 | I61: =I59+I60 -> -2.4 | J61: =I61+H61+G61 -> 9 | K61: =K59+K60 -> 50 | L61: =L59+L60 -> 0 | M61: =M59+M60 -> 0 | N61: =M61+L61+K61 -> 50 | O61: =O59+O60 -> 24.62 | P61: =P59+P60 -> -0.34 | Q61: =Q59+Q60 -> -0.48 | R61: =Q61+P61+O61 -> 23.8 | S61: =S59+S60 -> 13.905 | T61: =T59+T60 -> -0.085 | U61: =U59+U60 -> -0.12 | V61: =U61+T61+S61 -> 13.7 | X61: 46222 | Z61: =Y61*0.018 -> 0 | AA61: =Y61*0.32 -> 0 | AB61: =Y61*0.12 -> 0 | AC61: =Y61*0.15 -> 0
B62: 0 | C62: 0 | D62: 0 | E62: =D62+C62+B62 -> 0 | F62: ಬಳಕೆ | G62: =B62*0.1 -> 0 | H62: =C62*0.1 -> 0 | I62: =D62*0.15 -> 0 | J62: =I62+H62+G62 -> 0 | N62: =M62+L62+K62 -> 0 | O62: =B62*0.02 -> 0 | P62: =C62*0.02 -> 0 | Q62: =D62*0.03 -> 0 | R62: =Q62+P62+O62 -> 0 | S62: =B62*0.005 -> 0 | T62: =C62*0.005 -> 0 | U62: =D62*0.0075 -> 0 | V62: =U62+T62+S62 -> 0 | X62: 46223 | Z62: =Y62*0.018 -> 0 | AA62: =Y62*0.32 -> 0 | AB62: =Y62*0.12 -> 0 | AC62: =Y62*0.15 -> 0
F63: ಉಳಿಕೆ/ ಒಟ್ಟು | G63: =G61-G62 -> 13.1 | H63: =H61-H62 -> -1.7 | I63: =I61-I62 -> -2.4 | J63: =J61-J62 -> 9 | K63: =K61-K62 -> 50 | L63: =L61-L62 -> 0 | M63: =M61-M62 -> 0 | N63: =N61-N62 -> 50 | ... V63: =V61-V62 -> 13.7 | X63: 46224 | Z63: =Y63*0.018 -> 0 | AA63: =Y63*0.32 -> 0 | AB63: =Y63*0.12 -> 0 | AC63: =Y63*0.15 -> 0
A64: 46186 | F64: ಆರಂಭಿಕ ಶಿಲ್ಕು | G64: =G61-G62 -> 13.1 | H64: =H61-H62 -> -1.7 | I64: =I61-I62 -> -2.4 | J64: =J61-J62 -> 9 | K64: =K61-K62 -> 50 | L64: =L61-L62 -> 0 | M64: =M61-M62 -> 0 | N64: =N61-N62 -> 50 | ... V64: =V61-V62 -> 13.7 | X64: 46225 | Z64: =Y64*0.018 -> 0 | AA64: =Y64*0.32 -> 0 | AB64: =Y64*0.12 -> 0 | AC64: =Y64*0.15 -> 0
F65: ತಿಂಗಳ ಸರಬರಾಜು | G65: 0 | H65: 0 | I65: 0 | J65: =I65+H65+G65 -> 0 | K65: 0 | L65: 0 | M65: 0 | N65: 2 | O65: 0 | P65: 0 | Q65: 0 | R65: =Q65+P65+O65 -> 0 | S65: 0 | T65: 0 | U65: 0 | V65: =U65+T65+S65 -> 0 | X65: 46226 | Z65: =Y65*0.018 -> 0 | AA65: =Y65*0.32 -> 0 | AB65: =Y65*0.12 -> 0 | AC65: =Y65*0.15 -> 0
F66: ಒಟ್ಟು ಆರಂಭಿಕ ಶಿಲ್ಕು | G66: =G64+G65 -> 13.1 | H66: =H64+H65 -> -1.7 | I66: =I64+I65 -> -2.4 | J66: =I66+H66+G66 -> 9 | K66: =K64+K65 -> 50 | L66: =L64+L65 -> 0 | M66: =M64+M65 -> 0 | N66: =M66+L66+K66 -> 50 | O66: =O64+O65 -> 24.62 | P66: =P64+P65 -> -0.34 | Q66: =Q64+Q65 -> -0.48 | R66: =Q66+P66+O66 -> 23.8 | S66: =S64+S65 -> 13.905 | T66: =T64+T65 -> -0.085 | U66: =U64+U65 -> -0.12 | V66: =U66+T66+S66 -> 13.7 | X66: 46227 | Z66: =Y66*0.018 -> 0 | AA66: =Y66*0.32 -> 0 | AB66: =Y66*0.12 -> 0 | AC66: =Y66*0.15 -> 0
B67: 0 | C67: 0 | D67: 0 | E67: =D67+C67+B67 -> 0 | F67: ಬಳಕೆ | G67: =B67*0.1 -> 0 | H67: =C67*0.1 -> 0 | I67: =D67*0.15 -> 0 | J67: =I67+H67+G67 -> 0 | N67: =M67+L67+K67 -> 0 | O67: =B67*0.02 -> 0 | P67: =C67*0.02 -> 0 | Q67: =D67*0.03 -> 0 | R67: =Q67+P67+O67 -> 0 | S67: =B67*0.005 -> 0 | T67: =C67*0.005 -> 0 | U67: =D67*0.0075 -> 0 | V67: =U67+T67+S67 -> 0 | X67: 46228 | Z67: =Y67*0.018 -> 0 | AA67: =Y67*0.32 -> 0 | AB67: =Y67*0.12 -> 0 | AC67: =Y67*0.15 -> 0
F68: ಉಳಿಕೆ/ ಒಟ್ಟು | G68: =G66-G67 -> 13.1 | H68: =H66-H67 -> -1.7 | I68: =I66-I67 -> -2.4 | J68: =J66-J67 -> 9 | K68: =K66-K67 -> 50 | L68: =L66-L67 -> 0 | M68: =M66-M67 -> 0 | N68: =N66-N67 -> 50 | ... V68: =V66-V67 -> 13.7 | X68: 46229 | Z68: =Y68*0.018 -> 0 | AA68: =Y68*0.32 -> 0 | AB68: =Y68*0.12 -> 0 | AC68: =Y68*0.15 -> 0
A69: 46187 | F69: ಆರಂಭಿಕ ಶಿಲ್ಕು | G69: =G66-G67 -> 13.1 | H69: =H66-H67 -> -1.7 | I69: =I66-I67 -> -2.4 | J69: =J66-J67 -> 9 | K69: =K66-K67 -> 50 | L69: =L66-L67 -> 0 | M69: =M66-M67 -> 0 | N69: =N66-N67 -> 50 | ... V69: =V66-V67 -> 13.7 | X69: 46230 | Y69: 0 | Z69: =Y69*0.018 -> 0 | AA69: =Y69*0.32 -> 0 | AB69: =Y69*0.12 -> 0 | AC69: =Y69*0.15 -> 0
F70: ತಿಂಗಳ ಸರಬರಾಜು | G70: 0 | H70: 0 | I70: 0 | J70: =I70+H70+G70 -> 0 | K70: 0 | L70: 0 | M70: 0 | N70: 2 | O70: 0 | P70: 0 | Q70: 0 | R70: =Q70+P70+O70 -> 0 | S70: 0 | T70: 0 | U70: 0 | V70: =U70+T70+S70 -> 0 | X70: 46231 | Y70: 0 | Z70: =Y70*0.018 -> 0 | AA70: =Y70*0.32 -> 0 | AB70: =Y70*0.12 -> 0 | AC70: =Y70*0.15 -> 0
F71: ಒಟ್ಟು ಆರಂಭಿಕ ಶಿಲ್ಕು | G71: =G69+G70 -> 13.1 | H71: =H69+H70 -> -1.7 | I71: =I69+I70 -> -2.4 | J71: =I71+H71+G71 -> 9 | K71: =K69+K70 -> 50 | L71: =L69+L70 -> 0 | M71: =M69+M70 -> 0 | N71: =M71+L71+K71 -> 50 | O71: =O69+O70 -> 24.62 | P71: =P69+P70 -> -0.34 | Q71: =Q69+Q70 -> -0.48 | R71: =Q71+P71+O71 -> 23.8 | S71: =S69+S70 -> 13.905 | T71: =T69+T70 -> -0.085 | U71: =U69+U70 -> -0.12 | V71: =U71+T71+S71 -> 13.7 | X71: 46232 | Y71: 0 | Z71: =Y71*0.018 -> 0 | AA71: =Y71*0.32 -> 0 | AB71: =Y71*0.12 -> 0 | AC71: =Y71*0.15 -> 0
B72: 0 | C72: 0 | D72: 0 | E72: =D72+C72+B72 -> 0 | F72: ಬಳಕೆ | G72: =B72*0.1 -> 0 | H72: =C72*0.1 -> 0 | I72: =D72*0.15 -> 0 | J72: =I72+H72+G72 -> 0 | N72: =M72+L72+K72 -> 0 | O72: =B72*0.02 -> 0 | P72: =C72*0.02 -> 0 | Q72: =D72*0.03 -> 0 | R72: =Q72+P72+O72 -> 0 | S72: =B72*0.005 -> 0 | T72: =C72*0.005 -> 0 | U72: =D72*0.0075 -> 0 | V72: =U72+T72+S72 -> 0 | X72: 46233 | Y72: 0 | Z72: =Y72*0.018 -> 0 | AA72: =Y72*0.32 -> 0 | AB72: =Y72*0.12 -> 0 | AC72: =Y72*0.15 -> 0
F73: ಉಳಿಕೆ/ ಒಟ್ಟು | G73: =G71-G72 -> 13.1 | H73: =H71-H72 -> -1.7 | I73: =I71-I72 -> -2.4 | J73: =J71-J72 -> 9 | K73: =K71-K72 -> 50 | L73: =L71-L72 -> 0 | M73: =M71-M72 -> 0 | N73: =N71-N72 -> 50 | ... V73: =V71-V72 -> 13.7 | X73: 46234 | Y73: 0 | Z73: =Y73*0.018 -> 0 | AA73: =Y73*0.32 -> 0 | AB73: =Y73*0.12 -> 0 | AC73: =Y73*0.15 -> 0 | AD73: ಒಟ್ಟು
A74: 46188 | F74: ಆರಂಭಿಕ ಶಿಲ್ಕು | G74: =G71-G72 -> 13.1 | H74: =H71-H72 -> -1.7 | I74: =I71-I72 -> -2.4 | J74: =J71-J72 -> 9 | K74: =K71-K72 -> 50 | L74: =L71-L72 -> 0 | M74: =M71-M72 -> 0 | N74: =N71-N72 -> 50 | ... V74: =V71-V72 -> 13.7 | X74: TOTAL | Y74: =SUM(Y43:Y73) -> 0 | Z74: =SUM(Z43:Z73) -> 0 | AA74: =SUM(AA43:AA73) -> 0 | AB74: =SUM(AB43:AB73) -> 0 | AC74: =SUM(AC43:AC73) -> 0 | AD74: =AC74+AB74+AA74 -> 0 | AE74: ಸಕ್ಕರೆ, ಇತರೆ, ಗ್ಯಾಸ್
F75: ತಿಂಗಳ ಸರಬರಾಜು | G75: 0 | H75: 0 | I75: 0 | J75: =I75+H75+G75 -> 0 | K75: 0 | L75: 0 | M75: 0 | N75: 2 | O75: 0 | P75: 0 | Q75: 0 | R75: =Q75+P75+O75 -> 0 | S75: 0 | T75: 0 | U75: 0 | V75: =U75+T75+S75 -> 0 | AD75: =AD74-AC74 -> 0 | AE75: ಗ್ಯಾಸ್ ಹೊರತುಪಡಿಸಿ
F76: ಒಟ್ಟು ಆರಂಭಿಕ ಶಿಲ್ಕು | G76: =G74+G75 -> 13.1 | H76: =H74+H75 -> -1.7 | I76: =I74+I75 -> -2.4 | J76: =I76+H76+G76 -> 9 | K76: =K74+K75 -> 50 | L76: =L74+L75 -> 0 | M76: =M74+M75 -> 0 | N76: =M76+L76+K76 -> 50 | O76: =O74+O75 -> 24.62 | P76: =P74+P75 -> -0.34 | Q76: =Q74+Q75 -> -0.48 | R76: =Q76+P76+O76 -> 23.8 | S76: =S74+S75 -> 13.905 | T76: =T74+T75 -> -0.085 | U76: =U74+U75 -> -0.12 | V76: =U76+T76+S76 -> 13.7
B77: 0 | C77: 0 | D77: 0 | E77: =D77+C77+B77 -> 0 | F77: ಬಳಕೆ | G77: =B77*0.1 -> 0 | H77: =C77*0.1 -> 0 | I77: =D77*0.15 -> 0 | J77: =I77+H77+G77 -> 0 | N77: =M77+L77+K77 -> 0 | O77: =B77*0.02 -> 0 | P77: =C77*0.02 -> 0 | Q77: =D77*0.03 -> 0 | R77: =Q77+P77+O77 -> 0 | S77: =B77*0.005 -> 0 | T77: =C77*0.005 -> 0 | U77: =D77*0.0075 -> 0 | V77: =U77+T77+S77 -> 0
F78: ಉಳಿಕೆ/ ಒಟ್ಟು | G78: =G76-G77 -> 13.1 | H78: =H76-H77 -> -1.7 | I78: =I76-I77 -> -2.4 | J78: =J76-J77 -> 9 | K78: =K76-K77 -> 50 | L78: =L76-L77 -> 0 | M78: =M76-M77 -> 0 | N78: =N76-N77 -> 50 | ... V78: =V76-V77 -> 13.7
A79: 46189 | F79: ಆರಂಭಿಕ ಶಿಲ್ಕು | G79: =G76-G77 -> 13.1 | H79: =H76-H77 -> -1.7 | I79: =I76-I77 -> -2.4 | J79: =J76-J77 -> 9 | K79: =K76-K77 -> 50 | L79: =L76-L77 -> 0 | M79: =M76-M77 -> 0 | N79: =N76-N77 -> 50 | ... V79: =V76-V77 -> 13.7
F80: ತಿಂಗಳ ಸರಬರಾಜು | G80: 0 | H80: 0 | I80: 0 | J80: =I80+H80+G80 -> 0 | K80: 0 | L80: 0 | M80: 0 | N80: 2 | O80: 0 | P80: 0 | Q80: 0 | R80: =Q80+P80+O80 -> 0 | S80: 0 | T80: 0 | U80: 0 | V80: =U80+T80+S80 -> 0
F81: ಒಟ್ಟು ಆರಂಭಿಕ ಶಿಲ್ಕು | G81: =G79+G80 -> 13.1 | H81: =H79+H80 -> -1.7 | I81: =I79+I80 -> -2.4 | J81: =I81+H81+G81 -> 9 | K81: =K79+K80 -> 50 | L81: =L79+L80 -> 0 | M81: =M79+M80 -> 0 | N81: =M81+L81+K81 -> 50 | O81: =O79+O80 -> 24.62 | P81: =P79+P80 -> -0.34 | Q81: =Q79+Q80 -> -0.48 | R81: =Q81+P81+O81 -> 23.8 | S81: =S79+S80 -> 13.905 | T81: =T79+T80 -> -0.085 | U81: =U79+U80 -> -0.12 | V81: =U81+T81+S81 -> 13.7
B82: 0 | C82: 0 | D82: 0 | E82: =D82+C82+B82 -> 0 | F82: ಬಳಕೆ | G82: =B82*0.1 -> 0 | H82: =C82*0.1 -> 0 | I82: =D82*0.15 -> 0 | J82: =I82+H82+G82 -> 0 | N82: =M82+L82+K82 -> 0 | O82: =B82*0.02 -> 0 | P82: =C82*0.02 -> 0 | Q82: =D82*0.03 -> 0 | R82: =Q82+P82+O82 -> 0 | S82: =B82*0.005 -> 0 | T82: =C82*0.005 -> 0 | U82: =D82*0.0075 -> 0 | V82: =U82+T82+S82 -> 0
F83: ಉಳಿಕೆ/ ಒಟ್ಟು | G83: =G81-G82 -> 13.1 | H83: =H81-H82 -> -1.7 | I83: =I81-I82 -> -2.4 | J83: =J81-J82 -> 9 | K83: =K81-K82 -> 50 | L83: =L81-L82 -> 0 | M83: =M81-M82 -> 0 | N83: =N81-N82 -> 50 | ... V83: =V81-V82 -> 13.7
A84: 46190 | F84: ಆರಂಭಿಕ ಶಿಲ್ಕು | G84: =G81-G82 -> 13.1 | H84: =H81-H82 -> -1.7 | I84: =I81-I82 -> -2.4 | J84: =J81-J82 -> 9 | K84: =K81-K82 -> 50 | L84: =L81-L82 -> 0 | M84: =M81-M82 -> 0 | N84: =N81-N82 -> 50 | ... V84: =V81-V82 -> 13.7
F85: ತಿಂಗಳ ಸರಬರಾಜು | G85: 0 | H85: 0 | I85: 0 | J85: =I85+H85+G85 -> 0 | K85: 0 | L85: 0 | M85: 0 | N85: 2 | O85: 0 | P85: 0 | Q85: 0 | R85: =Q85+P85+O85 -> 0 | S85: 0 | T85: 0 | U85: 0 | V85: =U85+T85+S85 -> 0
F86: ಒಟ್ಟು ಆರಂಭಿಕ ಶಿಲ್ಕು | G86: =G84+G85 -> 13.1 | H86: =H84+H85 -> -1.7 | I86: =I84+I85 -> -2.4 | J86: =I86+H86+G86 -> 9 | K86: =K84+K85 -> 50 | L86: =L84+L85 -> 0 | M86: =M84+M85 -> 0 | N86: =M86+L86+K86 -> 50 | O86: =O84+O85 -> 24.62 | P86: =P84+P85 -> -0.34 | Q86: =Q84+Q85 -> -0.48 | R86: =Q86+P86+O86 -> 23.8 | S86: =S84+S85 -> 13.905 | T86: =T84+T85 -> -0.085 | U86: =U84+U85 -> -0.12 | V86: =U86+T86+S86 -> 13.7
B87: 0 | C87: 0 | D87: 0 | E87: =D87+C87+B87 -> 0 | F87: ಬಳಕೆ | G87: =B87*0.1 -> 0 | H87: =C87*0.1 -> 0 | I87: =D87*0.15 -> 0 | J87: =I87+H87+G87 -> 0 | N87: =M87+L87+K87 -> 0 | O87: =B87*0.02 -> 0 | P87: =C87*0.02 -> 0 | Q87: =D87*0.03 -> 0 | R87: =Q87+P87+O87 -> 0 | S87: =B87*0.005 -> 0 | T87: =C87*0.005 -> 0 | U87: =D87*0.0075 -> 0 | V87: =U87+T87+S87 -> 0
F88: ಉಳಿಕೆ/ ಒಟ್ಟು | G88: =G86-G87 -> 13.1 | H88: =H86-H87 -> -1.7 | I88: =I86-I87 -> -2.4 | J88: =J86-J87 -> 9 | K88: =K86-K87 -> 50 | L88: =L86-L87 -> 0 | M88: =M86-M87 -> 0 | N88: =N86-N87 -> 50 | ... V88: =V86-V87 -> 13.7
A89: 46191 | F89: ಆರಂಭಿಕ ಶಿಲ್ಕು | G89: =G86-G87 -> 13.1 | H89: =H86-H87 -> -1.7 | I89: =I86-I87 -> -2.4 | J89: =J86-J87 -> 9 | K89: =K86-K87 -> 50 | L89: =L86-L87 -> 0 | M89: =M86-M87 -> 0 | N89: =N86-N87 -> 50 | ... V89: =V86-V87 -> 13.7
F90: ತಿಂಗಳ ಸರಬರಾಜು | G90: 0 | H90: 0 | I90: 0 | J90: =I90+H90+G90 -> 0 | K90: 0 | L90: 0 | M90: 0 | N90: 2 | O90: 0 | P90: 0 | Q90: 0 | R90: =Q90+P90+O90 -> 0 | S90: 0 | T90: 0 | U90: 0 | V90: =U90+T90+S90 -> 0
F91: ಒಟ್ಟು ಆರಂಭಿಕ ಶಿಲ್ಕು | G91: =G89+G90 -> 13.1 | H91: =H89+H90 -> -1.7 | I91: =I89+I90 -> -2.4 | J91: =I91+H91+G91 -> 9 | K91: =K89+K90 -> 50 | L91: =L89+L90 -> 0 | M91: =M89+M90 -> 0 | N91: =M91+L91+K91 -> 50 | O91: =O89+O90 -> 24.62 | P91: =P89+P90 -> -0.34 | Q91: =Q89+Q90 -> -0.48 | R91: =Q91+P91+O91 -> 23.8 | S91: =S89+S90 -> 13.905 | T91: =T89+T90 -> -0.085 | U91: =U89+U90 -> -0.12 | V91: =U91+T91+S91 -> 13.7
B92: 0 | C92: 0 | D92: 0 | E92: =D92+C92+B92 -> 0 | F92: ಬಳಕೆ | G92: =B92*0.1 -> 0 | H92: =C92*0.1 -> 0 | I92: =D92*0.15 -> 0 | J92: =I92+H92+G92 -> 0 | N92: =M92+L92+K92 -> 0 | O92: =B92*0.02 -> 0 | P92: =C92*0.02 -> 0 | Q92: =D92*0.03 -> 0 | R92: =Q92+P92+O92 -> 0 | S92: =B92*0.005 -> 0 | T92: =C92*0.005 -> 0 | U92: =D92*0.0075 -> 0 | V92: =U92+T92+S92 -> 0
F93: ಉಳಿಕೆ/ ಒಟ್ಟು | G93: =G91-G92 -> 13.1 | H93: =H91-H92 -> -1.7 | I93: =I91-I92 -> -2.4 | J93: =J91-J92 -> 9 | K93: =K91-K92 -> 50 | L93: =L91-L92 -> 0 | M93: =M91-M92 -> 0 | N93: =N91-N92 -> 50 | ... V93: =V91-V92 -> 13.7
A94: 46192 | F94: ಆರಂಭಿಕ ಶಿಲ್ಕು | G94: =G91-G92 -> 13.1 | H94: =H91-H92 -> -1.7 | I94: =I91-I92 -> -2.4 | J94: =J91-J92 -> 9 | K94: =K91-K92 -> 50 | L94: =L91-L92 -> 0 | M94: =M91-M92 -> 0 | N94: =N91-N92 -> 50 | ... V94: =V91-V92 -> 13.7
F95: ತಿಂಗಳ ಸರಬರಾಜು | G95: 0 | H95: 0 | I95: 0 | J95: =I95+H95+G95 -> 0 | K95: 0 | L95: 0 | M95: 0 | N95: 2 | O95: 0 | P95: 0 | Q95: 0 | R95: =Q95+P95+O95 -> 0 | S95: 0 | T95: 0 | U95: 0 | V95: =U95+T95+S95 -> 0
F96: ಒಟ್ಟು ಆರಂಭಿಕ ಶಿಲ್ಕು | G96: =G94+G95 -> 13.1 | H96: =H94+H95 -> -1.7 | I96: =I94+I95 -> -2.4 | J96: =I96+H96+G96 -> 9 | K96: =K94+K95 -> 50 | L96: =L94+L95 -> 0 | M96: =M94+M95 -> 0 | N96: =M96+L96+K96 -> 50 | O96: =O94+O95 -> 24.62 | P96: =P94+P95 -> -0.34 | Q96: =Q94+Q95 -> -0.48 | R96: =Q96+P96+O96 -> 23.8 | S96: =S94+S95 -> 13.905 | T96: =T94+T95 -> -0.085 | U96: =U94+U95 -> -0.12 | V96: =U96+T96+S96 -> 13.7
B97: 0 | C97: 0 | D97: 0 | E97: =D97+C97+B97 -> 0 | F97: ಬಳಕೆ | G97: =B97*0.1 -> 0 | H97: =C97*0.1 -> 0 | I97: =D97*0.15 -> 0 | J97: =I97+H97+G97 -> 0 | N97: =M97+L97+K97 -> 0 | O97: =B97*0.02 -> 0 | P97: =C97*0.02 -> 0 | Q97: =D97*0.03 -> 0 | R97: =Q97+P97+O97 -> 0 | S97: =B97*0.005 -> 0 | T97: =C97*0.005 -> 0 | U97: =D97*0.0075 -> 0 | V97: =U97+T97+S97 -> 0
F98: ಉಳಿಕೆ/ ಒಟ್ಟು | G98: =G96-G97 -> 13.1 | H98: =H96-H97 -> -1.7 | I98: =I96-I97 -> -2.4 | J98: =J96-J97 -> 9 | K98: =K96-K97 -> 50 | L98: =L96-L97 -> 0 | M98: =M96-M97 -> 0 | N98: =N96-N97 -> 50 | ... V98: =V96-V97 -> 13.7
A99: 46193 | F99: ಆರಂಭಿಕ ಶಿಲ್ಕು | G99: =G96-G97 -> 13.1 | H99: =H96-H97 -> -1.7 | I99: =I96-I97 -> -2.4 | J99: =J96-J97 -> 9 | K99: =K96-K97 -> 50 | L99: =L96-L97 -> 0 | M99: =M96-M97 -> 0 | N99: =N96-N97 -> 50 | ... V99: =V96-V97 -> 13.7
F100: ತಿಂಗಳ ಸರಬರಾಜು | G100: 0 | H100: 0 | I100: 0 | J100: =I100+H100+G100 -> 0 | K100: 0 | L100: 0 | M100: 0 | N100: 2 | O100: 0 | P100: 0 | Q100: 0 | R100: =Q100+P100+O100 -> 0 | S100: 0 | T100: 0 | U100: 0 | V100: =U100+T100+S100 -> 0
...

Sheet MAY-M
A1: Mid Day Meal Scheme sukumarkadinakonda@gmail.com
A2: School Monthly Data Capture Format (MDCF)
A3: Instructions: Keep following registers at the time of filling the form:-
A4: 1) Enrolment Register. 2) Account 3) Bank Account Pass book. 4) Cooking cost details etc.
A5: School Details | E5: 2026-27
A6: School Name :
A7: School Dise Code: | G7: Block (ªÀ®AiÀÄzÀ ºÉ¸ÀgÀÄ) : | K7: Village/Ward :
A8: Cluster Name: | G8: School HM Name & Mobile No:
B9: Enrollment | F9: No. of Children having Aadhaar Card. | I9: No. of children applied for Aadhaar | L9: Children without Aadhaar Card (Yet to aaply for Aadhaar)
C11: 1 HPS / HS | F11: 2 HPS / HS | I11: 3 HPS / HS
B12: Bal Vatika (LKG UKG) | C12: (1-5) | D12: (6-8) | E12: Total | F12: LKG UKG, (1-5) | G12: (6-8) | H12: Total | I12: LKG UKG, (1-5) | J12: (6-8) | K12: Total | L12: LKG UKG (1-5) | M12: (6-8) | N12: Total
B13: 0 | C13: 0 | D13: 0 | E13: =B13+C13+D13 -> 0 | F13: 0 | G13: 0 | H13: =F13+G13 -> 0 | I13: 0 | J13: 0 | K13: =I13+J13 -> 0 | L13: =C13-F13-I13 -> 0 | M13: =D13-G13-J13 -> 0 | N13: =L13+M13 -> 0
A14: ±Á¯Á C.zÁ. ¨ÁåAQ£À ºÉ¸ÀgÀÄ / ¨ÁæAZï ºÉ¸ÀgÀÄ ªÀÄvÀÄÛ «¼Á¸À : B
A15: Bank A/c No : | I15: IFSC CODE:
A17: UÁå¸ï KeÉ¤ìAiÀÄ ºÉ¸ÀgÀÄ ªÀÄvÀÄÛ «¼Á¸À : | J17: Gas Company Name : | M17: IOC / HP
A18: UÁå¸ï KeÉ¤ì¬ÄAzÀ ±Á¯ÉUÉ EgÀÄªÀ zÀÆgÀ (Q¯ÉÆÃ «ÄÃlgïUÀ¼À°è) : | J18: ±Á¯ÉAiÀÄ°ègÀÄªÀ MlÄÖ ¹°AqÀgïUÀ¼À ¸ÀASÉå :
A20: Total Enrollment ( zÁR¯Áw ªÀÄPÀÌ¼À ¸ÀASÉå) | H20: Total Enrollment (©¹AiÀÄÆl ªÀiÁqÀÄªÀ ¥sÀ¯Á£ÀÄ¨sÀ«UÀ¼À ªÀÄPÀÌ¼À ¸ÀASÉå)
A21: Enrollment | B21: Bal Vatika (LKG UKG) | C21: (1-5) | D21: (6-7) | E21: 8 | F21: (9-10) | G21: Total | H21: Bal Vatika (LKG UKG) | I21: (1-5) | J21: (6-7) | K21: 8 | L21: (9-10) | M21: Total
A22: Boys | B22: 0 | C22: 0 | D22: 0 | E22: 0 | F22: 0 | G22: =B22+C22+D22+E22+F22 -> 0 | H22: 0 | I22: 0 | J22: 0 | K22: 0 | L22: 0 | M22: =L22+K22+J22+I22+H22 -> 0
A23: Girls | B23: 0 | E23: 0 | F23: 0 | G23: =B23+C23+D23+E23+F23 -> 0 | H23: 0 | I23: 0 | J23: 0 | K23: 0 | L23: 0 | M23: =L23+K23+J23+I23+H23 -> 0
A24: Total | B24: =B23+B22 -> 0 | C24: =C23+C22 -> 0 | D24: =D23+D22 -> 0 | E24: =E23+E22 -> 0 | F24: =F23+F22 -> 0 | G24: =G23+G22 -> 0 | H24: =H23+H22 -> 0 | I24: =SUM(I22:I23) -> 0 | J24: =SUM(J22:J23) -> 0 | K24: =SUM(K22:K23) -> 0 | L24: =L23+L22 -> 0 | M24: =L24+K24+J24+I24+H24 -> 0
H25: TOTAL 6-8 | J25: =J24+K24 -> 0
A26: Meals Availed Status | D26: (¥sÀ¯Á£ÀÄ¨sÀ« «zÁåyðUÀ¼À HlUÀ¼À ¸ÀASÉå) | J26: QëÃgÀ¨sÁUÀå ¥sÀ¯Á£ÀÄ¨sÀ«UÀ¼À ¸ÀASÉå
D27: Bal Vatika (LKG UKG) | E27: Primary (1-5) | F27: U.P (6-8) | G27: H.S (9-10) | H27: Total | J27: vÀgÀUÀw | K27: ºÁ®Ä PÀÄrzÀ ªÀÄPÀÌ¼À ¸ÀASÉå | M27: ¤ÃrzÀ ¢£ÀUÀ¼À ¸ÀASÉå
J28: LKG UKG | K28: 4 | M28: 6
A29: 1) No of School Days During Month (wAUÀ¼À MlÄÖ PÉ®¸ÀzÀ ¢£À) | D29: 4 | E29: 3 | F29: 5 | G29: 2 | H29: =G29+F29+E29+D29 -> 14 | J29: (1-5) | K29: 3
A30: 2) Actual No of Days M.D.M. Served (Hl ¤ÃrzÀ ¢£ÀUÀ¼À¸ÀASÉå) | D30: 5 | E30: 7 | F30: 0 | G30: 0 | H30: =G30+F30+E30+D30 -> 12 | J30: (6-8) | K30: 5 | M30: 0
A31: 3) Total Meals Served During the Month (ºÁdgÁw HlUÀ¼À ¸ÀASÉå) | D31: =H24 -> 0 | E31: =I24 -> 0 | F31: =J25 -> 0 | G31: =L24 -> 0 | H31: =G31+F31+E31+D31 -> 0 | J31: (9-10) | K31: 6 | M31: 0
J32: TOTAL | K32: =K28+K29+K30+K31 -> 18 | M32: =M28+M29+M30+M31 -> 6
A33: Cook-cum-helper details (CqÀÄUÉ ¹§âA¢AiÀÄªÀgÀ «ªÀgÀ)
A34: Cook-cum-helper Name (CqÀÄUÉ ¹§âA¢AiÀÄªÀgÀ ºÉ¸ÀgÀÄ) | C34: ªÀÄÄRå CqÀÄUÉ/ ¸À.CqÀÄUÉAiÀÄªÀgÉÃ | D34: eÁw (SC/ST/ OBC/ Gen/ minority) | F34: Age/ Date of Birth | G34: Joining year | H34: «zÁåºÀðvÉ | I34: NO of working days. | J34: NO of Attendence | K34: C.¹§âA¢AiÀÄªÀgÀÄ ¥ÀæzsÁ£À ªÀÄAwæ ¸ÀÄgÀPÁë ©üÃªÀiÁ AiÉÆÃd£É (PMSBY Scheme) £ÉÆAzÀtÂ ªÀiÁqÀ¯ÁVzÉAiÉÄÃ? (ºËzÀÄ/E®è) | M34: ¥ÀæzsÁ£À ªÀÄAwæ fÃªÀ£ï eÉÆåÃw ©üÃªÀiÁ AiÉÆÃd£É (PMJJBY Scheme) £ÉÆAzÀtÂ ªÀiÁqÀ¯ÁVzÉAiÉÄÃ? (ºËzÀÄ/E®è)
A35: 1 | C35: ಮುಖ್ಯ ಅಡುಗೆ
A36: 2 | C36: ಸಹಾಯಕ
A37: 3
A38: 4
A39: 5
A40: No of cook cum Helpers trained during the month :
A42: Cooking Cost Details (in Rs.) (vÀgÀPÁj/UÁå¸ï ªÀÄvÀÄÛ QëÃgÀ¨sÁUÀå, ªÉÆmÉÖ/¨Á¼ÉºÀtÄÚ/±ÉÃAUÁ aQÌ ºÁUÀÆ JuÉÚ, G¥ÀÄà ªÀÄvÀÄÛ EvÀgÉ RjÃ¢ ¸Á¢¯ÁégÀÄ Rað£À «ªÀgÀ)
A43: ¸Á¢¯ÁégÀÄ «ªÀgÀ | E43: DgÀA©üPÀ ±ÀÄ®ÄÌ | G43: ©qÀÄUÀqÉAiÀiÁzÀ C£ÀÄzÁ£À | I43: (MlÄÖ ªÉÆvÀÛ) | K43: (wAUÀ½£À MlÄÖ RZÀÄð) | M43: CAwªÀÄ G½PÉ
E44: 1 | G44: 2 | I44: 3 = (1+2) | K44: 4 | M44: 5 = (3-4)
A45: LKG UKG | E45: 0 | G45: 0 | I45: =E45+G45 -> 0 | K45: ='MAY-D'!P164 -> 44.65 | M45: =I45-K45 -> -44.65
A46: vÀgÀPÁj 1-5 / | E46: 7399.72 | G46: 0 | I46: =E46+G46 -> 7399.72 | K46: ='MAY-D'!P165 -> 39.95 | M46: =I46-K46 -> 7359.77
A47: vÀgÀPÁj 6-8 / | E47: 3239.32 | G47: 0 | I47: =E47+G47 -> 3239.32 | K47: ='MAY-D'!P166 -> 55.52 | M47: =I47-K47 -> 3183.8
A48: UÁå¸ï | E48: 27560.81 | G48: 0 | I48: =E48+G48 -> 27560.81 | K48: 0 | M48: =I48-K48 -> 27560.81
A49: QëÃgÀ¨sÁUÀå (¸ÀPÀÌgÉ, UÁå¸ï, EvÀgÉ) | E49: 14824 | G49: 0 | I49: =E49+G49 -> 14824 | K49: ='MAY-D'!AD74 -> 0 | M49: =I49-K49 -> 14824
A50: (¨ÉÃ¼É, JuÉÚ, G¥ÀÄà RjÃ¢ RZÀÄð ªÀiÁvÀæ) | E50: 0 | G50: 0 | I50: =E50+G50 -> 0 | K50: ='MAY-D'!F172 -> 0.008 | M50: =I50-K50 -> -0.008
A51: ¸ÀgÀPÁgÀzÀ ªÀw¬ÄAzÀ ¤ÃqÀÄªÀ 2 ¢£ÀzÀ (ªÉÆmÉÖ/¨Á¼ÉºÀtÄÚ/ ±ÉÃAUÁ aQÌ MlÄÖ RZÀÄð ªÀiÁvÀæ) | E51: 17234.5 | G51: 0 | I51: =E51+G51 -> 17234.5 | K51: ='MAY-D'!AC37 -> 250 | M51: =I51-K51 -> 16984.5
A52: CfÃA ¥ÉæÃªÀiïf ¥ËAqÉÃ±À£ï ªÀw¬ÄAzÀ (ªÉÆmÉÖ/¨Á¼ÉºÀtÄÚ/ ±ÉÃAUÁ aQÌ MlÄÖ RZÀÄð ªÀiÁvÀæ) | E52: 0 | G52: 0 | I52: =E52+G52 -> 0 | K52: ='MAY-D'!AC38 -> 125 | M52: =I52-K52 -> -125
A53: UÁå¸ï ¸À©ìr | E53: 721 | G53: 0 | I53: =E53+G53 -> 721 | K53: 0 | M53: =I53-K53 -> 721
A54: vegitable hike amount | E54: 4574 | I54: =E54+G54 -> 4574 | K54: 0 | M54: =I54-K54 -> 4574
A55: from Taccode closed aided school | E55: 57116.38 | I55: =E55+G55 -> 57116.38 | K55: 0 | M55: =I55-K55 -> 57116.38
A56: r.©.n. ªÉÆvÀÛ | E56: 0 | G56: 0 | I56: =E56+G56 -> 0 | K56: 0 | M56: =I56-K56 -> 0
A57: EvÀgÉ/¸ÀvÁå¥À£É | E57: 2650 | G57: 0 | I57: =E57+G57 -> 2650 | K57: 0 | M57: =I57-K57 -> 2650
A58: UÉÆÃtÂaÃ® | E58: 1215 | G58: 0 | I58: =E58+G58 -> 1215 | K58: 0 | M58: =I58-K58 -> 1215
A59: §rØ/ others | E59: 11576.3 | G59: 0 | I59: =E59+G59 -> 11576.3 | K59: 0 | M59: =I59-K59 -> 11576.3
A60: MlÄÖ | E60: =SUM(E45:F59) -> 148111.03 | G60: =SUM(G45:H59) -> 0 | I60: =E60+G60 -> 148111.03 | K60: =SUM(K45:K59) -> 515.128 | M60: =I60-K60 -> 147595.9
A62: wAUÀ¼À°è §¼ÀPÉAiÀiÁzÀ UÁå¸ï j¦ü¯ï ¹°AqÀgïUÀ¼À ¸ÀASÉå: | I62: 1 UÁå¸ï ¹°AqÀgï£À wAUÀ¼À zÀgÀ gÀÆ :
A63: (QëÃgÀ¨ÁUÀå UÁå¸ï RZÀÄð 15 ¥ÉÊ¸ÉAiÀÄAvÉ, ªÉÆmÉÖ ¨ÉÃ¬Ä¹zÀ UÁå¸ï RZÀÄð 50 ¥ÉÊ¸ÉAiÀÄAvÉ, ªÀÄvÀÄÛ vÀgÀPÁj/UÁå¸ï RZÀÄð MlÄÖ ¸ÉÃj wAUÀ¼À°è §¼ÀPÉAiÀiÁzÀ ¹°AqÀgï ªÉÆvÀÛPÉÌ vÁ¼ÉAiÀiÁUÀ¨ÉÃPÀÄ )
A65: ¸ÀgÀPÁgÀzÀ ªÀw¬ÄAzÀ ……… ¢£ÀzÀ ªÉÆmÉÖ/¨Á¼ÉºÀtÄÚ/aQÌ ¤ÃrzÀ «ªÀgÀ | I65: CfÃA ¥ÉæÃªÀiï ¥ËAqÉÃ±À£ï ªÀw¬ÄAzÀ ……… ¢£ÀzÀ ªÉÆmÉÖ/¨Á¼ÉºÀtÄÚ/aQÌ ¤ÃrzÀ «ªÀgÀ
A66: vÀgÀUÀw | B66: ªÀÄPÀÌ¼À ¸ÀASÉå | C66: ¸ÀgÀPÁgÀzÀ ªÀw¬ÄAzÀ ¤ÃrzÀ ¢£ÀUÀ¼À ¸ÀASÉå | D66: ªÉÆmÉÖ ¸ÉÃ«¹zÀ ªÀÄPÀÌ¼À ¸ÀASÉå | E66: ¨Á¼ÉºÀtÄÚ ¸ÉÃ«¹zÀ ªÀÄPÀÌ¼À ¸ÀASÉå | F66: ±ÉÃAUÁ aQÌ ¸ÉÃ«¹zÀ ªÀÄPÀÌ¼À ¸ÀASÉå | G66: MlÄÖ ªÀÄPÀÌ¼À ¸ÀASÉå | I66: vÀgÀUÀw | J66: CfÃA ªÀw¬ÄAzÀ ¤ÃrzÀ ¢£ÀUÀ¼À ¸ÀASÉå | K66: ªÉÆmÉÖ ¸ÉÃ«¹zÀ ªÀÄPÀÌ¼À ¸ÀASÉå | L66: ¨Á¼ÉºÀtÄÚ ¸ÉÃ«¹zÀ ªÀÄPÀÌ¼À ¸ÀASÉå | M66: ±ÉÃAUÁ aQÌ ¸ÉÃ«¹zÀ ªÀÄPÀÌ¼À ¸ÀASÉå | N66: MlÄÖ ªÀÄPÀÌ¼À ¸ÀASÉå
D67: 1 | E67: 2 | F67: 3 | G67: 4 = (1+2+3) | K67: 1 | L67: 2 | M67: 3 | N67: 4 = (1+2+3)
A68: LKG UKG | D68: 0 | E68: 0 | G68: =D68+E68+F68 -> 0 | I68: LKG UKG | N68: =K68+L68+M68 -> 0
A69: (1-5) | D69: 0 | G69: =D69+E69+F69 -> 0 | I69: (1-5) | N69: =K69+L69+M69 -> 0
A70: (6-8) | B70: 0 | C70: 0 | D70: 0 | E70: 0 | G70: =D70+E70+F70 -> 0 | I70: (6-8) | J70: 0 | K70: 0 | L70: 0 | M70: 0 | N70: =K70+L70+M70 -> 0
A71: (9-10) | B71: 0 | C71: 0 | D71: 0 | E71: 0 | G71: =D71+E71+F71 -> 0 | I71: (9-10) | J71: 0 | K71: 0 | L71: 0 | M71: 0 | N71: =K71+L71+M71 -> 0
A72: Total | B72: =SUM(B68:B71) -> 0 | D72: =D68+D69+D70+D71 -> 0 | E72: =E68+E69+E70+E71 -> 0 | F72: =F68+F69+F70+F71 -> 0 | G72: =D72+E72+F72 -> 0 | I72: Total | J72: =J71+J70+J69+J68 -> 0 | K72: =K71+K70+K69+K68 -> 0 | L72: =L71+L70+L69+L68 -> 0 | M72: =M71+M70+M69+M68 -> 0 | N72: =K72+L72+M72 -> 0
A74: Food Grain (DºÁgÀ ¸ÁªÀÄVæ «ªÀgÀ) PÉ.f.UÀ¼À°è | C74: LKG, UKG, Primary (1-5) OR 8th Std | H74: U.P. (6-8) OR HS (9-10) | M74: 1 to 10 | N74: 1 to 10
C75: Rice (CQÌ) | D75: Wheat (UÉÆÃ¢ü) | E75: Daal (¨ÉÃ¼É) | F75: Oil (JuÉÚ) | G75: Salt (G¥ÀÄà) | H75: Rice (CQÌ) | I75: Wheat (UÉÆÃ¢ü) | J75: Daal (¨ÉÃ¼É) | K75: Oil (JuÉÚ) | L75: Salt (G¥ÀÄà) | M75: Milk Powder (ºÁ°£À ºÀÄr) | N75: SAI SURE RAGI MIX (¸Á¬Ä ±ÀÆågï gÁV «ÄPïì )
A76: Opening Balance (¥ÁægÀA©üPÀ G½PÉ) 1 | C76: 0 | D76: 0 | E76: 5 | F76: 0 | G76: 0 | H76: 0 | I76: 0 | J76: 0 | K76: 0 | L76: 0 | M76: 0 | N76: 0
A77: Received During the Month (¸ÀgÀ§gÁdÄ) 2 | C77: 0 | D77: 0 | E77: 5 | F77: 0 | G77: 0 | H77: 0 | I77: 0 | J77: 0 | K77: 0 | L77: 0 | M77: 0 | N77: 0
A78: Consumption During the Month (§¼ÀPÉ) 3 | C78: 0 | D78: 0 | E78: 2 | F78: 0 | G78: 0 | H78: 0 | I78: 0 | J78: 0 | K78: 0 | L78: 0 | M78: 0 | N78: 0
A79: ClosingBalance (CAwªÀÄG½PÉ) 4=1+2-3 | C79: =(C76+C77)-C78 -> 0 | D79: =(D76+D77)-D78 -> 0 | E79: =(E76+E77)-E78 -> 8 | F79: =(F76+F77)-F78 -> 0 | G79: =(G76+G77)-G78 -> 0 | H79: =(H76+H77)-H78 -> 0 | I79: =(I76+I77)-I78 -> 0 | J79: =(J76+J77)-J78 -> 0 | ... N79: =(N76+N77)-N78 -> 0
A80: Demand for Next month Foodgrains (G½PÉ PÀ¼ÉzÀÄ ªÀÄÄA¢£À wAUÀ½UÉ ¨ÉÃrPÉ «ªÀgÀ) | C80: 0 | D80: 0 | E80: 0 | F80: 0 | G80: 0 | H80: 0 | I80: 0 | J80: 0 | K80: 0 | L80: 0 | M80: 0 | N80: 0
A82: ¸ÀgÀ§gÁeÁzÀ DºÁgÀ¸ÁªÀÄVæAiÀÄ£ÀÄß ¸ÀjAiÀiÁV ¥Àj²Ã°¹, vÀÆPÀ ªÀiÁr zÁ¸ÁÛ¤UÉ vÉUÉzÀÄPÉÆ¼ÀÄîªÀÅzÀÄ.
A83: Children Health Status
A84: No. of children from class 1 to 8 who had received 4 IFA tablets BOys (IFA ಮಾತ್ರೆಗಳನ್ನು ಪಡೆದ 1 to 8 ಮಕ್ಕಳ ಸಂಖ್ಯೆ (ಹುಡುಗರು) | F84: 0 | H84: No. of children screened by mobile health (RBSK) team (ಆರೋಗ್ಯ (RBSK) ತಂಡದಿಂದ ಪರೀಕ್ಷಿಸಲ್ಪಟ್ಟ ಮಕ್ಕಳ ಸಂಖ್ಯೆ) | N84: 0
A86: No. of children from class 1 to 8 who had received 4 IFA tablets (Girls) ( IFA ಮಾತ್ರೆಗಳನ್ನು ಪಡೆದ 1 to 8 ಮಕ್ಕಳ ಸಂಖ್ಯೆ (ಹುಡುಗಿಯರು) | F86: 0 | H86: No. of children referred by mobile health (RBSK) team (DgÉÆUÀå (RBSK) vÀAqÀ¢AzÀ vÀ¥Á¸ÀuÉ ªÉÃ¼É ¥ÀjÃQë¹ aQvÉìUÉ ²¥sÁgÀ¸ÀÄì ªÀiÁrzÀ ªÀÄPÀÌ¼À ¸ÀASÉå) | N86: 0
A88: ºÉZÀÄÑªÀj ¥Ë¶×PÁA±À ªÀiÁvÉæUÀ¼À «ªÀgÀ | K88: HIGHT & WEIGHT REPORT
A89: ªÀiÁvÉæUÀ¼ÀÄ | C89: »A¢£À G½PÉ | D89: F wAUÀ¼À ¸ÀgÀ§gÁdÄ | E89: MlÄÖ | F89: §¼ÀPÉ («zÁåyðUÀ½UÉ ¤ÃrzÀÄÝ) | G89: G½PÉ | H89: ªÀÄÄA¢£À ¤ªÀé¼À ¨ÉÃrPÉ | I89: ¸ÀÆZÀ£É | K89: zÉÊ»PÀ vÀ¥Á¸ÀuÉUÉ (JvÀÛgÀ ªÀÄvÀÄÛ vÀÆPÀzÀ ªÀiÁ¥À£Á) M¼À¥ÀlÖ PÉÆæÃrüPÀj¹zÀ «ªÀgÀ
A90: 1. «l«Ä£ï J (¦APï) | C90: 5 | D90: 10 | E90: =C90+D90 -> 15 | F90: 4 | G90: =E90-F90 -> 11 | I90: ªÀµÀðPÉÌ 2 ªÀiÁvÉæ | K90: vÀgÀUÀw | L90: UÀAqÀÄ | M90: ºÉtÄÚ | N90: MlÄÖ
A91: 2. «l«Ä£ï J (§Æè) | E91: =C91+D91 -> 0 | G91: =E91-F91 -> 0 | K91: LKG UKG | L91: 0 | M91: 0 | N91: =SUM(L91:M91) -> 0
A92: 3. WIFS (Pink 1-5) | E92: =C92+D92 -> 0 | G92: =E92-F92 -> 0 | I92: ªÁgÀPÉÌ 1 ªÀiÁvÉæ | K92: (1-5) | L92: 0 | M92: 0 | N92: =SUM(L92:M92) -> 0
A93: 4. WIFS (Blue 6-10) | C93: 0 | D93: 0 | E93: =C93+D93 -> 0 | F93: 0 | G93: =E93-F93 -> 0 | H93: 0 | K93: (6-8) | L93: 0 | M93: 0 | N93: 0
A94: 5. D¯ï¨ÉAqïeÉÆÃ¯ï | E94: =C94+D94 -> 0 | G94: =E94-F94 -> 0 | I94: ªÀµÀðPÉÌ 2 ªÀiÁvÉæ | K94: (9-10) | L94: 0 | M94: 0 | N94: 0
K95: Total | L95: =SUM(L91:L94) -> 0 | M95: 0 | N95: =SUM(N91:N94) -> 0
A96: ±Á¯Á vÀ¥Á¸ÀuÉ
A97: ¸À¢æ wAUÀ½£À°è vÀ¥Á¸ÀuÉAiÀiÁVzÉAiÉÄÃ? ºËzÀÄ/E®è
A98: ««zsÀ ºÀAvÀzÀ C¢üPÁjUÀ¼ÀÄ vÀ¥Á¸ÀuÉ/¨sÉÃn ¤ÃrzÀÝgÉ CªÀgÀ ¸ÀASÉå ¤Ãr
A99: Member of Task Force(vÀAqÀ¢AzÀ vÀ¥Á¸ÀuÉ) | C99: Distict Officials (f¯ÁèªÀÄlÖzÀ C¢üPÁj) | E99: Block/Taluk Level Officials (vÁ®ÆPÀÄ ªÀÄlÖzÀ C¢üPÁj) | G99: Cluster level (PÀè¸ÀÖgï ºÀAvÀ) | I99: SMC Members (±Á¯Á ªÀåªÀ¸ÁÜ¥ÀPÀgÀÄ/J¸ï.r.JA.¹. ¸ÀzÀ¸ÀågÀÄ) | M99: F wAUÀ¼À°è AMS PÀ¼ÀÄ»¹zÀ ¢£ÀUÀ¼À ¸ÀASÉå
A102: F wAUÀ¼À°è C»vÀPÀgÀ WÀl£ÉUÀ¼ÀÄ £ÀqÉ¢ªÉAiÉÄÃ ºËzÀÄ/E®è :
A103: DPÀ¹äPÀ CªÀWÀqÀ ¸ÀA¨sÀ«¹zÀÝ°è CªÀÅUÀ¼À ¸ÀASÉå/«ªÀgÀ : | M103: F wAUÀ¼À°è SATS MDM £À°è Upload ªÀiÁrzÀ ¢£ÀUÀ¼À ¸ÀASÉå
A105: vÀÆPÀzÀ AiÀÄAvÀæ RjÃ¢ ªÀiÁqÀ¯ÁVzÉAiÉÄÃ? | C105: vÀÆPÀzÀAiÀÄAvÀæ ¸Àj EzÉAiÉÄÃ? | D105: K¥Áæ£ï J¯Áè CqÀÄUÉ ¹§âA¢UÀ½UÉ ¤ÃqÀ¯ÁVzÉAiÉÄÃ? | G105: ±Á¯Á ¥Ë¶×PÀ ªÀ£À/ PÉÊvÉÆÃl ªÀiÁqÀ¯ÁVzÉAiÉÄÃ? | J105: ±Á¯Á PÉÊvÉÆÃl ªÀiÁqÀ®Ä ¸ÀÜ¼ÀªÀPÁ±À EzÉAiÉÄÃ?
A108: F ªÉÄÃ°£À J¯Áè ªÀiÁ»wUÀ¼ÀÄ ¸ÀjAiÀiÁVzÉAiÉÄAzÀÄ ºÁUÀÆ ±Á¯Á CqÀÄUÉ PÉÆÃuÉ ¥Àæw ¢£À, ±Á¯Á zÁ¸ÁÛ£ÀÄ PÉÆoÀr ¥Àæw 15 ¢£ÀUÀ½UÉÆªÉÄä ¸ÀéZÀÑUÉÆ½¸ÀÄwÛzÉÝÃªÉ JAzÀÄ F ªÀÄÆ®PÀ zÀÈrÃPÀj¹zÉ.
A109: ¸ÀÜ¼À: | D109: ¢£ÁAPÀ:
A111: JA.r.JA. £ÉÆÃqÀ¯ï ²PÀëPÀgÀÄ | E111: J¸ï.r.JA.¹. CzsÀåPÀëgÀÄ/ ªÀåªÀ¸ÁÜ¥ÀPÀgÀÄ | K111: ªÀÄÄRå ²PÀëPÀgÀ ¸À» ªÉÆºÀj£ÉÆA¢UÉ
A112: ªÉÆ¨ÉÊ¯ï ¸ÀASÉå | E112: ªÉÆ¨ÉÊ¯ï ¸ÀASÉå | K112: ªÉÆ¨ÉÊ¯ï ¸ÀASÉå

Sheet SEP
A1: ತಿಂಗಳು ಮತ್ತು ವರ್ಷ | E1: ಶಾಲೆಯ ಹೆಸರು | P1: ಸುಕುಮಾರ್ ಕಾಡಿನಕೊಂಡ | T1: sukumarkadinakonda@gmail.com
A2: ದಿನಾಂಕ | B2: ಊಟ ಮಾಡಿದ ಮಕ್ಕಳ ಸಂಖ್ಯೆ | E2: ವಿವರ | F2: ಅಕ್ಕಿ / ಗೋಧಿ | G2: ಅಕ್ಕಿ | J2: ಗೋಧಿ | M2: ಬೇಳೆ | P2: ಎಣ್ಣೆ | T2: ದಿನಾಂಕ | U2: ಮೊಟ್ಟೆ ವಿತರಣೆ | W2: ಮೊಟ್ಟೆ ವಿತರಣೆ ಸಂಖ್ಯೆ | X2: ಮೊಟ್ಟೆ ಖರೀದಿ ವಿವರ | AC2: ಬಾಳೆಹಣ್ಣು ವಿತರಣೆ | AG2: ಬಾಳೆಹಣ್ಣು ಮತ್ತು ಮೊಟ್ಟೆ ಒಟ್ಟು ವೆಚ್ಚ
B3: 1 ರಿಂದ 5 | C3: 6 ರಿಂದ 8 | D3: ಒಟ್ಟು | G3: 1 ರಿಂದ 5 | H3: 6 ರಿಂದ 8 | I3: ಒಟ್ಟು | J3: 1 ರಿಂದ 5 | K3: 6 ರಿಂದ 8 | L3: ಒಟ್ಟು | M3: 1 ರಿಂದ 5 | N3: 6 ರಿಂದ 8 | O3: ಒಟ್ಟು | P3: 1 ರಿಂದ 5 | Q3: 6 ರಿಂದ 8 | R3: ಒಟ್ಟು | U3: 1 ರಿಂದ 5 | V3: 6 ರಿಂದ 8 | X3: ಖರೀದಿ ವೆಚ್ಚ | Y3: ಸಾಗಾಣಿಕಾ ವೆಚ್ಚ | Z3: ಬೇಯಿಸಿದ ಬಾಬ್ತು | AA3: ಗ್ಯಾಸ್ ವೆಚ್ಚ | AB3: ಮೊಟ್ಟೆಯ ಒಟ್ಟು ವೆಚ್ಚ | AC3: 1 ರಿಂದ 5 | AD3: 6 ರಿಂದ 8 | AE3: ಬಾಳೆಹಣ್ಣು ವಿತರಣೆ | AF3: ಬಾಳೆಹಣ್ಣು ವೆಚ್ಚ
E4: ಆರಂಭಿಕ ಶಿಲ್ಕು | G4: 0 | H4: 0 | I4: =H4+G4 -> 0 | J4: 0 | K4: 0 | L4: =K4+J4 -> 0 | M4: 0 | N4: 0 | O4: =N4+M4 -> 0 | P4: 0 | Q4: 0 | R4: =Q4+P4 -> 0 | T4: =A6 -> 46266 | U4: 1 | V4: 1 | W4: =V4+U4 -> 2 | X4: =W4*5 -> 10 | Y4: =W4*0.2 -> 0.4 | Z4: =W4*0.3 -> 0.6 | AA4: =W4*0.5 -> 1 | AB4: =AA4+Z4+Y4+X4 -> 12 | AC4: 1 | AD4: 1 | AE4: =AD4+AC4 -> 2 | AF4: =AE4*6 -> 12 | AG4: =AF4+AB4 -> 24
E5: ತಿಂಗಳ ಸರಬರಾಜು | G5: 0 | H5: 0 | I5: =H5+G5 -> 0 | J5: 0 | K5: 0 | L5: =K5+J5 -> 0 | M5: 0 | N5: 0 | O5: =N5+M5 -> 0 | P5: 0 | Q5: 0 | R5: =Q5+P5 -> 0 | T5: =A11 -> 46267 | U5: 0 | V5: 0 | W5: =V5+U5 -> 0 | X5: =W5*5 -> 0 | Y5: =W5*0.2 -> 0 | Z5: =W5*0.3 -> 0 | AA5: =W5*0.5 -> 0 | AB5: =AA5+Z5+Y5+X5 -> 0 | AC5: 0 | AD5: 0 | AE5: =AD5+AC5 -> 0 | AF5: =AE5*6 -> 0 | AG5: =AF5+AB5 -> 0
A6: 46266 | B6: 1 | C6: 1 | D6: =B6+C6 -> 2 | E6: ಒಟ್ಟು ಆರಂಭಿಕ ಶಿಲ್ಕು | G6: =G4+G5 -> 0 | H6: =H4+H5 -> 0 | I6: =H6+G6 -> 0 | J6: =J4+J5 -> 0 | K6: =K4+K5 -> 0 | L6: =K6+J6 -> 0 | M6: =M4+M5 -> 0 | N6: =N4+N5 -> 0 | O6: =N6+M6 -> 0 | P6: =P4+P5 -> 0 | Q6: =Q4+Q5 -> 0 | R6: =Q6+P6 -> 0 | T6: =A16 -> 46268 | U6: 0 | V6: 0 | W6: =V6+U6 -> 0 | X6: =W6*5 -> 0 | Y6: =W6*0.2 -> 0 | Z6: =W6*0.3 -> 0 | AA6: =W6*0.5 -> 0 | AB6: =AA6+Z6+Y6+X6 -> 0 | AC6: 0 | AD6: 0 | AE6: =AD6+AC6 -> 0 | AF6: =AE6*6 -> 0 | AG6: =AF6+AB6 -> 0
E7: ಬಳಕೆ | F7: RICE | G7: =IF($F7="RICE",B6*0.1,"") -> 0.1 | H7: =IF($F7="RICE",C6*0.15,"") -> 0.15 | I7: =IF($F7="RICE",G7+H7,"") -> 0.25 | J7: =IF($F7="WHEAT",B6*0.1,"") | K7: =IF($F7="WHEAT",C6*0.15,"") | L7: =IF($F7="WHEAT",J7+K7,"") | M7: =B6*0.02 -> 0.02 | N7: =C6*0.03 -> 0.03 | O7: =N7+M7 -> 0.05 | P7: =B6*0.005 -> 0.005 | Q7: =C6*0.0075 -> 0.0075 | R7: =Q7+P7 -> 0.0125 | T7: =A21 -> 46269 | U7: 0 | V7: 0 | W7: =V7+U7 -> 0 | X7: =W7*5 -> 0 | Y7: =W7*0.2 -> 0 | Z7: =W7*0.3 -> 0 | AA7: =W7*0.5 -> 0 | AB7: =AA7+Z7+Y7+X7 -> 0 | AC7: 0 | AD7: 0 | AE7: =AD7+AC7 -> 0 | AF7: =AE7*6 -> 0 | AG7: =AF7+AB7 -> 0
E8: ಉಳಿಕೆ/ ಒಟ್ಟು | G8: =IF(OR(G7="",G7=0),G6,G6-G7) -> -0.1 | H8: =IF(OR(H7="",H7=0),H6,H6-H7) -> -0.15 | I8: =IF(OR(I7="",I7=0),I6,I6-I7) -> -0.25 | J8: =IF(OR(J7="",J7=0),J6,J6-J7) -> 0 | K8: =IF(OR(K7="",K7=0),K6,K6-K7) -> 0 | L8: =IF(OR(L7="",L7=0),L6,L6-L7) -> 0 | M8: =M6-M7 -> -0.02 | N8: =N6-N7 -> -0.03 | O8: =O6-O7 -> -0.05 | P8: =P6-P7 -> -0.005 | Q8: =Q6-Q7 -> -0.0075 | R8: =R6-R7 -> -0.0125 | T8: =A26 -> 46270 | U8: 0 | V8: 0 | W8: =V8+U8 -> 0 | X8: =W8*5 -> 0 | Y8: =W8*0.2 -> 0 | Z8: =W8*0.3 -> 0 | AA8: =W8*0.5 -> 0 | AB8: =AA8+Z8+Y8+X8 -> 0 | AC8: 0 | AD8: 0 | AE8: =AD8+AC8 -> 0 | AF8: =AE8*6 -> 0 | AG8: =AF8+AB8 -> 0
E9: ಆರಂಭಿಕ ಶಿಲ್ಕು | G9: =G8 -> -0.1 | H9: =H8 -> -0.15 | I9: =I8 -> -0.25 | J9: =J8 -> 0 | K9: =K8 -> 0 | L9: =L8 -> 0 | M9: =M8 -> -0.02 | N9: =N8 -> -0.03 | ... R9: =R8 -> -0.0125 | T9: =A31 -> 46271 | U9: 0 | V9: 0 | W9: =V9+U9 -> 0 | X9: =W9*5 -> 0 | Y9: =W9*0.2 -> 0 | Z9: =W9*0.3 -> 0 | AA9: =W9*0.5 -> 0 | AB9: =AA9+Z9+Y9+X9 -> 0 | AC9: 0 | AD9: 0 | AE9: =AD9+AC9 -> 0 | AF9: =AE9*6 -> 0 | AG9: =AF9+AB9 -> 0
E10: ತಿಂಗಳ ಸರಬರಾಜು | G10: 0 | H10: 0 | I10: =H10+G10 -> 0 | J10: 0 | K10: 0 | L10: =K10+J10 -> 0 | M10: 0 | N10: 0 | O10: =N10+M10 -> 0 | P10: 0 | Q10: 0 | R10: =Q10+P10 -> 0 | T10: =A36 -> 46272 | U10: 0 | V10: 0 | W10: =V10+U10 -> 0 | X10: =W10*5 -> 0 | Y10: =W10*0.2 -> 0 | Z10: =W10*0.3 -> 0 | AA10: =W10*0.5 -> 0 | AB10: =AA10+Z10+Y10+X10 -> 0 | AC10: 0 | AD10: 0 | AE10: =AD10+AC10 -> 0 | AF10: =AE10*6 -> 0 | AG10: =AF10+AB10 -> 0
A11: 46267 | B11: 0 | C11: 0 | D11: =B11+C11 -> 0 | E11: ಒಟ್ಟು ಆರಂಭಿಕ ಶಿಲ್ಕು | G11: =G9+G10 -> -0.1 | H11: =H9+H10 -> -0.15 | I11: =H11+G11 -> -0.25 | J11: =J9+J10 -> 0 | K11: =K9+K10 -> 0 | L11: =K11+J11 -> 0 | M11: =M9+M10 -> -0.02 | N11: =N9+N10 -> -0.03 | O11: =N11+M11 -> -0.05 | P11: =P9+P10 -> -0.005 | Q11: =Q9+Q10 -> -0.0075 | R11: =Q11+P11 -> -0.0125 | T11: =A41 -> 46273 | U11: 0 | V11: 0 | W11: =V11+U11 -> 0 | X11: =W11*5 -> 0 | Y11: =W11*0.2 -> 0 | Z11: =W11*0.3 -> 0 | AA11: =W11*0.5 -> 0 | AB11: =AA11+Z11+Y11+X11 -> 0 | AC11: 0 | AD11: 0 | AE11: =AD11+AC11 -> 0 | AF11: =AE11*6 -> 0 | AG11: =AF11+AB11 -> 0
E12: ಬಳಕೆ | F12: RICE | G12: =IF($F12="RICE",B11*0.1,"") -> 0 | H12: =IF($F12="RICE",C11*0.15,"") -> 0 | I12: =IF($F12="RICE",G12+H12,"") -> 0 | J12: =IF($F12="WHEAT",B11*0.1,"") | K12: =IF($F12="WHEAT",C11*0.15,"") | L12: =IF($F12="WHEAT",J12+K12,"") | M12: =B11*0.02 -> 0 | N12: =C11*0.03 -> 0 | O12: =N12+M12 -> 0 | P12: =B11*0.005 -> 0 | Q12: =C11*0.0075 -> 0 | R12: =Q12+P12 -> 0 | T12: =A46 -> 46274 | U12: 0 | V12: 0 | W12: =V12+U12 -> 0 | X12: =W12*5 -> 0 | Y12: =W12*0.2 -> 0 | Z12: =W12*0.3 -> 0 | AA12: =W12*0.5 -> 0 | AB12: =AA12+Z12+Y12+X12 -> 0 | AC12: 0 | AD12: 0 | AE12: =AD12+AC12 -> 0 | AF12: =AE12*6 -> 0 | AG12: =AF12+AB12 -> 0
E13: ಉಳಿಕೆ/ ಒಟ್ಟು | G13: =IF(OR(G12="",G12=0),G11,G11-G12) -> -0.1 | H13: =IF(OR(H12="",H12=0),H11,H11-H12) -> -0.15 | I13: =IF(OR(I12="",I12=0),I11,I11-I12) -> -0.25 | J13: =IF(OR(J12="",J12=0),J11,J11-J12) -> 0 | K13: =IF(OR(K12="",K12=0),K11,K11-K12) -> 0 | L13: =IF(OR(L12="",L12=0),L11,L11-L12) -> 0 | M13: =M11-M12 -> -0.02 | N13: =N11-N12 -> -0.03 | O13: =O11-O12 -> -0.05 | P13: =P11-P12 -> -0.005 | Q13: =Q11-Q12 -> -0.0075 | R13: =R11-R12 -> -0.0125 | T13: =A51 -> 46275 | U13: 0 | V13: 0 | W13: =V13+U13 -> 0 | X13: =W13*5 -> 0 | Y13: =W13*0.2 -> 0 | Z13: =W13*0.3 -> 0 | AA13: =W13*0.5 -> 0 | AB13: =AA13+Z13+Y13+X13 -> 0 | AC13: 0 | AD13: 0 | AE13: =AD13+AC13 -> 0 | AF13: =AE13*6 -> 0 | AG13: =AF13+AB13 -> 0
E14: ಆರಂಭಿಕ ಶಿಲ್ಕು | G14: =G13 -> -0.1 | H14: =H13 -> -0.15 | I14: =I13 -> -0.25 | J14: =J13 -> 0 | K14: =K13 -> 0 | L14: =L13 -> 0 | M14: =M13 -> -0.02 | N14: =N13 -> -0.03 | ... R14: =R13 -> -0.0125 | T14: =A56 -> 46276 | U14: 0 | V14: 0 | W14: =V14+U14 -> 0 | X14: =W14*5 -> 0 | Y14: =W14*0.2 -> 0 | Z14: =W14*0.3 -> 0 | AA14: =W14*0.5 -> 0 | AB14: =AA14+Z14+Y14+X14 -> 0 | AC14: 0 | AD14: 0 | AE14: =AD14+AC14 -> 0 | AF14: =AE14*6 -> 0 | AG14: =AF14+AB14 -> 0
E15: ತಿಂಗಳ ಸರಬರಾಜು | G15: 0 | H15: 0 | I15: =H15+G15 -> 0 | J15: 0 | K15: 0 | L15: =K15+J15 -> 0 | M15: 0 | N15: 0 | O15: =N15+M15 -> 0 | P15: 0 | Q15: 0 | R15: =Q15+P15 -> 0 | T15: =A61 -> 46277 | U15: 0 | V15: 0 | W15: =V15+U15 -> 0 | X15: =W15*5 -> 0 | Y15: =W15*0.2 -> 0 | Z15: =W15*0.3 -> 0 | AA15: =W15*0.5 -> 0 | AB15: =AA15+Z15+Y15+X15 -> 0 | AC15: 0 | AD15: 0 | AE15: =AD15+AC15 -> 0 | AF15: =AE15*6 -> 0 | AG15: =AF15+AB15 -> 0
A16: 46268 | B16: 0 | C16: 0 | D16: =B16+C16 -> 0 | E16: ಒಟ್ಟು ಆರಂಭಿಕ ಶಿಲ್ಕು | G16: =G14+G15 -> -0.1 | H16: =H14+H15 -> -0.15 | I16: =H16+G16 -> -0.25 | J16: =J14+J15 -> 0 | K16: =K14+K15 -> 0 | L16: =K16+J16 -> 0 | M16: =M14+M15 -> -0.02 | N16: =N14+N15 -> -0.03 | O16: =N16+M16 -> -0.05 | P16: =P14+P15 -> -0.005 | Q16: =Q14+Q15 -> -0.0075 | R16: =Q16+P16 -> -0.0125 | T16: =A66 -> 46278 | U16: 0 | V16: 0 | W16: =V16+U16 -> 0 | X16: =W16*5 -> 0 | Y16: =W16*0.2 -> 0 | Z16: =W16*0.3 -> 0 | AA16: =W16*0.5 -> 0 | AB16: =AA16+Z16+Y16+X16 -> 0 | AC16: 0 | AD16: 0 | AE16: =AD16+AC16 -> 0 | AF16: =AE16*6 -> 0 | AG16: =AF16+AB16 -> 0
E17: ಬಳಕೆ | F17: RICE | G17: =IF($F17="RICE",B16*0.1,"") -> 0 | H17: =IF($F17="RICE",C16*0.15,"") -> 0 | I17: =IF($F17="RICE",G17+H17,"") -> 0 | J17: =IF($F17="WHEAT",B16*0.1,"") | K17: =IF($F17="WHEAT",C16*0.15,"") | L17: =IF($F17="WHEAT",J17+K17,"") | M17: =B16*0.02 -> 0 | N17: =C16*0.03 -> 0 | O17: =N17+M17 -> 0 | P17: =B16*0.005 -> 0 | Q17: =C16*0.0075 -> 0 | R17: =Q17+P17 -> 0 | T17: =A71 -> 46279 | U17: 0 | V17: 0 | W17: =V17+U17 -> 0 | X17: =W17*5 -> 0 | Y17: =W17*0.2 -> 0 | Z17: =W17*0.3 -> 0 | AA17: =W17*0.5 -> 0 | AB17: =AA17+Z17+Y17+X17 -> 0 | AC17: 0 | AD17: 0 | AE17: =AD17+AC17 -> 0 | AF17: =AE17*6 -> 0 | AG17: =AF17+AB17 -> 0
E18: ಉಳಿಕೆ/ ಒಟ್ಟು | G18: =IF(OR(G17="",G17=0),G16,G16-G17) -> -0.1 | H18: =IF(OR(H17="",H17=0),H16,H16-H17) -> -0.15 | I18: =IF(OR(I17="",I17=0),I16,I16-I17) -> -0.25 | J18: =IF(OR(J17="",J17=0),J16,J16-J17) -> 0 | K18: =IF(OR(K17="",K17=0),K16,K16-K17) -> 0 | L18: =IF(OR(L17="",L17=0),L16,L16-L17) -> 0 | M18: =M16-M17 -> -0.02 | N18: =N16-N17 -> -0.03 | O18: =O16-O17 -> -0.05 | P18: =P16-P17 -> -0.005 | Q18: =Q16-Q17 -> -0.0075 | R18: =R16-R17 -> -0.0125 | T18: =A76 -> 46280 | U18: 0 | V18: 0 | W18: =V18+U18 -> 0 | X18: =W18*5 -> 0 | Y18: =W18*0.2 -> 0 | Z18: =W18*0.3 -> 0 | AA18: =W18*0.5 -> 0 | AB18: =AA18+Z18+Y18+X18 -> 0 | AC18: 0 | AD18: 0 | AE18: =AD18+AC18 -> 0 | AF18: =AE18*6 -> 0 | AG18: =AF18+AB18 -> 0
E19: ಆರಂಭಿಕ ಶಿಲ್ಕು | G19: =G18 -> -0.1 | H19: =H18 -> -0.15 | I19: =I18 -> -0.25 | J19: =J18 -> 0 | K19: =K18 -> 0 | L19: =L18 -> 0 | M19: =M18 -> -0.02 | N19: =N18 -> -0.03 | ... R19: =R18 -> -0.0125 | T19: =A81 -> 46281 | U19: 0 | V19: 0 | W19: =V19+U19 -> 0 | X19: =W19*5 -> 0 | Y19: =W19*0.2 -> 0 | Z19: =W19*0.3 -> 0 | AA19: =W19*0.5 -> 0 | AB19: =AA19+Z19+Y19+X19 -> 0 | AC19: 0 | AD19: 0 | AE19: =AD19+AC19 -> 0 | AF19: =AE19*6 -> 0 | AG19: =AF19+AB19 -> 0
E20: ತಿಂಗಳ ಸರಬರಾಜು | G20: 0 | H20: 0 | I20: =H20+G20 -> 0 | J20: 0 | K20: 0 | L20: =K20+J20 -> 0 | M20: 0 | N20: 0 | O20: =N20+M20 -> 0 | P20: 0 | Q20: 0 | R20: =Q20+P20 -> 0 | T20: =A86 -> 46282 | U20: 0 | V20: 0 | W20: =V20+U20 -> 0 | X20: =W20*5 -> 0 | Y20: =W20*0.2 -> 0 | Z20: =W20*0.3 -> 0 | AA20: =W20*0.5 -> 0 | AB20: =AA20+Z20+Y20+X20 -> 0 | AC20: 0 | AD20: 0 | AE20: =AD20+AC20 -> 0 | AF20: =AE20*6 -> 0 | AG20: =AF20+AB20 -> 0
A21: 46269 | B21: 0 | C21: 0 | D21: =B21+C21 -> 0 | E21: ಒಟ್ಟು ಆರಂಭಿಕ ಶಿಲ್ಕು | G21: =G19+G20 -> -0.1 | H21: =H19+H20 -> -0.15 | I21: =H21+G21 -> -0.25 | J21: =J19+J20 -> 0 | K21: =K19+K20 -> 0 | L21: =K21+J21 -> 0 | M21: =M19+M20 -> -0.02 | N21: =N19+N20 -> -0.03 | O21: =N21+M21 -> -0.05 | P21: =P19+P20 -> -0.005 | Q21: =Q19+Q20 -> -0.0075 | R21: =Q21+P21 -> -0.0125 | T21: =A91 -> 46283 | U21: 0 | V21: 0 | W21: =V21+U21 -> 0 | X21: =W21*5 -> 0 | Y21: =W21*0.2 -> 0 | Z21: =W21*0.3 -> 0 | AA21: =W21*0.5 -> 0 | AB21: =AA21+Z21+Y21+X21 -> 0 | AC21: 0 | AD21: 0 | AE21: =AD21+AC21 -> 0 | AF21: =AE21*6 -> 0 | AG21: =AF21+AB21 -> 0
E22: ಬಳಕೆ | F22: WHEAT | G22: =IF($F22="RICE",B21*0.1,"") | H22: =IF($F22="RICE",C21*0.15,"") | I22: =IF($F22="RICE",G22+H22,"") | J22: =IF($F22="WHEAT",B21*0.1,"") -> 0 | K22: =IF($F22="WHEAT",C21*0.15,"") -> 0 | L22: =IF($F22="WHEAT",J22+K22,"") -> 0 | M22: =B21*0.02 -> 0 | N22: =C21*0.03 -> 0 | O22: =N22+M22 -> 0 | P22: =B21*0.005 -> 0 | Q22: =C21*0.0075 -> 0 | R22: =Q22+P22 -> 0 | T22: =A96 -> 46284 | U22: 0 | V22: 0 | W22: =V22+U22 -> 0 | X22: =W22*5 -> 0 | Y22: =W22*0.2 -> 0 | Z22: =W22*0.3 -> 0 | AA22: =W22*0.5 -> 0 | AB22: =AA22+Z22+Y22+X22 -> 0 | AC22: 0 | AD22: 0 | AE22: =AD22+AC22 -> 0 | AF22: =AE22*6 -> 0 | AG22: =AF22+AB22 -> 0
E23: ಉಳಿಕೆ/ ಒಟ್ಟು | G23: =IF(OR(G22="",G22=0),G21,G21-G22) -> -0.1 | H23: =IF(OR(H22="",H22=0),H21,H21-H22) -> -0.15 | I23: =IF(OR(I22="",I22=0),I21,I21-I22) -> -0.25 | J23: =IF(OR(J22="",J22=0),J21,J21-J22) -> 0 | K23: =IF(OR(K22="",K22=0),K21,K21-K22) -> 0 | L23: =IF(OR(L22="",L22=0),L21,L21-L22) -> 0 | M23: =M21-M22 -> -0.02 | N23: =N21-N22 -> -0.03 | O23: =O21-O22 -> -0.05 | P23: =P21-P22 -> -0.005 | Q23: =Q21-Q22 -> -0.0075 | R23: =R21-R22 -> -0.0125 | T23: =A101 -> 46285 | U23: 0 | V23: 0 | W23: =V23+U23 -> 0 | X23: =W23*5 -> 0 | Y23: =W23*0.2 -> 0 | Z23: =W23*0.3 -> 0 | AA23: =W23*0.5 -> 0 | AB23: =AA23+Z23+Y23+X23 -> 0 | AC23: 0 | AD23: 0 | AE23: =AD23+AC23 -> 0 | AF23: =AE23*6 -> 0 | AG23: =AF23+AB23 -> 0
E24: ಆರಂಭಿಕ ಶಿಲ್ಕು | G24: =G23 -> -0.1 | H24: =H23 -> -0.15 | I24: =I23 -> -0.25 | J24: =J23 -> 0 | K24: =K23 -> 0 | L24: =L23 -> 0 | M24: =M23 -> -0.02 | N24: =N23 -> -0.03 | ... R24: =R23 -> -0.0125 | T24: =A106 -> 46286 | U24: 0 | V24: 0 | W24: =V24+U24 -> 0 | X24: =W24*5 -> 0 | Y24: =W24*0.2 -> 0 | Z24: =W24*0.3 -> 0 | AA24: =W24*0.5 -> 0 | AB24: =AA24+Z24+Y24+X24 -> 0 | AC24: 0 | AD24: 0 | AE24: =AD24+AC24 -> 0 | AF24: =AE24*6 -> 0 | AG24: =AF24+AB24 -> 0
E25: ತಿಂಗಳ ಸರಬರಾಜು | G25: 0 | H25: 0 | I25: =H25+G25 -> 0 | J25: 0 | K25: 0 | L25: =K25+J25 -> 0 | M25: 0 | N25: 0 | O25: =N25+M25 -> 0 | P25: 0 | Q25: 0 | R25: =Q25+P25 -> 0 | T25: =A111 -> 46287 | U25: 0 | V25: 0 | W25: =V25+U25 -> 0 | X25: =W25*5 -> 0 | Y25: =W25*0.2 -> 0 | Z25: =W25*0.3 -> 0 | AA25: =W25*0.5 -> 0 | AB25: =AA25+Z25+Y25+X25 -> 0 | AC25: 0 | AD25: 0 | AE25: =AD25+AC25 -> 0 | AF25: =AE25*6 -> 0 | AG25: =AF25+AB25 -> 0
A26: 46270 | B26: 0 | C26: 0 | D26: =B26+C26 -> 0 | E26: ಒಟ್ಟು ಆರಂಭಿಕ ಶಿಲ್ಕು | G26: =G24+G25 -> -0.1 | H26: =H24+H25 -> -0.15 | I26: =H26+G26 -> -0.25 | J26: =J24+J25 -> 0 | K26: =K24+K25 -> 0 | L26: =K26+J26 -> 0 | M26: =M24+M25 -> -0.02 | N26: =N24+N25 -> -0.03 | O26: =N26+M26 -> -0.05 | P26: =P24+P25 -> -0.005 | Q26: =Q24+Q25 -> -0.0075 | R26: =Q26+P26 -> -0.0125 | T26: =A116 -> 46288 | U26: 0 | V26: 0 | W26: =V26+U26 -> 0 | X26: =W26*5 -> 0 | Y26: =W26*0.2 -> 0 | Z26: =W26*0.3 -> 0 | AA26: =W26*0.5 -> 0 | AB26: =AA26+Z26+Y26+X26 -> 0 | AC26: 0 | AD26: 0 | AE26: =AD26+AC26 -> 0 | AF26: =AE26*6 -> 0 | AG26: =AF26+AB26 -> 0
E27: ಬಳಕೆ | F27: RICE | G27: =IF($F27="RICE",B26*0.1,"") -> 0 | H27: =IF($F27="RICE",C26*0.15,"") -> 0 | I27: =IF($F27="RICE",G27+H27,"") -> 0 | J27: =IF($F27="WHEAT",B26*0.1,"") | K27: =IF($F27="WHEAT",C26*0.15,"") | L27: =IF($F27="WHEAT",J27+K27,"") | M27: =B26*0.02 -> 0 | N27: =C26*0.03 -> 0 | O27: =N27+M27 -> 0 | P27: =B26*0.005 -> 0 | Q27: =C26*0.0075 -> 0 | R27: =Q27+P27 -> 0 | T27: =A121 -> 46289 | U27: 0 | V27: 0 | W27: =V27+U27 -> 0 | X27: =W27*5 -> 0 | Y27: =W27*0.2 -> 0 | Z27: =W27*0.3 -> 0 | AA27: =W27*0.5 -> 0 | AB27: =AA27+Z27+Y27+X27 -> 0 | AC27: 0 | AD27: 0 | AE27: =AD27+AC27 -> 0 | AF27: =AE27*6 -> 0 | AG27: =AF27+AB27 -> 0
E28: ಉಳಿಕೆ/ ಒಟ್ಟು | G28: =IF(OR(G27="",G27=0),G26,G26-G27) -> -0.1 | H28: =IF(OR(H27="",H27=0),H26,H26-H27) -> -0.15 | I28: =IF(OR(I27="",I27=0),I26,I26-I27) -> -0.25 | J28: =IF(OR(J27="",J27=0),J26,J26-J27) -> 0 | K28: =IF(OR(K27="",K27=0),K26,K26-K27) -> 0 | L28: =IF(OR(L27="",L27=0),L26,L26-L27) -> 0 | M28: =M26-M27 -> -0.02 | N28: =N26-N27 -> -0.03 | O28: =O26-O27 -> -0.05 | P28: =P26-P27 -> -0.005 | Q28: =Q26-Q27 -> -0.0075 | R28: =R26-R27 -> -0.0125 | T28: =A126 -> 46290 | U28: 0 | V28: 0 | W28: =V28+U28 -> 0 | X28: =W28*5 -> 0 | Y28: =W28*0.2 -> 0 | Z28: =W28*0.3 -> 0 | AA28: =W28*0.5 -> 0 | AB28: =AA28+Z28+Y28+X28 -> 0 | AC28: 0 | AD28: 0 | AE28: =AD28+AC28 -> 0 | AF28: =AE28*6 -> 0 | AG28: =AF28+AB28 -> 0
E29: ಆರಂಭಿಕ ಶಿಲ್ಕು | G29: =G28 -> -0.1 | H29: =H28 -> -0.15 | I29: =I28 -> -0.25 | J29: =J28 -> 0 | K29: =K28 -> 0 | L29: =L28 -> 0 | M29: =M28 -> -0.02 | N29: =N28 -> -0.03 | ... R29: =R28 -> -0.0125 | T29: =A131 -> 46291 | U29: 0 | V29: 0 | W29: =V29+U29 -> 0 | X29: =W29*5 -> 0 | Y29: =W29*0.2 -> 0 | Z29: =W29*0.3 -> 0 | AA29: =W29*0.5 -> 0 | AB29: =AA29+Z29+Y29+X29 -> 0 | AC29: 0 | AD29: 0 | AE29: =AD29+AC29 -> 0 | AF29: =AE29*6 -> 0 | AG29: =AF29+AB29 -> 0
E30: ತಿಂಗಳ ಸರಬರಾಜು | G30: 0 | H30: 0 | I30: =H30+G30 -> 0 | J30: 0 | K30: 0 | L30: =K30+J30 -> 0 | M30: 0 | N30: 0 | O30: =N30+M30 -> 0 | P30: 0 | Q30: 0 | R30: =Q30+P30 -> 0 | T30: =A136 -> 46292 | U30: 0 | V30: 0 | W30: =V30+U30 -> 0 | X30: =W30*5 -> 0 | Y30: =W30*0.2 -> 0 | Z30: =W30*0.3 -> 0 | AA30: =W30*0.5 -> 0 | AB30: =AA30+Z30+Y30+X30 -> 0 | AC30: 0 | AD30: 0 | AE30: =AD30+AC30 -> 0 | AF30: =AE30*6 -> 0 | AG30: =AF30+AB30 -> 0
A31: 46271 | B31: 0 | C31: 0 | D31: =B31+C31 -> 0 | E31: ಒಟ್ಟು ಆರಂಭಿಕ ಶಿಲ್ಕು | G31: =G29+G30 -> -0.1 | H31: =H29+H30 -> -0.15 | I31: =H31+G31 -> -0.25 | J31: =J29+J30 -> 0 | K31: =K29+K30 -> 0 | L31: =K31+J31 -> 0 | M31: =M29+M30 -> -0.02 | N31: =N29+N30 -> -0.03 | O31: =N31+M31 -> -0.05 | P31: =P29+P30 -> -0.005 | Q31: =Q29+Q30 -> -0.0075 | R31: =Q31+P31 -> -0.0125 | T31: =A141 -> 46293 | U31: 0 | V31: 0 | W31: =V31+U31 -> 0 | X31: =W31*5 -> 0 | Y31: =W31*0.2 -> 0 | Z31: =W31*0.3 -> 0 | AA31: =W31*0.5 -> 0 | AB31: =AA31+Z31+Y31+X31 -> 0 | AC31: 0 | AD31: 0 | AE31: =AD31+AC31 -> 0 | AF31: =AE31*6 -> 0 | AG31: =AF31+AB31 -> 0
E32: ಬಳಕೆ | F32: RICE | G32: =IF($F32="RICE",B31*0.1,"") -> 0 | H32: =IF($F32="RICE",C31*0.15,"") -> 0 | I32: =IF($F32="RICE",G32+H32,"") -> 0 | J32: =IF($F32="WHEAT",B31*0.1,"") | K32: =IF($F32="WHEAT",C31*0.15,"") | L32: =IF($F32="WHEAT",J32+K32,"") | M32: =B31*0.02 -> 0 | N32: =C31*0.03 -> 0 | O32: =N32+M32 -> 0 | P32: =B31*0.005 -> 0 | Q32: =C31*0.0075 -> 0 | R32: =Q32+P32 -> 0 | T32: =A146 -> 46294 | U32: 0 | V32: 0 | W32: =V32+U32 -> 0 | X32: =W32*5 -> 0 | Y32: =W32*0.2 -> 0 | Z32: =W32*0.3 -> 0 | AA32: =W32*0.5 -> 0 | AB32: =AA32+Z32+Y32+X32 -> 0 | AC32: 0 | AD32: 0 | AE32: =AD32+AC32 -> 0 | AF32: =AE32*6 -> 0 | AG32: =AF32+AB32 -> 0
E33: ಉಳಿಕೆ/ ಒಟ್ಟು | G33: =IF(OR(G32="",G32=0),G31,G31-G32) -> -0.1 | H33: =IF(OR(H32="",H32=0),H31,H31-H32) -> -0.15 | I33: =IF(OR(I32="",I32=0),I31,I31-I32) -> -0.25 | J33: =IF(OR(J32="",J32=0),J31,J31-J32) -> 0 | K33: =IF(OR(K32="",K32=0),K31,K31-K32) -> 0 | L33: =IF(OR(L32="",L32=0),L31,L31-L32) -> 0 | M33: =M31-M32 -> -0.02 | N33: =N31-N32 -> -0.03 | O33: =O31-O32 -> -0.05 | P33: =P31-P32 -> -0.005 | Q33: =Q31-Q32 -> -0.0075 | R33: =R31-R32 -> -0.0125 | T33: =A151 -> 46295 | U33: 0 | V33: 0 | W33: =V33+U33 -> 0 | X33: =W33*5 -> 0 | Y33: =W33*0.2 -> 0 | Z33: =W33*0.3 -> 0 | AA33: =W33*0.5 -> 0 | AB33: =AA33+Z33+Y33+X33 -> 0 | AC33: 0 | AD33: 0 | AE33: =AD33+AC33 -> 0 | AF33: =AE33*6 -> 0 | AG33: =AF33+AB33 -> 0
E34: ಆರಂಭಿಕ ಶಿಲ್ಕು | G34: =G33 -> -0.1 | H34: =H33 -> -0.15 | I34: =I33 -> -0.25 | J34: =J33 -> 0 | K34: =K33 -> 0 | L34: =L33 -> 0 | M34: =M33 -> -0.02 | N34: =N33 -> -0.03 | ... R34: =R33 -> -0.0125 | T34: =A156 -> 0 | U34: 0 | V34: 0 | W34: =V34+U34 -> 0 | X34: =W34*5 -> 0 | Y34: =W34*0.2 -> 0 | Z34: =W34*0.3 -> 0 | AA34: =W34*0.5 -> 0 | AB34: =AA34+Z34+Y34+X34 -> 0 | AC34: 0 | AD34: 0 | AE34: =AD34+AC34 -> 0 | AF34: =AE34*6 -> 0 | AG34: =AF34+AB34 -> 0
E35: ತಿಂಗಳ ಸರಬರಾಜು | G35: 0 | H35: 0 | I35: =H35+G35 -> 0 | J35: 0 | K35: 0 | L35: =K35+J35 -> 0 | M35: 0 | N35: 0 | O35: =N35+M35 -> 0 | P35: 0 | Q35: 0 | R35: =Q35+P35 -> 0 | T35: TOTAL | U35: =SUM(U4:U34) -> 1 | V35: =SUM(V4:V34) -> 1 | W35: =V35+U35 -> 2 | X35: =W35*5 -> 10 | Y35: =W35*0.2 -> 0.4 | Z35: =W35*0.3 -> 0.6 | AA35: =W35*0.5 -> 1 | AB35: =AA35+Z35+Y35+X35 -> 12 | AC35: =SUM(AC4:AC34) -> 1 | AD35: =SUM(AD4:AD34) -> 1 | AE35: =AD35+AC35 -> 2 | AF35: =AE35*6 -> 12 | AG35: =AF35+AB35 -> 24
A36: 46272 | B36: 0 | C36: 0 | D36: =B36+C36 -> 0 | E36: ಒಟ್ಟು ಆರಂಭಿಕ ಶಿಲ್ಕು | G36: =G34+G35 -> -0.1 | H36: =H34+H35 -> -0.15 | I36: =H36+G36 -> -0.25 | J36: =J34+J35 -> 0 | K36: =K34+K35 -> 0 | L36: =K36+J36 -> 0 | M36: =M34+M35 -> -0.02 | N36: =N34+N35 -> -0.03 | O36: =N36+M36 -> -0.05 | P36: =P34+P35 -> -0.005 | Q36: =Q34+Q35 -> -0.0075 | R36: =Q36+P36 -> -0.0125 | T36: TOTAL | X36: 6 RS | Y36: 5.5 RS | Z36: 5.20 RS | AB36: 6 RS
E37: ಬಳಕೆ | F37: RICE | G37: =IF($F37="RICE",B36*0.1,"") -> 0 | H37: =IF($F37="RICE",C36*0.15,"") -> 0 | I37: =IF($F37="RICE",G37+H37,"") -> 0 | J37: =IF($F37="WHEAT",B36*0.1,"") | K37: =IF($F37="WHEAT",C36*0.15,"") | L37: =IF($F37="WHEAT",J37+K37,"") | M37: =B36*0.02 -> 0 | N37: =C36*0.03 -> 0 | O37: =N37+M37 -> 0 | P37: =B36*0.005 -> 0 | Q37: =C36*0.0075 -> 0 | R37: =Q37+P37 -> 0 | T37: AMOUNT OF GOVT EGG IN MONTH | X37: 0 | Y37: 0 | Z37: 0 | AB37: GOVT. BANANA | AC37: 0 | AE37: NUMBER OF DAYS EGG DISTRIBUTED- GOVT. | AG37: 0
E38: ಉಳಿಕೆ/ ಒಟ್ಟು | G38: =IF(OR(G37="",G37=0),G36,G36-G37) -> -0.1 | H38: =IF(OR(H37="",H37=0),H36,H36-H37) -> -0.15 | I38: =IF(OR(I37="",I37=0),I36,I36-I37) -> -0.25 | J38: =IF(OR(J37="",J37=0),J36,J36-J37) -> 0 | K38: =IF(OR(K37="",K37=0),K36,K36-K37) -> 0 | L38: =IF(OR(L37="",L37=0),L36,L36-L37) -> 0 | M38: =M36-M37 -> -0.02 | N38: =N36-N37 -> -0.03 | O38: =O36-O37 -> -0.05 | P38: =P36-P37 -> -0.005 | Q38: =Q36-Q37 -> -0.0075 | R38: =R36-R37 -> -0.0125 | T38: AMOUNT OF APF EGG IN MONTH | X38: =X39-X37 -> 12 | Y38: =Y39-Y37 -> 11 | Z38: =Z39-Z37 -> 10.4 | AB38: APF BANANA | AC38: 0 | AE38: NUMBER OF DAYS EGG DISTRIBUTED- APF | AG38: =AG40-AG37 -> 0
E39: ಆರಂಭಿಕ ಶಿಲ್ಕು | G39: =G38 -> -0.1 | H39: =H38 -> -0.15 | I39: =I38 -> -0.25 | J39: =J38 -> 0 | K39: =K38 -> 0 | L39: =L38 -> 0 | M39: =M38 -> -0.02 | N39: =N38 -> -0.03 | ... R39: =R38 -> -0.0125 | W39: TOTAL | X39: =AB35 -> 12 | Y39: =X35+Y35+Z35 -> 11 | Z39: =X35+Y35 -> 10.4 | AB39: TOTAL | AC39: =AC38+AC37 -> 0
E40: ತಿಂಗಳ ಸರಬರಾಜು | G40: 0 | H40: 0 | I40: =H40+G40 -> 0 | J40: 0 | K40: 0 | L40: =K40+J40 -> 0 | M40: 0 | N40: 0 | O40: =N40+M40 -> 0 | P40: 0 | Q40: 0 | R40: =Q40+P40 -> 0 | T40: ಕ್ಷೀರಭಾಗ್ಯ ವಿತರಣೆ ವಿವರ | AE40: TOTAL WORKING DAYS | AG40: 0
A41: 46273 | B41: 0 | C41: 0 | D41: =B41+C41 -> 0 | E41: ಒಟ್ಟು ಆರಂಭಿಕ ಶಿಲ್ಕು | G41: =G39+G40 -> -0.1 | H41: =H39+H40 -> -0.15 | I41: =H41+G41 -> -0.25 | J41: =J39+J40 -> 0 | K41: =K39+K40 -> 0 | L41: =K41+J41 -> 0 | M41: =M39+M40 -> -0.02 | N41: =N39+N40 -> -0.03 | O41: =N41+M41 -> -0.05 | P41: =P39+P40 -> -0.005 | Q41: =Q39+Q40 -> -0.0075 | R41: =Q41+P41 -> -0.0125 | T41: ದಿನಾಂಕ | U41: 1 TO 5 | V41: 6 TO 8 | W41: ಸ್ವೀಕರಿಸಿದ ಮಕ್ಕಳ ಸಂಖ್ಯೆ | X41: ಹಾಲಿನ ಪ್ರಮಾಣ ಕಿ.ಗ್ರಾಂ. | Y41: ರಾಗಿ ಮಾಲ್ಟ್ ಪ್ರಮಾಣ | Z41: ಸಕ್ಕರೆಯ ವೆಚ್ಚ ರೂ. | AA41: ಇತರೆ ವೆಚ್ಚ | AB41: ಗ್ಯಾಸ್ ವೆಚ್ಚ
E42: ಬಳಕೆ | F42: RICE | G42: =IF($F42="RICE",B41*0.1,"") -> 0 | H42: =IF($F42="RICE",C41*0.15,"") -> 0 | I42: =IF($F42="RICE",G42+H42,"") -> 0 | J42: =IF($F42="WHEAT",B41*0.1,"") | K42: =IF($F42="WHEAT",C41*0.15,"") | L42: =IF($F42="WHEAT",J42+K42,"") | M42: =B41*0.02 -> 0 | N42: =C41*0.03 -> 0 | O42: =N42+M42 -> 0 | P42: =B41*0.005 -> 0 | Q42: =C41*0.0075 -> 0 | R42: =Q42+P42 -> 0
E43: ಉಳಿಕೆ/ ಒಟ್ಟು | G43: =IF(OR(G42="",G42=0),G41,G41-G42) -> -0.1 | H43: =IF(OR(H42="",H42=0),H41,H41-H42) -> -0.15 | I43: =IF(OR(I42="",I42=0),I41,I41-I42) -> -0.25 | J43: =IF(OR(J42="",J42=0),J41,J41-J42) -> 0 | K43: =IF(OR(K42="",K42=0),K41,K41-K42) -> 0 | L43: =IF(OR(L42="",L42=0),L41,L41-L42) -> 0 | M43: =M41-M42 -> -0.02 | N43: =N41-N42 -> -0.03 | O43: =O41-O42 -> -0.05 | P43: =P41-P42 -> -0.005 | Q43: =Q41-Q42 -> -0.0075 | R43: =R41-R42 -> -0.0125 | T43: =A6 -> 46266 | U43: 1 | V43: 0 | W43: =V43+U43 -> 1 | X43: =W43*0.018 -> 0.018 | Y43: =W43*0.005 -> 0.005 | Z43: =W43*0.32 -> 0.32 | AA43: =W43*0.12 -> 0.12 | AB43: =W43*0.15 -> 0.15 | AF43: MILK POWDER | AG43: RAAGI
E44: ಆರಂಭಿಕ ಶಿಲ್ಕು | G44: =G43 -> -0.1 | H44: =H43 -> -0.15 | I44: =I43 -> -0.25 | J44: =J43 -> 0 | K44: =K43 -> 0 | L44: =L43 -> 0 | M44: =M43 -> -0.02 | N44: =N43 -> -0.03 | ... R44: =R43 -> -0.0125 | T44: =A11 -> 46267 | U44: 1 | W44: =V44+U44 -> 1 | X44: =W44*0.018 -> 0.018 | Y44: =W44*0.005 -> 0.005 | Z44: =W44*0.32 -> 0.32 | AA44: =W44*0.12 -> 0.12 | AB44: =W44*0.15 -> 0.15 | AD44: INITIAL BALANCE | AF44: 0 | AG44: 0
E45: ತಿಂಗಳ ಸರಬರಾಜು | G45: 0 | H45: 0 | I45: =H45+G45 -> 0 | J45: 0 | K45: 0 | L45: =K45+J45 -> 0 | M45: 0 | N45: 0 | O45: =N45+M45 -> 0 | P45: 0 | Q45: 0 | R45: =Q45+P45 -> 0 | T45: =A16 -> 46268 | W45: =V45+U45 -> 0 | X45: =W45*0.018 -> 0 | Y45: =W45*0.005 -> 0 | Z45: =W45*0.32 -> 0 | AA45: =W45*0.12 -> 0 | AB45: =W45*0.15 -> 0 | AD45: SUPPLY | AF45: 0 | AG45: 0
A46: 46274 | B46: 0 | C46: 0 | D46: =B46+C46 -> 0 | E46: ಒಟ್ಟು ಆರಂಭಿಕ ಶಿಲ್ಕು | G46: =G44+G45 -> -0.1 | H46: =H44+H45 -> -0.15 | I46: =H46+G46 -> -0.25 | J46: =J44+J45 -> 0 | K46: =K44+K45 -> 0 | L46: =K46+J46 -> 0 | M46: =M44+M45 -> -0.02 | N46: =N44+N45 -> -0.03 | O46: =N46+M46 -> -0.05 | P46: =P44+P45 -> -0.005 | Q46: =Q44+Q45 -> -0.0075 | R46: =Q46+P46 -> -0.0125 | T46: =A21 -> 46269 | W46: =V46+U46 -> 0 | X46: =W46*0.018 -> 0 | Y46: =W46*0.005 -> 0 | Z46: =W46*0.32 -> 0 | AA46: =W46*0.12 -> 0 | AB46: =W46*0.15 -> 0 | AD46: TOTAL | AF46: =AF45+AF44 -> 0 | AG46: =AG45+AG44 -> 0
E47: ಬಳಕೆ | F47: RICE | G47: =IF($F47="RICE",B46*0.1,"") -> 0 | H47: =IF($F47="RICE",C46*0.15,"") -> 0 | I47: =IF($F47="RICE",G47+H47,"") -> 0 | J47: =IF($F47="WHEAT",B46*0.1,"") | K47: =IF($F47="WHEAT",C46*0.15,"") | L47: =IF($F47="WHEAT",J47+K47,"") | M47: =B46*0.02 -> 0 | N47: =C46*0.03 -> 0 | O47: =N47+M47 -> 0 | P47: =B46*0.005 -> 0 | Q47: =C46*0.0075 -> 0 | R47: =Q47+P47 -> 0 | T47: =A26 -> 46270 | U47: 0 | V47: 0 | W47: =V47+U47 -> 0 | X47: =W47*0.018 -> 0 | Y47: =W47*0.005 -> 0 | Z47: =W47*0.32 -> 0 | AA47: =W47*0.12 -> 0 | AB47: =W47*0.15 -> 0 | AD47: USED | AF47: =X74 -> 0.036 | AG47: =Y74 -> 0.01
E48: ಉಳಿಕೆ/ ಒಟ್ಟು | G48: =IF(OR(G47="",G47=0),G46,G46-G47) -> -0.1 | H48: =IF(OR(H47="",H47=0),H46,H46-H47) -> -0.15 | I48: =IF(OR(I47="",I47=0),I46,I46-I47) -> -0.25 | J48: =IF(OR(J47="",J47=0),J46,J46-J47) -> 0 | K48: =IF(OR(K47="",K47=0),K46,K46-K47) -> 0 | L48: =IF(OR(L47="",L47=0),L46,L46-L47) -> 0 | M48: =M46-M47 -> -0.02 | N48: =N46-N47 -> -0.03 | O48: =O46-O47 -> -0.05 | P48: =P46-P47 -> -0.005 | Q48: =Q46-Q47 -> -0.0075 | R48: =R46-R47 -> -0.0125 | T48: =A31 -> 46271 | U48: 0 | V48: 0 | W48: =V48+U48 -> 0 | X48: =W48*0.018 -> 0 | Y48: =W48*0.005 -> 0 | Z48: =W48*0.32 -> 0 | AA48: =W48*0.12 -> 0 | AB48: =W48*0.15 -> 0 | AD48: MONTH END REMAINING | AF48: =AF46-AF47 -> -0.036 | AG48: =AG46-AG47 -> -0.01
E49: ಆರಂಭಿಕ ಶಿಲ್ಕು | G49: =G48 -> -0.1 | H49: =H48 -> -0.15 | I49: =I48 -> -0.25 | J49: =J48 -> 0 | K49: =K48 -> 0 | L49: =L48 -> 0 | M49: =M48 -> -0.02 | N49: =N48 -> -0.03 | ... R49: =R48 -> -0.0125 | T49: =A36 -> 46272 | U49: 0 | V49: 0 | W49: =V49+U49 -> 0 | X49: =W49*0.018 -> 0 | Y49: =W49*0.005 -> 0 | Z49: =W49*0.32 -> 0 | AA49: =W49*0.12 -> 0 | AB49: =W49*0.15 -> 0
E50: ತಿಂಗಳ ಸರಬರಾಜು | G50: 0 | H50: 0 | I50: =H50+G50 -> 0 | J50: 0 | K50: 0 | L50: =K50+J50 -> 0 | M50: 0 | N50: 0 | O50: =N50+M50 -> 0 | P50: 0 | Q50: 0 | R50: =Q50+P50 -> 0 | T50: =A41 -> 46273 | U50: 0 | V50: 0 | W50: =V50+U50 -> 0 | X50: =W50*0.018 -> 0 | Y50: =W50*0.005 -> 0 | Z50: =W50*0.32 -> 0 | AA50: =W50*0.12 -> 0 | AB50: =W50*0.15 -> 0
A51: 46275 | B51: 0 | C51: 0 | D51: =B51+C51 -> 0 | E51: ಒಟ್ಟು ಆರಂಭಿಕ ಶಿಲ್ಕು | G51: =G49+G50 -> -0.1 | H51: =H49+H50 -> -0.15 | I51: =H51+G51 -> -0.25 | J51: =J49+J50 -> 0 | K51: =K49+K50 -> 0 | L51: =K51+J51 -> 0 | M51: =M49+M50 -> -0.02 | N51: =N49+N50 -> -0.03 | O51: =N51+M51 -> -0.05 | P51: =P49+P50 -> -0.005 | Q51: =Q49+Q50 -> -0.0075 | R51: =Q51+P51 -> -0.0125 | T51: =A46 -> 46274 | W51: =V51+U51 -> 0 | X51: =W51*0.018 -> 0 | Y51: =W51*0.005 -> 0 | Z51: =W51*0.32 -> 0 | AA51: =W51*0.12 -> 0 | AB51: =W51*0.15 -> 0
E52: ಬಳಕೆ | F52: RICE | G52: =IF($F52="RICE",B51*0.1,"") -> 0 | H52: =IF($F52="RICE",C51*0.15,"") -> 0 | I52: =IF($F52="RICE",G52+H52,"") -> 0 | J52: =IF($F52="WHEAT",B51*0.1,"") | K52: =IF($F52="WHEAT",C51*0.15,"") | L52: =IF($F52="WHEAT",J52+K52,"") | M52: =B51*0.02 -> 0 | N52: =C51*0.03 -> 0 | O52: =N52+M52 -> 0 | P52: =B51*0.005 -> 0 | Q52: =C51*0.0075 -> 0 | R52: =Q52+P52 -> 0 | T52: =A51 -> 46275 | W52: =V52+U52 -> 0 | X52: =W52*0.018 -> 0 | Y52: =W52*0.005 -> 0 | Z52: =W52*0.32 -> 0 | AA52: =W52*0.12 -> 0 | AB52: =W52*0.15 -> 0
E53: ಉಳಿಕೆ/ ಒಟ್ಟು | G53: =IF(OR(G52="",G52=0),G51,G51-G52) -> -0.1 | H53: =IF(OR(H52="",H52=0),H51,H51-H52) -> -0.15 | I53: =IF(OR(I52="",I52=0),I51,I51-I52) -> -0.25 | J53: =IF(OR(J52="",J52=0),J51,J51-J52) -> 0 | K53: =IF(OR(K52="",K52=0),K51,K51-K52) -> 0 | L53: =IF(OR(L52="",L52=0),L51,L51-L52) -> 0 | M53: =M51-M52 -> -0.02 | N53: =N51-N52 -> -0.03 | O53: =O51-O52 -> -0.05 | P53: =P51-P52 -> -0.005 | Q53: =Q51-Q52 -> -0.0075 | R53: =R51-R52 -> -0.0125 | T53: =A56 -> 46276 | W53: =V53+U53 -> 0 | X53: =W53*0.018 -> 0 | Y53: =W53*0.005 -> 0 | Z53: =W53*0.32 -> 0 | AA53: =W53*0.12 -> 0 | AB53: =W53*0.15 -> 0
E54: ಆರಂಭಿಕ ಶಿಲ್ಕು | G54: =G53 -> -0.1 | H54: =H53 -> -0.15 | I54: =I53 -> -0.25 | J54: =J53 -> 0 | K54: =K53 -> 0 | L54: =L53 -> 0 | M54: =M53 -> -0.02 | N54: =N53 -> -0.03 | ... R54: =R53 -> -0.0125 | T54: =A61 -> 46277 | W54: =V54+U54 -> 0 | X54: =W54*0.018 -> 0 | Y54: =W54*0.005 -> 0 | Z54: =W54*0.32 -> 0 | AA54: =W54*0.12 -> 0 | AB54: =W54*0.15 -> 0
E55: ತಿಂಗಳ ಸರಬರಾಜು | G55: 0 | H55: 0 | I55: =H55+G55 -> 0 | J55: 0 | K55: 0 | L55: =K55+J55 -> 0 | M55: 0 | N55: 0 | O55: =N55+M55 -> 0 | P55: 0 | Q55: 0 | R55: =Q55+P55 -> 0 | T55: =A66 -> 46278 | W55: =V55+U55 -> 0 | X55: =W55*0.018 -> 0 | Y55: =W55*0.005 -> 0 | Z55: =W55*0.32 -> 0 | AA55: =W55*0.12 -> 0 | AB55: =W55*0.15 -> 0
A56: 46276 | B56: 0 | C56: 0 | D56: =B56+C56 -> 0 | E56: ಒಟ್ಟು ಆರಂಭಿಕ ಶಿಲ್ಕು | G56: =G54+G55 -> -0.1 | H56: =H54+H55 -> -0.15 | I56: =H56+G56 -> -0.25 | J56: =J54+J55 -> 0 | K56: =K54+K55 -> 0 | L56: =K56+J56 -> 0 | M56: =M54+M55 -> -0.02 | N56: =N54+N55 -> -0.03 | O56: =N56+M56 -> -0.05 | P56: =P54+P55 -> -0.005 | Q56: =Q54+Q55 -> -0.0075 | R56: =Q56+P56 -> -0.0125 | T56: =A71 -> 46279 | W56: =V56+U56 -> 0 | X56: =W56*0.018 -> 0 | Y56: =W56*0.005 -> 0 | Z56: =W56*0.32 -> 0 | AA56: =W56*0.12 -> 0 | AB56: =W56*0.15 -> 0
E57: ಬಳಕೆ | F57: RICE | G57: =IF($F57="RICE",B56*0.1,"") -> 0 | H57: =IF($F57="RICE",C56*0.15,"") -> 0 | I57: =IF($F57="RICE",G57+H57,"") -> 0 | J57: =IF($F57="WHEAT",B56*0.1,"") | K57: =IF($F57="WHEAT",C56*0.15,"") | L57: =IF($F57="WHEAT",J57+K57,"") | M57: =B56*0.02 -> 0 | N57: =C56*0.03 -> 0 | O57: =N57+M57 -> 0 | P57: =B56*0.005 -> 0 | Q57: =C56*0.0075 -> 0 | R57: =Q57+P57 -> 0 | T57: =A76 -> 46280 | W57: =V57+U57 -> 0 | X57: =W57*0.018 -> 0 | Y57: =W57*0.005 -> 0 | Z57: =W57*0.32 -> 0 | AA57: =W57*0.12 -> 0 | AB57: =W57*0.15 -> 0
E58: ಉಳಿಕೆ/ ಒಟ್ಟು | G58: =IF(OR(G57="",G57=0),G56,G56-G57) -> -0.1 | H58: =IF(OR(H57="",H57=0),H56,H56-H57) -> -0.15 | I58: =IF(OR(I57="",I57=0),I56,I56-I57) -> -0.25 | J58: =IF(OR(J57="",J57=0),J56,J56-J57) -> 0 | K58: =IF(OR(K57="",K57=0),K56,K56-K57) -> 0 | L58: =IF(OR(L57="",L57=0),L56,L56-L57) -> 0 | M58: =M56-M57 -> -0.02 | N58: =N56-N57 -> -0.03 | O58: =O56-O57 -> -0.05 | P58: =P56-P57 -> -0.005 | Q58: =Q56-Q57 -> -0.0075 | R58: =R56-R57 -> -0.0125 | T58: =A81 -> 46281 | W58: =V58+U58 -> 0 | X58: =W58*0.018 -> 0 | Y58: =W58*0.005 -> 0 | Z58: =W58*0.32 -> 0 | AA58: =W58*0.12 -> 0 | AB58: =W58*0.15 -> 0
E59: ಆರಂಭಿಕ ಶಿಲ್ಕು | G59: =G58 -> -0.1 | H59: =H58 -> -0.15 | I59: =I58 -> -0.25 | J59: =J58 -> 0 | K59: =K58 -> 0 | L59: =L58 -> 0 | M59: =M58 -> -0.02 | N59: =N58 -> -0.03 | ... R59: =R58 -> -0.0125 | T59: =A86 -> 46282 | W59: =V59+U59 -> 0 | X59: =W59*0.018 -> 0 | Y59: =W59*0.005 -> 0 | Z59: =W59*0.32 -> 0 | AA59: =W59*0.12 -> 0 | AB59: =W59*0.15 -> 0
E60: ತಿಂಗಳ ಸರಬರಾಜು | G60: 0 | H60: 0 | I60: =H60+G60 -> 0 | J60: 0 | K60: 0 | L60: =K60+J60 -> 0 | M60: 0 | N60: 0 | O60: =N60+M60 -> 0 | P60: 0 | Q60: 0 | R60: =Q60+P60 -> 0 | T60: =A91 -> 46283 | W60: =V60+U60 -> 0 | X60: =W60*0.018 -> 0 | Y60: =W60*0.005 -> 0 | Z60: =W60*0.32 -> 0 | AA60: =W60*0.12 -> 0 | AB60: =W60*0.15 -> 0
A61: 46277 | B61: 0 | C61: 0 | D61: =B61+C61 -> 0 | E61: ಒಟ್ಟು ಆರಂಭಿಕ ಶಿಲ್ಕು | G61: =G59+G60 -> -0.1 | H61: =H59+H60 -> -0.15 | I61: =H61+G61 -> -0.25 | J61: =J59+J60 -> 0 | K61: =K59+K60 -> 0 | L61: =K61+J61 -> 0 | M61: =M59+M60 -> -0.02 | N61: =N59+N60 -> -0.03 | O61: =N61+M61 -> -0.05 | P61: =P59+P60 -> -0.005 | Q61: =Q59+Q60 -> -0.0075 | R61: =Q61+P61 -> -0.0125 | T61: =A96 -> 46284 | W61: =V61+U61 -> 0 | X61: =W61*0.018 -> 0 | Y61: =W61*0.005 -> 0 | Z61: =W61*0.32 -> 0 | AA61: =W61*0.12 -> 0 | AB61: =W61*0.15 -> 0
E62: ಬಳಕೆ | F62: RICE | G62: =IF($F62="RICE",B61*0.1,"") -> 0 | H62: =IF($F62="RICE",C61*0.15,"") -> 0 | I62: =IF($F62="RICE",G62+H62,"") -> 0 | J62: =IF($F62="WHEAT",B61*0.1,"") | K62: =IF($F62="WHEAT",C61*0.15,"") | L62: =IF($F62="WHEAT",J62+K62,"") | M62: =B61*0.02 -> 0 | N62: =C61*0.03 -> 0 | O62: =N62+M62 -> 0 | P62: =B61*0.005 -> 0 | Q62: =C61*0.0075 -> 0 | R62: =Q62+P62 -> 0 | T62: =A101 -> 46285 | W62: =V62+U62 -> 0 | X62: =W62*0.018 -> 0 | Y62: =W62*0.005 -> 0 | Z62: =W62*0.32 -> 0 | AA62: =W62*0.12 -> 0 | AB62: =W62*0.15 -> 0
E63: ಉಳಿಕೆ/ ಒಟ್ಟು | G63: =IF(OR(G62="",G62=0),G61,G61-G62) -> -0.1 | H63: =IF(OR(H62="",H62=0),H61,H61-H62) -> -0.15 | I63: =IF(OR(I62="",I62=0),I61,I61-I62) -> -0.25 | J63: =IF(OR(J62="",J62=0),J61,J61-J62) -> 0 | K63: =IF(OR(K62="",K62=0),K61,K61-K62) -> 0 | L63: =IF(OR(L62="",L62=0),L61,L61-L62) -> 0 | M63: =M61-M62 -> -0.02 | N63: =N61-N62 -> -0.03 | O63: =O61-O62 -> -0.05 | P63: =P61-P62 -> -0.005 | Q63: =Q61-Q62 -> -0.0075 | R63: =R61-R62 -> -0.0125 | T63: =A106 -> 46286 | W63: =V63+U63 -> 0 | X63: =W63*0.018 -> 0 | Y63: =W63*0.005 -> 0 | Z63: =W63*0.32 -> 0 | AA63: =W63*0.12 -> 0 | AB63: =W63*0.15 -> 0
E64: ಆರಂಭಿಕ ಶಿಲ್ಕು | G64: =G63 -> -0.1 | H64: =H63 -> -0.15 | I64: =I63 -> -0.25 | J64: =J63 -> 0 | K64: =K63 -> 0 | L64: =L63 -> 0 | M64: =M63 -> -0.02 | N64: =N63 -> -0.03 | ... R64: =R63 -> -0.0125 | T64: =A111 -> 46287 | W64: =V64+U64 -> 0 | X64: =W64*0.018 -> 0 | Y64: =W64*0.005 -> 0 | Z64: =W64*0.32 -> 0 | AA64: =W64*0.12 -> 0 | AB64: =W64*0.15 -> 0
E65: ತಿಂಗಳ ಸರಬರಾಜು | G65: 0 | H65: 0 | I65: =H65+G65 -> 0 | J65: 0 | K65: 0 | L65: =K65+J65 -> 0 | M65: 0 | N65: 0 | O65: =N65+M65 -> 0 | P65: 0 | Q65: 0 | R65: =Q65+P65 -> 0 | T65: =A116 -> 46288 | W65: =V65+U65 -> 0 | X65: =W65*0.018 -> 0 | Y65: =W65*0.005 -> 0 | Z65: =W65*0.32 -> 0 | AA65: =W65*0.12 -> 0 | AB65: =W65*0.15 -> 0
A66: 46278 | B66: 0 | C66: 0 | D66: =B66+C66 -> 0 | E66: ಒಟ್ಟು ಆರಂಭಿಕ ಶಿಲ್ಕು | G66: =G64+G65 -> -0.1 | H66: =H64+H65 -> -0.15 | I66: =H66+G66 -> -0.25 | J66: =J64+J65 -> 0 | K66: =K64+K65 -> 0 | L66: =K66+J66 -> 0 | M66: =M64+M65 -> -0.02 | N66: =N64+N65 -> -0.03 | O66: =N66+M66 -> -0.05 | P66: =P64+P65 -> -0.005 | Q66: =Q64+Q65 -> -0.0075 | R66: =Q66+P66 -> -0.0125 | T66: =A121 -> 46289 | W66: =V66+U66 -> 0 | X66: =W66*0.018 -> 0 | Y66: =W66*0.005 -> 0 | Z66: =W66*0.32 -> 0 | AA66: =W66*0.12 -> 0 | AB66: =W66*0.15 -> 0
E67: ಬಳಕೆ | F67: RICE | G67: =IF($F67="RICE",B66*0.1,"") -> 0 | H67: =IF($F67="RICE",C66*0.15,"") -> 0 | I67: =IF($F67="RICE",G67+H67,"") -> 0 | J67: =IF($F67="WHEAT",B66*0.1,"") | K67: =IF($F67="WHEAT",C66*0.15,"") | L67: =IF($F67="WHEAT",J67+K67,"") | M67: =B66*0.02 -> 0 | N67: =C66*0.03 -> 0 | O67: =N67+M67 -> 0 | P67: =B66*0.005 -> 0 | Q67: =C66*0.0075 -> 0 | R67: =Q67+P67 -> 0 | T67: =A126 -> 46290 | W67: =V67+U67 -> 0 | X67: =W67*0.018 -> 0 | Y67: =W67*0.005 -> 0 | Z67: =W67*0.32 -> 0 | AA67: =W67*0.12 -> 0 | AB67: =W67*0.15 -> 0
E68: ಉಳಿಕೆ/ ಒಟ್ಟು | G68: =IF(OR(G67="",G67=0),G66,G66-G67) -> -0.1 | H68: =IF(OR(H67="",H67=0),H66,H66-H67) -> -0.15 | I68: =IF(OR(I67="",I67=0),I66,I66-I67) -> -0.25 | J68: =IF(OR(J67="",J67=0),J66,J66-J67) -> 0 | K68: =IF(OR(K67="",K67=0),K66,K66-K67) -> 0 | L68: =IF(OR(L67="",L67=0),L66,L66-L67) -> 0 | M68: =M66-M67 -> -0.02 | N68: =N66-N67 -> -0.03 | O68: =O66-O67 -> -0.05 | P68: =P66-P67 -> -0.005 | Q68: =Q66-Q67 -> -0.0075 | R68: =R66-R67 -> -0.0125 | T68: =A131 -> 46291 | W68: =V68+U68 -> 0 | X68: =W68*0.018 -> 0 | Y68: =W68*0.005 -> 0 | Z68: =W68*0.32 -> 0 | AA68: =W68*0.12 -> 0 | AB68: =W68*0.15 -> 0
E69: ಆರಂಭಿಕ ಶಿಲ್ಕು | G69: =G68 -> -0.1 | H69: =H68 -> -0.15 | I69: =I68 -> -0.25 | J69: =J68 -> 0 | K69: =K68 -> 0 | L69: =L68 -> 0 | M69: =M68 -> -0.02 | N69: =N68 -> -0.03 | ... R69: =R68 -> -0.0125 | T69: =A136 -> 46292 | W69: =V69+U69 -> 0 | X69: =W69*0.018 -> 0 | Y69: =W69*0.005 -> 0 | Z69: =W69*0.32 -> 0 | AA69: =W69*0.12 -> 0 | AB69: =W69*0.15 -> 0
E70: ತಿಂಗಳ ಸರಬರಾಜು | G70: 0 | H70: 0 | I70: =H70+G70 -> 0 | J70: 0 | K70: 0 | L70: =K70+J70 -> 0 | M70: 0 | N70: 0 | O70: =N70+M70 -> 0 | P70: 0 | Q70: 0 | R70: =Q70+P70 -> 0 | T70: =A141 -> 46293 | W70: =V70+U70 -> 0 | X70: =W70*0.018 -> 0 | Y70: =W70*0.005 -> 0 | Z70: =W70*0.32 -> 0 | AA70: =W70*0.12 -> 0 | AB70: =W70*0.15 -> 0
A71: 46279 | B71: 0 | C71: 0 | D71: =B71+C71 -> 0 | E71: ಒಟ್ಟು ಆರಂಭಿಕ ಶಿಲ್ಕು | G71: =G69+G70 -> -0.1 | H71: =H69+H70 -> -0.15 | I71: =H71+G71 -> -0.25 | J71: =J69+J70 -> 0 | K71: =K69+K70 -> 0 | L71: =K71+J71 -> 0 | M71: =M69+M70 -> -0.02 | N71: =N69+N70 -> -0.03 | O71: =N71+M71 -> -0.05 | P71: =P69+P70 -> -0.005 | Q71: =Q69+Q70 -> -0.0075 | R71: =Q71+P71 -> -0.0125 | T71: =A146 -> 46294 | W71: =V71+U71 -> 0 | X71: =W71*0.018 -> 0 | Y71: =W71*0.005 -> 0 | Z71: =W71*0.32 -> 0 | AA71: =W71*0.12 -> 0 | AB71: =W71*0.15 -> 0
E72: ಬಳಕೆ | F72: RICE | G72: =IF($F72="RICE",B71*0.1,"") -> 0 | H72: =IF($F72="RICE",C71*0.15,"") -> 0 | I72: =IF($F72="RICE",G72+H72,"") -> 0 | J72: =IF($F72="WHEAT",B71*0.1,"") | K72: =IF($F72="WHEAT",C71*0.15,"") | L72: =IF($F72="WHEAT",J72+K72,"") | M72: =B71*0.02 -> 0 | N72: =C71*0.03 -> 0 | O72: =N72+M72 -> 0 | P72: =B71*0.005 -> 0 | Q72: =C71*0.0075 -> 0 | R72: =Q72+P72 -> 0 | T72: =A151 -> 46295 | W72: =V72+U72 -> 0 | X72: =W72*0.018 -> 0 | Y72: =W72*0.005 -> 0 | Z72: =W72*0.32 -> 0 | AA72: =W72*0.12 -> 0 | AB72: =W72*0.15 -> 0
E73: ಉಳಿಕೆ/ ಒಟ್ಟು | G73: =IF(OR(G72="",G72=0),G71,G71-G72) -> -0.1 | H73: =IF(OR(H72="",H72=0),H71,H71-H72) -> -0.15 | I73: =IF(OR(I72="",I72=0),I71,I71-I72) -> -0.25 | J73: =IF(OR(J72="",J72=0),J71,J71-J72) -> 0 | K73: =IF(OR(K72="",K72=0),K71,K71-K72) -> 0 | L73: =IF(OR(L72="",L72=0),L71,L71-L72) -> 0 | M73: =M71-M72 -> -0.02 | N73: =N71-N72 -> -0.03 | O73: =O71-O72 -> -0.05 | P73: =P71-P72 -> -0.005 | Q73: =Q71-Q72 -> -0.0075 | R73: =R71-R72 -> -0.0125 | T73: =A156 -> 0 | W73: =V73+U73 -> 0 | X73: =W73*0.018 -> 0 | Y73: =W73*0.005 -> 0 | Z73: =W73*0.32 -> 0 | AA73: =W73*0.12 -> 0 | AB73: =W73*0.15 -> 0
E74: ಆರಂಭಿಕ ಶಿಲ್ಕು | G74: =G73 -> -0.1 | H74: =H73 -> -0.15 | I74: =I73 -> -0.25 | J74: =J73 -> 0 | K74: =K73 -> 0 | L74: =L73 -> 0 | M74: =M73 -> -0.02 | N74: =N73 -> -0.03 | ... R74: =R73 -> -0.0125 | T74: TOTAL | U74: =SUM(U43:U73) -> 2 | V74: =SUM(V43:V73) -> 0 | W74: =SUM(W43:W73) -> 2 | X74: =SUM(X43:X73) -> 0.036 | Y74: =W74*0.005 -> 0.01 | Z74: =SUM(Z43:Z73) -> 0.64 | AA74: =SUM(AA43:AA73) -> 0.24 | AB74: =SUM(AB43:AB73) -> 0.3
E75: ತಿಂಗಳ ಸರಬರಾಜು | G75: 0 | H75: 0 | I75: =H75+G75 -> 0 | J75: 0 | K75: 0 | L75: =K75+J75 -> 0 | M75: 0 | N75: 0 | O75: =N75+M75 -> 0 | P75: 0 | Q75: 0 | R75: =Q75+P75 -> 0 | V75: ಕ್ಷೀರಭಾಗ್ಯ ಒಟ್ಟು
A76: 46280 | B76: 0 | C76: 0 | D76: =B76+C76 -> 0 | E76: ಒಟ್ಟು ಆರಂಭಿಕ ಶಿಲ್ಕು | G76: =G74+G75 -> -0.1 | H76: =H74+H75 -> -0.15 | I76: =H76+G76 -> -0.25 | J76: =J74+J75 -> 0 | K76: =K74+K75 -> 0 | L76: =K76+J76 -> 0 | M76: =M74+M75 -> -0.02 | N76: =N74+N75 -> -0.03 | O76: =N76+M76 -> -0.05 | P76: =P74+P75 -> -0.005 | Q76: =Q74+Q75 -> -0.0075 | R76: =Q76+P76 -> -0.0125 | W76: =Z74+AA74+AB74 -> 1.18 | X76: ಸಕ್ಕರೆ, ಇತರೆ, ಗ್ಯಾಸ್
E77: ಬಳಕೆ | F77: RICE | G77: =IF($F77="RICE",B76*0.1,"") -> 0 | H77: =IF($F77="RICE",C76*0.15,"") -> 0 | I77: =IF($F77="RICE",G77+H77,"") -> 0 | J77: =IF($F77="WHEAT",B76*0.1,"") | K77: =IF($F77="WHEAT",C76*0.15,"") | L77: =IF($F77="WHEAT",J77+K77,"") | M77: =B76*0.02 -> 0 | N77: =C76*0.03 -> 0 | O77: =N77+M77 -> 0 | P77: =B76*0.005 -> 0 | Q77: =C76*0.0075 -> 0 | R77: =Q77+P77 -> 0
E78: ಉಳಿಕೆ/ ಒಟ್ಟು | G78: =IF(OR(G77="",G77=0),G76,G76-G77) -> -0.1 | H78: =IF(OR(H77="",H77=0),H76,H76-H77) -> -0.15 | I78: =IF(OR(I77="",I77=0),I76,I76-I77) -> -0.25 | J78: =IF(OR(J77="",J77=0),J76,J76-J77) -> 0 | K78: =IF(OR(K77="",K77=0),K76,K76-K77) -> 0 | L78: =IF(OR(L77="",L77=0),L76,L76-L77) -> 0 | M78: =M76-M77 -> -0.02 | N78: =N76-N77 -> -0.03 | O78: =O76-O77 -> -0.05 | P78: =P76-P77 -> -0.005 | Q78: =Q76-Q77 -> -0.0075 | R78: =R76-R77 -> -0.0125 | W78: =Z74+AA74 -> 0.88 | X78: ಗ್ಯಾಸ್ ಹೊರತುಪಡಿಸಿ
E79: ಆರಂಭಿಕ ಶಿಲ್ಕು | G79: =G78 -> -0.1 | H79: =H78 -> -0.15 | I79: =I78 -> -0.25 | J79: =J78 -> 0 | K79: =K78 -> 0 | L79: =L78 -> 0 | M79: =M78 -> -0.02 | N79: =N78 -> -0.03 | ... R79: =R78 -> -0.0125
E80: ತಿಂಗಳ ಸರಬರಾಜು | G80: 0 | H80: 0 | I80: =H80+G80 -> 0 | J80: 0 | K80: 0 | L80: =K80+J80 -> 0 | M80: 0 | N80: 0 | O80: =N80+M80 -> 0 | P80: 0 | Q80: 0 | R80: =Q80+P80 -> 0
A81: 46281 | B81: 0 | C81: 0 | D81: =B81+C81 -> 0 | E81: ಒಟ್ಟು ಆರಂಭಿಕ ಶಿಲ್ಕು | G81: =G79+G80 -> -0.1 | H81: =H79+H80 -> -0.15 | I81: =H81+G81 -> -0.25 | J81: =J79+J80 -> 0 | K81: =K79+K80 -> 0 | L81: =K81+J81 -> 0 | M81: =M79+M80 -> -0.02 | N81: =N79+N80 -> -0.03 | O81: =N81+M81 -> -0.05 | P81: =P79+P80 -> -0.005 | Q81: =Q79+Q80 -> -0.0075 | R81: =Q81+P81 -> -0.0125
E82: ಬಳಕೆ | F82: RICE | G82: =IF($F82="RICE",B81*0.1,"") -> 0 | H82: =IF($F82="RICE",C81*0.15,"") -> 0 | I82: =IF($F82="RICE",G82+H82,"") -> 0 | J82: =IF($F82="WHEAT",B81*0.1,"") | K82: =IF($F82="WHEAT",C81*0.15,"") | L82: =IF($F82="WHEAT",J82+K82,"") | M82: =B81*0.02 -> 0 | N82: =C81*0.03 -> 0 | O82: =N82+M82 -> 0 | P82: =B81*0.005 -> 0 | Q82: =C81*0.0075 -> 0 | R82: =Q82+P82 -> 0
E83: ಉಳಿಕೆ/ ಒಟ್ಟು | G83: =IF(OR(G82="",G82=0),G81,G81-G82) -> -0.1 | H83: =IF(OR(H82="",H82=0),H81,H81-H82) -> -0.15 | I83: =IF(OR(I82="",I82=0),I81,I81-I82) -> -0.25 | J83: =IF(OR(J82="",J82=0),J81,J81-J82) -> 0 | K83: =IF(OR(K82="",K82=0),K81,K81-K82) -> 0 | L83: =IF(OR(L82="",L82=0),L81,L81-L82) -> 0 | M83: =M81-M82 -> -0.02 | N83: =N81-N82 -> -0.03 | O83: =O81-O82 -> -0.05 | P83: =P81-P82 -> -0.005 | Q83: =Q81-Q82 -> -0.0075 | R83: =R81-R82 -> -0.0125
E84: ಆರಂಭಿಕ ಶಿಲ್ಕು | G84: =G83 -> -0.1 | H84: =H83 -> -0.15 | I84: =I83 -> -0.25 | J84: =J83 -> 0 | K84: =K83 -> 0 | L84: =L83 -> 0 | M84: =M83 -> -0.02 | N84: =N83 -> -0.03 | ... R84: =R83 -> -0.0125
E85: ತಿಂಗಳ ಸರಬರಾಜು | G85: 0 | H85: 0 | I85: =H85+G85 -> 0 | J85: 0 | K85: 0 | L85: =K85+J85 -> 0 | M85: 0 | N85: 0 | O85: =N85+M85 -> 0 | P85: 0 | Q85: 0 | R85: =Q85+P85 -> 0
A86: 46282 | B86: 0 | C86: 0 | D86: =B86+C86 -> 0 | E86: ಒಟ್ಟು ಆರಂಭಿಕ ಶಿಲ್ಕು | G86: =G84+G85 -> -0.1 | H86: =H84+H85 -> -0.15 | I86: =H86+G86 -> -0.25 | J86: =J84+J85 -> 0 | K86: =K84+K85 -> 0 | L86: =K86+J86 -> 0 | M86: =M84+M85 -> -0.02 | N86: =N84+N85 -> -0.03 | O86: =N86+M86 -> -0.05 | P86: =P84+P85 -> -0.005 | Q86: =Q84+Q85 -> -0.0075 | R86: =Q86+P86 -> -0.0125
E87: ಬಳಕೆ | F87: RICE | G87: =IF($F87="RICE",B86*0.1,"") -> 0 | H87: =IF($F87="RICE",C86*0.15,"") -> 0 | I87: =IF($F87="RICE",G87+H87,"") -> 0 | J87: =IF($F87="WHEAT",B86*0.1,"") | K87: =IF($F87="WHEAT",C86*0.15,"") | L87: =IF($F87="WHEAT",J87+K87,"") | M87: =B86*0.02 -> 0 | N87: =C86*0.03 -> 0 | O87: =N87+M87 -> 0 | P87: =B86*0.005 -> 0 | Q87: =C86*0.0075 -> 0 | R87: =Q87+P87 -> 0
E88: ಉಳಿಕೆ/ ಒಟ್ಟು | G88: =IF(OR(G87="",G87=0),G86,G86-G87) -> -0.1 | H88: =IF(OR(H87="",H87=0),H86,H86-H87) -> -0.15 | I88: =IF(OR(I87="",I87=0),I86,I86-I87) -> -0.25 | J88: =IF(OR(J87="",J87=0),J86,J86-J87) -> 0 | K88: =IF(OR(K87="",K87=0),K86,K86-K87) -> 0 | L88: =IF(OR(L87="",L87=0),L86,L86-L87) -> 0 | M88: =M86-M87 -> -0.02 | N88: =N86-N87 -> -0.03 | O88: =O86-O87 -> -0.05 | P88: =P86-P87 -> -0.005 | Q88: =Q86-Q87 -> -0.0075 | R88: =R86-R87 -> -0.0125
E89: ಆರಂಭಿಕ ಶಿಲ್ಕು | G89: =G88 -> -0.1 | H89: =H88 -> -0.15 | I89: =I88 -> -0.25 | J89: =J88 -> 0 | K89: =K88 -> 0 | L89: =L88 -> 0 | M89: =M88 -> -0.02 | N89: =N88 -> -0.03 | ... R89: =R88 -> -0.0125
E90: ತಿಂಗಳ ಸರಬರಾಜು | G90: 0 | H90: 0 | I90: =H90+G90 -> 0 | J90: 0 | K90: 0 | L90: =K90+J90 -> 0 | M90: 0 | N90: 0 | O90: =N90+M90 -> 0 | P90: 0 | Q90: 0 | R90: =Q90+P90 -> 0
A91: 46283 | B91: 0 | C91: 0 | D91: =B91+C91 -> 0 | E91: ಒಟ್ಟು ಆರಂಭಿಕ ಶಿಲ್ಕು | G91: =G89+G90 -> -0.1 | H91: =H89+H90 -> -0.15 | I91: =H91+G91 -> -0.25 | J91: =J89+J90 -> 0 | K91: =K89+K90 -> 0 | L91: =K91+J91 -> 0 | M91: =M89+M90 -> -0.02 | N91: =N89+N90 -> -0.03 | O91: =N91+M91 -> -0.05 | P91: =P89+P90 -> -0.005 | Q91: =Q89+Q90 -> -0.0075 | R91: =Q91+P91 -> -0.0125
E92: ಬಳಕೆ | F92: RICE | G92: =IF($F92="RICE",B91*0.1,"") -> 0 | H92: =IF($F92="RICE",C91*0.15,"") -> 0 | I92: =IF($F92="RICE",G92+H92,"") -> 0 | J92: =IF($F92="WHEAT",B91*0.1,"") | K92: =IF($F92="WHEAT",C91*0.15,"") | L92: =IF($F92="WHEAT",J92+K92,"") | M92: =B91*0.02 -> 0 | N92: =C91*0.03 -> 0 | O92: =N92+M92 -> 0 | P92: =B91*0.005 -> 0 | Q92: =C91*0.0075 -> 0 | R92: =Q92+P92 -> 0
E93: ಉಳಿಕೆ/ ಒಟ್ಟು | G93: =IF(OR(G92="",G92=0),G91,G91-G92) -> -0.1 | H93: =IF(OR(H92="",H92=0),H91,H91-H92) -> -0.15 | I93: =IF(OR(I92="",I92=0),I91,I91-I92) -> -0.25 | J93: =IF(OR(J92="",J92=0),J91,J91-J92) -> 0 | K93: =IF(OR(K92="",K92=0),K91,K91-K92) -> 0 | L93: =IF(OR(L92="",L92=0),L91,L91-L92) -> 0 | M93: =M91-M92 -> -0.02 | N93: =N91-N92 -> -0.03 | O93: =O91-O92 -> -0.05 | P93: =P91-P92 -> -0.005 | Q93: =Q91-Q92 -> -0.0075 | R93: =R91-R92 -> -0.0125
E94: ಆರಂಭಿಕ ಶಿಲ್ಕು | G94: =G93 -> -0.1 | H94: =H93 -> -0.15 | I94: =I93 -> -0.25 | J94: =J93 -> 0 | K94: =K93 -> 0 | L94: =L93 -> 0 | M94: =M93 -> -0.02 | N94: =N93 -> -0.03 | ... R94: =R93 -> -0.0125
E95: ತಿಂಗಳ ಸರಬರಾಜು | G95: 0 | H95: 0 | I95: =H95+G95 -> 0 | J95: 0 | K95: 0 | L95: =K95+J95 -> 0 | M95: 0 | N95: 0 | O95: =N95+M95 -> 0 | P95: 0 | Q95: 0 | R95: =Q95+P95 -> 0
A96: 46284 | B96: 0 | C96: 0 | D96: =B96+C96 -> 0 | E96: ಒಟ್ಟು ಆರಂಭಿಕ ಶಿಲ್ಕು | G96: =G94+G95 -> -0.1 | H96: =H94+H95 -> -0.15 | I96: =H96+G96 -> -0.25 | J96: =J94+J95 -> 0 | K96: =K94+K95 -> 0 | L96: =K96+J96 -> 0 | M96: =M94+M95 -> -0.02 | N96: =N94+N95 -> -0.03 | O96: =N96+M96 -> -0.05 | P96: =P94+P95 -> -0.005 | Q96: =Q94+Q95 -> -0.0075 | R96: =Q96+P96 -> -0.0125
E97: ಬಳಕೆ | F97: RICE | G97: =IF($F97="RICE",B96*0.1,"") -> 0 | H97: =IF($F97="RICE",C96*0.15,"") -> 0 | I97: =IF($F97="RICE",G97+H97,"") -> 0 | J97: =IF($F97="WHEAT",B96*0.1,"") | K97: =IF($F97="WHEAT",C96*0.15,"") | L97: =IF($F97="WHEAT",J97+K97,"") | M97: =B96*0.02 -> 0 | N97: =C96*0.03 -> 0 | O97: =N97+M97 -> 0 | P97: =B96*0.005 -> 0 | Q97: =C96*0.0075 -> 0 | R97: =Q97+P97 -> 0
E98: ಉಳಿಕೆ/ ಒಟ್ಟು | G98: =IF(OR(G97="",G97=0),G96,G96-G97) -> -0.1 | H98: =IF(OR(H97="",H97=0),H96,H96-H97) -> -0.15 | I98: =IF(OR(I97="",I97=0),I96,I96-I97) -> -0.25 | J98: =IF(OR(J97="",J97=0),J96,J96-J97) -> 0 | K98: =IF(OR(K97="",K97=0),K96,K96-K97) -> 0 | L98: =IF(OR(L97="",L97=0),L96,L96-L97) -> 0 | M98: =M96-M97 -> -0.02 | N98: =N96-N97 -> -0.03 | O98: =O96-O97 -> -0.05 | P98: =P96-P97 -> -0.005 | Q98: =Q96-Q97 -> -0.0075 | R98: =R96-R97 -> -0.0125
E99: ಆರಂಭಿಕ ಶಿಲ್ಕು | G99: =G98 -> -0.1 | H99: =H98 -> -0.15 | I99: =I98 -> -0.25 | J99: =J98 -> 0 | K99: =K98 -> 0 | L99: =L98 -> 0 | M99: =M98 -> -0.02 | N99: =N98 -> -0.03 | ... R99: =R98 -> -0.0125
E100: ತಿಂಗಳ ಸರಬರಾಜು | G100: 0 | H100: 0 | I100: =H100+G100 -> 0 | J100: 0 | K100: 0 | L100: =K100+J100 -> 0 | M100: 0 | N100: 0 | O100: =N100+M100 -> 0 | P100: 0 | Q100: 0 | R100: =Q100+P100 -> 0
...

Sheet Sheet3
C2: LKG-UKG | D2: 1ರಿಂದ 5 | E2: 6ರಿಂದ 8
B3: ಅಕ್ಕಿ | C3: 0.100 ಕೆಜಿ | D3: 0.100 ಕೆಜಿ | E3: 0.150 ಕೆಜಿ
B4: ಬೇಳೆ | C4: 0.020 ಕೆಜಿ | D4: 0.020 ಕೆಜಿ | E4: 0.030 ಕೆಜಿ
B5: ಎಣ್ಣೆ | C5: 0.005 ಲೀ | D5: 0.005 ಲೀ | E5: 0.007.5 ಲೀ
B6: ಉಪ್ಪು | C6: 0.002 ಕೆಜಿ | D6: 0.002 ಕೆಜಿ | E6: 0.004 ಕೆಜಿ
C7: 0.04 ರೂ | D7: 0.04 ರೂ | E7: 0.08 ರೂ
B9: ತರಕಾರಿ | C9: 1.80 ರೂ | D9: 1.80 ರೂ | E9: 2.70 ರೂ
B10: ಸಾಂಬಾರ ಪದಾರ್ಥ | C10: 0.55 ರೂ | D10: 0.55 ರೂ | E10: 0.77 ರೂ
B12: ಹಾಲು | C12: 0.018 ಕೆಜಿ | D12: 0.018 ಕೆಜಿ | E12: 0.018 ಕೆಜಿ
B14: ಸಕ್ಕರೆ ಮತ್ತು ಇತರೆ | C14: 0.32 + .012ರೂ | D14: 0.32 + .012ರೂ | E14: 0.32 + .012ರೂ
B15: milk gas | C15: 0.15 | D15: 0.15 | E15: 0.15
B17: EGG GAS | C17: 0.5 | D17: 0.5 | E17: 0.5
