Workbook

Sheet MAY-D
A1: ತಿಂಗಳು | D1: ಶಾಲೆಯ ಹೆಸರು : | Q1: ವರ್ಷ | X1: sukumarkadinakonda@gmail.com
A2: ದಿನಾಂಕ | B2: ಊಟ ಮಾಡಿದ ಮಕ್ಕಳ ಸಂಖ್ಯೆ | F2: ವಿವರ | G2: ಅಕ್ಕಿ | K2: ಗೋಧಿ | O2: ಬೇಳೆ | S2: ಎಣ್ಣೆ | X2: ದಿನಾಂಕ | Y2: ಮೊಟ್ಟೆ ವಿತರಣೆ ಸಂಖ್ಯೆ | Z2: ಬಾಳೆಹಣ್ಣು ವಿತರಣೆ ಸಂಖ್ಯೆ | AA2: ಮೊಟ್ಟೆ ಖರೀದಿ ವಿವರ | AF2: ಬಾಳೆಹಣ್ಣು | AG2: ಬಾಳೆಹಣ್ಣು ಮತ್ತು ಮೊಟ್ಟೆ ಒಟ್ಟು ವೆಚ್ಚ
B3: LKG-UKG | C3: 1 ರಿಂದ 5 | D3: 6 ರಿಂದ 8 | E3: ಒಟ್ಟು | G3: LKG-UKG | H3: 1 ರಿಂದ 5 | I3: 6 ರಿಂದ 8 | J3: ಒಟ್ಟು | K3: LKG-UKG | L3: 1 ರಿಂದ 5 | M3: 6 ರಿಂದ 8 | N3: ಒಟ್ಟು | O3: LKG-UKG | P3: 1 ರಿಂದ 5 | Q3: 6 ರಿಂದ 8 | R3: ಒಟ್ಟು | S3: LKG-UKG | T3: 1 ರಿಂದ 5 | U3: 6 ರಿಂದ 8 | V3: ಒಟ್ಟು | AA3: ಖರೀದಿ ವೆಚ್ಚ | AB3: ಸಾಗಾಣಿಕಾ ವೆಚ್ಚ | AC3: ಬೇಯಿಸಿದ ಬಾಬ್ತು | AD3: ಗ್ಯಾಸ್ ವೆಚ್ಚ | AE3: ಮೊಟ್ಟೆಯ ಒಟ್ಟು ವೆಚ್ಚ | AF3: ಖರೀದಿ ವೆಚ್ಚ
A4: 46174 | B4: Sukumar Kadinakonda | F4: ಆರಂಭಿಕ ಶಿಲ್ಕು | G4: 10 | H4: 0 | I4: 0 | J4: =I4+H4+G4 -> 10 | K4: 50 | L4: 0 | M4: 0 | N4: =M4+L4+K4 -> 50 | O4: 20 | P4: 0 | Q4: 0 | R4: =Q4+P4+O4 -> 20 | S4: 12 | T4: 0 | U4: 0 | V4: =U4+T4+S4 -> 12 | X4: 183 | Y4: 0 | Z4: 0 | AA4: =Y4*5 -> 0 | AB4: =Y4*0.2 -> 0 | AC4: =Y4*0.3 -> 0 | AD4: =Y4*0.5 -> 0 | AE4: =AD4+AC4+AB4+AA4 -> 0 | AF4: =Z4*6 -> 0 | AG4: =AF4+AE4 -> 0
F5: ತಿಂಗಳ ಸರಬರಾಜು | G5: 5 | H5: 0 | I5: 0 | J5: =I5+H5+G5 -> 5 | K5: 0 | L5: 0 | M5: 0 | N5: 2 | O5: 5 | P5: 0 | Q5: 0 | R5: =Q5+P5+O5 -> 5 | S5: 2 | T5: 0 | U5: 0 | V5: =U5+T5+S5 -> 2 | X5: 184 | Y5: 0 | Z5: 0 | AA5: =Y5*5 -> 0 | AB5: =Y5*0.2 -> 0 | AC5: =Y5*0.3 -> 0 | AD5: =Y5*0.5 -> 0 | AE5: =AD5+AC5+AB5+AA5 -> 0 | AF5: =Z5*6 -> 0 | AG5: =AF5+AE5 -> 0
F6: ಒಟ್ಟು ಆರಂಭಿಕ ಶಿಲ್ಕು | G6: =G4+G5 -> 15 | H6: =H4+H5 -> 0 | I6: =I4+I5 -> 0 | J6: =I6+H6+G6 -> 15 | K6: =K4+K5 -> 50 | L6: =L4+L5 -> 0 | M6: =M4+M5 -> 0 | N6: =M6+L6+K6 -> 50 | O6: =O4+O5 -> 25 | P6: =P4+P5 -> 0 | Q6: =Q4+Q5 -> 0 | R6: =Q6+P6+O6 -> 25 | S6: =S4+S5 -> 14 | T6: =T4+T5 -> 0 | U6: =U4+U5 -> 0 | V6: =U6+T6+S6 -> 14 | X6: 185 | Y6: 0 | AA6: =Y6*5 -> 0 | AB6: =Y6*0.2 -> 0 | AC6: =Y6*0.3 -> 0 | AD6: =Y6*0.5 -> 0 | AE6: =AD6+AC6+AB6+AA6 -> 0 | AF6: =Z6*6 -> 0 | AG6: =AF6+AE6 -> 0
B7: 10 | C7: 10 | D7: 10 | E7: =D7+C7+B7 -> 30 | F7: ಬಳಕೆ | G7: =B7*0.1 -> 1 | H7: =C7*0.1 -> 1 | I7: =D7*0.15 -> 1.5 | J7: =I7+H7+G7 -> 3.5 | N7: =M7+L7+K7 -> 0 | O7: =B7*0.02 -> 0.2 | P7: =C7*0.02 -> 0.2 | Q7: =D7*0.03 -> 0.3 | R7: =Q7+P7+O7 -> 0.7 | S7: =B7*0.005 -> 0.05 | T7: =C7*0.005 -> 0.05 | U7: =D7*0.0075 -> 0.075 | V7: =U7+T7+S7 -> 0.175 | X7: 186 | Y7: 0 | AA7: =Y7*5 -> 0 | AB7: =Y7*0.2 -> 0 | AC7: =Y7*0.3 -> 0 | AD7: =Y7*0.5 -> 0 | AE7: =AD7+AC7+AB7+AA7 -> 0 | AF7: =Z7*6 -> 0 | AG7: =AF7+AE7 -> 0
F8: ಉಳಿಕೆ/ ಒಟ್ಟು | G8: =G6-G7 -> 14 | H8: =H6-H7 -> -1 | I8: =I6-I7 -> -1.5 | J8: =J6-J7 -> 11.5 | K8: =K6-K7 -> 50 | L8: =L6-L7 -> 0 | M8: =M6-M7 -> 0 | N8: =N6-N7 -> 50 | ... V8: =V6-V7 -> 13.825 | X8: 187 | Y8: 0 | AA8: =Y8*5 -> 0 | AB8: =Y8*0.2 -> 0 | AC8: =Y8*0.3 -> 0 | AD8: =Y8*0.5 -> 0 | AE8: =AD8+AC8+AB8+AA8 -> 0 | AF8: =Z8*6 -> 0 | AG8: =AF8+AE8 -> 0
A9: 46175 | F9: ಆರಂಭಿಕ ಶಿಲ್ಕು | G9: =G6-G7 -> 14 | H9: =H6-H7 -> -1 | I9: =I6-I7 -> -1.5 | J9: =J6-J7 -> 11.5 | K9: =K6-K7 -> 50 | L9: =L6-L7 -> 0 | M9: =M6-M7 -> 0 | N9: =N6-N7 -> 50 | ... V9: =V6-V7 -> 13.825 | X9: 188 | Y9: 0 | Z9: 0 | AA9: =Y9*5 -> 0 | AB9: =Y9*0.2 -> 0 | AC9: =Y9*0.3 -> 0 | AD9: =Y9*0.5 -> 0 | AE9: =AD9+AC9+AB9+AA9 -> 0 | AF9: =Z9*6 -> 0 | AG9: =AF9+AE9 -> 0
F10: ತಿಂಗಳ ಸರಬರಾಜು | G10: 0 | H10: 0 | I10: 0 | J10: =I10+H10+G10 -> 0 | K10: 0 | L10: 0 | M10: 0 | N10: 2 | O10: 0 | P10: 0 | Q10: 0 | R10: =Q10+P10+O10 -> 0 | S10: 0 | T10: 0 | U10: 0 | V10: =U10+T10+S10 -> 0 | X10: 189 | Y10: 0 | Z10: 0 | AA10: =Y10*5 -> 0 | AB10: =Y10*0.2 -> 0 | AC10: =Y10*0.3 -> 0 | AD10: =Y10*0.5 -> 0 | AE10: =AD10+AC10+AB10+AA10 -> 0 | AF10: =Z10*6 -> 0 | AG10: =AF10+AE10 -> 0
F11: ಒಟ್ಟು ಆರಂಭಿಕ ಶಿಲ್ಕು | G11: =G9+G10 -> 14 | H11: =H9+H10 -> -1 | I11: =I9+I10 -> -1.5 | J11: =I11+H11+G11 -> 11.5 | K11: =K9+K10 -> 50 | L11: =L9+L10 -> 0 | M11: =M9+M10 -> 0 | N11: =M11+L11+K11 -> 50 | O11: =O9+O10 -> 24.8 | P11: =P9+P10 -> -0.2 | Q11: =Q9+Q10 -> -0.3 | R11: =Q11+P11+O11 -> 24.3 | S11: =S9+S10 -> 13.95 | T11: =T9+T10 -> -0.05 | U11: =U9+U10 -> -0.075 | V11: =U11+T11+S11 -> 13.825 | X11: 190 | Y11: 0 | AA11: =Y11*5 -> 0 | AB11: =Y11*0.2 -> 0 | AC11: =Y11*0.3 -> 0 | AD11: =Y11*0.5 -> 0 | AE11: =AD11+AC11+AB11+AA11 -> 0 | AF11: =Z11*6 -> 0 | AG11: =AF11+AE11 -> 0
B12: 9 | C12: 7 | D12: 6 | E12: =D12+C12+B12 -> 22 | F12: ಬಳಕೆ | G12: =B12*0.1 -> 0.9 | H12: =C12*0.1 -> 0.7 | I12: =D12*0.15 -> 0.9 | J12: =I12+H12+G12 -> 2.5 | N12: =M12+L12+K12 -> 0 | O12: =B12*0.02 -> 0.18 | P12: =C12*0.02 -> 0.14 | Q12: =D12*0.03 -> 0.18 | R12: =Q12+P12+O12 -> 0.5 | S12: =B12*0.005 -> 0.045 | T12: =C12*0.005 -> 0.035 | U12: =D12*0.0075 -> 0.045 | V12: =U12+T12+S12 -> 0.125 | X12: 191 | Y12: 0 | AA12: =Y12*5 -> 0 | AB12: =Y12*0.2 -> 0 | AC12: =Y12*0.3 -> 0 | AD12: =Y12*0.5 -> 0 | AE12: =AD12+AC12+AB12+AA12 -> 0 | AF12: =Z12*6 -> 0 | AG12: =AF12+AE12 -> 0
F13: ಉಳಿಕೆ/ ಒಟ್ಟು | G13: =G11-G12 -> 13.1 | H13: =H11-H12 -> -1.7 | I13: =I11-I12 -> -2.4 | J13: =J11-J12 -> 9 | K13: =K11-K12 -> 50 | L13: =L11-L12 -> 0 | M13: =M11-M12 -> 0 | N13: =N11-N12 -> 50 | ... V13: =V11-V12 -> 13.7 | X13: 192 | Y13: 0 | AA13: =Y13*5 -> 0 | AB13: =Y13*0.2 -> 0 | AC13: =Y13*0.3 -> 0 | AD13: =Y13*0.5 -> 0 | AE13: =AD13+AC13+AB13+AA13 -> 0 | AF13: =Z13*6 -> 0 | AG13: =AF13+AE13 -> 0
A14: 46176 | F14: ಆರಂಭಿಕ ಶಿಲ್ಕು | G14: =G11-G12 -> 13.1 | H14: =H11-H12 -> -1.7 | I14: =I11-I12 -> -2.4 | J14: =J11-J12 -> 9 | K14: =K11-K12 -> 50 | L14: =L11-L12 -> 0 | M14: =M11-M12 -> 0 | N14: =N11-N12 -> 50 | ... V14: =V11-V12 -> 13.7 | X14: 193 | Y14: 0 | AA14: =Y14*5 -> 0 | AB14: =Y14*0.2 -> 0 | AC14: =Y14*0.3 -> 0 | AD14: =Y14*0.5 -> 0 | AE14: =AD14+AC14+AB14+AA14 -> 0 | AF14: =Z14*6 -> 0 | AG14: =AF14+AE14 -> 0
F15: ತಿಂಗಳ ಸರಬರಾಜು | G15: 0 | H15: 0 | I15: 0 | J15: =I15+H15+G15 -> 0 | K15: 0 | L15: 0 | M15: 0 | N15: 2 | O15: 0 | P15: 0 | Q15: 0 | R15: =Q15+P15+O15 -> 0 | S15: 0 | T15: 0 | U15: 0 | V15: =U15+T15+S15 -> 0 | X15: 194 | Y15: 0 | AA15: =Y15*5 -> 0 | AB15: =Y15*0.2 -> 0 | AC15: =Y15*0.3 -> 0 | AD15: =Y15*0.5 -> 0 | AE15: =AD15+AC15+AB15+AA15 -> 0 | AF15: =Z15*6 -> 0 | AG15: =AF15+AE15 -> 0
F16: ಒಟ್ಟು ಆರಂಭಿಕ ಶಿಲ್ಕು | G16: =G14+G15 -> 13.1 | H16: =H14+H15 -> -1.7 | I16: =I14+I15 -> -2.4 | J16: =I16+H16+G16 -> 9 | K16: =K14+K15 -> 50 | L16: =L14+L15 -> 0 | M16: =M14+M15 -> 0 | N16: =M16+L16+K16 -> 50 | O16: =O14+O15 -> 24.62 | P16: =P14+P15 -> -0.34 | Q16: =Q14+Q15 -> -0.48 | R16: =Q16+P16+O16 -> 23.8 | S16: =S14+S15 -> 13.905 | T16: =T14+T15 -> -0.085 | U16: =U14+U15 -> -0.12 | V16: =U16+T16+S16 -> 13.7 | X16: 195 | Y16: 0 | AA16: =Y16*5 -> 0 | AB16: =Y16*0.2 -> 0 | AC16: =Y16*0.3 -> 0 | AD16: =Y16*0.5 -> 0 | AE16: =AD16+AC16+AB16+AA16 -> 0 | AF16: =Z16*6 -> 0 | AG16: =AF16+AE16 -> 0
B17: 0 | C17: 0 | D17: 0 | E17: =D17+C17+B17 -> 0 | F17: ಬಳಕೆ | G17: =B17*0.1 -> 0 | H17: =C17*0.1 -> 0 | I17: =D17*0.15 -> 0 | J17: =I17+H17+G17 -> 0 | N17: =M17+L17+K17 -> 0 | O17: =B17*0.02 -> 0 | P17: =C17*0.02 -> 0 | Q17: =D17*0.03 -> 0 | R17: =Q17+P17+O17 -> 0 | S17: =B17*0.005 -> 0 | T17: =C17*0.005 -> 0 | U17: =D17*0.0075 -> 0 | V17: =U17+T17+S17 -> 0 | X17: 196 | Y17: 0 | AA17: =Y17*5 -> 0 | AB17: =Y17*0.2 -> 0 | AC17: =Y17*0.3 -> 0 | AD17: =Y17*0.5 -> 0 | AE17: =AD17+AC17+AB17+AA17 -> 0 | AF17: =Z17*6 -> 0 | AG17: =AF17+AE17 -> 0
F18: ಉಳಿಕೆ/ ಒಟ್ಟು | G18: =G16-G17 -> 13.1 | H18: =H16-H17 -> -1.7 | I18: =I16-I17 -> -2.4 | J18: =J16-J17 -> 9 | K18: =K16-K17 -> 50 | L18: =L16-L17 -> 0 | M18: =M16-M17 -> 0 | N18: =N16-N17 -> 50 | ... V18: =V16-V17 -> 13.7 | X18: 197 | Y18: 0 | AA18: =Y18*5 -> 0 | AB18: =Y18*0.2 -> 0 | AC18: =Y18*0.3 -> 0 | AD18: =Y18*0.5 -> 0 | AE18: =AD18+AC18+AB18+AA18 -> 0 | AF18: =Z18*6 -> 0 | AG18: =AF18+AE18 -> 0
A19: 46177 | F19: ಆರಂಭಿಕ ಶಿಲ್ಕು | G19: =G16-G17 -> 13.1 | H19: =H16-H17 -> -1.7 | I19: =I16-I17 -> -2.4 | J19: =J16-J17 -> 9 | K19: =K16-K17 -> 50 | L19: =L16-L17 -> 0 | M19: =M16-M17 -> 0 | N19: =N16-N17 -> 50 | ... V19: =V16-V17 -> 13.7 | X19: 198 | Y19: 0 | AA19: =Y19*5 -> 0 | AB19: =Y19*0.2 -> 0 | AC19: =Y19*0.3 -> 0 | AD19: =Y19*0.5 -> 0 | AE19: =AD19+AC19+AB19+AA19 -> 0 | AF19: =Z19*6 -> 0 | AG19: =AF19+AE19 -> 0
F20: ತಿಂಗಳ ಸರಬರಾಜು | G20: 0 | H20: 0 | I20: 0 | J20: =I20+H20+G20 -> 0 | K20: 0 | L20: 0 | M20: 0 | N20: 2 | O20: 0 | P20: 0 | Q20: 0 | R20: =Q20+P20+O20 -> 0 | S20: 0 | T20: 0 | U20: 0 | V20: =U20+T20+S20 -> 0 | X20: 199 | Y20: 0 | AA20: =Y20*5 -> 0 | AB20: =Y20*0.2 -> 0 | AC20: =Y20*0.3 -> 0 | AD20: =Y20*0.5 -> 0 | AE20: =AD20+AC20+AB20+AA20 -> 0 | AF20: =Z20*6 -> 0 | AG20: =AF20+AE20 -> 0
F21: ಒಟ್ಟು ಆರಂಭಿಕ ಶಿಲ್ಕು | G21: =G19+G20 -> 13.1 | H21: =H19+H20 -> -1.7 | I21: =I19+I20 -> -2.4 | J21: =I21+H21+G21 -> 9 | K21: =K19+K20 -> 50 | L21: =L19+L20 -> 0 | M21: =M19+M20 -> 0 | N21: =M21+L21+K21 -> 50 | O21: =O19+O20 -> 24.62 | P21: =P19+P20 -> -0.34 | Q21: =Q19+Q20 -> -0.48 | R21: =Q21+P21+O21 -> 23.8 | S21: =S19+S20 -> 13.905 | T21: =T19+T20 -> -0.085 | U21: =U19+U20 -> -0.12 | V21: =U21+T21+S21 -> 13.7 | X21: 200 | Y21: 0 | AA21: =Y21*5 -> 0 | AB21: =Y21*0.2 -> 0 | AC21: =Y21*0.3 -> 0 | AD21: =Y21*0.5 -> 0 | AE21: =AD21+AC21+AB21+AA21 -> 0 | AF21: =Z21*6 -> 0 | AG21: =AF21+AE21 -> 0
B22: 0 | C22: 0 | D22: 0 | E22: =D22+C22+B22 -> 0 | F22: ಬಳಕೆ | G22: =B22*0.1 -> 0 | H22: =C22*0.1 -> 0 | I22: =D22*0.15 -> 0 | J22: =I22+H22+G22 -> 0 | N22: =M22+L22+K22 -> 0 | O22: =B22*0.02 -> 0 | P22: =C22*0.02 -> 0 | Q22: =D22*0.03 -> 0 | R22: =Q22+P22+O22 -> 0 | S22: =B22*0.005 -> 0 | T22: =C22*0.005 -> 0 | U22: =D22*0.0075 -> 0 | V22: =U22+T22+S22 -> 0 | X22: 201 | Y22: 0 | AA22: =Y22*5 -> 0 | AB22: =Y22*0.2 -> 0 | AC22: =Y22*0.3 -> 0 | AD22: =Y22*0.5 -> 0 | AE22: =AD22+AC22+AB22+AA22 -> 0 | AF22: =Z22*6 -> 0 | AG22: =AF22+AE22 -> 0
F23: ಉಳಿಕೆ/ ಒಟ್ಟು | G23: =G21-G22 -> 13.1 | H23: =H21-H22 -> -1.7 | I23: =I21-I22 -> -2.4 | J23: =J21-J22 -> 9 | K23: =K21-K22 -> 50 | L23: =L21-L22 -> 0 | M23: =M21-M22 -> 0 | N23: =N21-N22 -> 50 | ... V23: =V21-V22 -> 13.7 | X23: 202 | Y23: 0 | AA23: =Y23*5 -> 0 | AB23: =Y23*0.2 -> 0 | AC23: =Y23*0.3 -> 0 | AD23: =Y23*0.5 -> 0 | AE23: =AD23+AC23+AB23+AA23 -> 0 | AF23: =Z23*6 -> 0 | AG23: =AF23+AE23 -> 0
A24: 46178 | F24: ಆರಂಭಿಕ ಶಿಲ್ಕು | G24: =G21-G22 -> 13.1 | H24: =H21-H22 -> -1.7 | I24: =I21-I22 -> -2.4 | J24: =J21-J22 -> 9 | K24: =K21-K22 -> 50 | L24: =L21-L22 -> 0 | M24: =M21-M22 -> 0 | N24: =N21-N22 -> 50 | ... V24: =V21-V22 -> 13.7 | X24: 203 | Y24: 0 | AA24: =Y24*5 -> 0 | AB24: =Y24*0.2 -> 0 | AC24: =Y24*0.3 -> 0 | AD24: =Y24*0.5 -> 0 | AE24: =AD24+AC24+AB24+AA24 -> 0 | AF24: =Z24*6 -> 0 | AG24: =AF24+AE24 -> 0
F25: ತಿಂಗಳ ಸರಬರಾಜು | G25: 0 | H25: 0 | I25: 0 | J25: =I25+H25+G25 -> 0 | K25: 0 | L25: 0 | M25: 0 | N25: 2 | O25: 0 | P25: 0 | Q25: 0 | R25: =Q25+P25+O25 -> 0 | S25: 0 | T25: 0 | U25: 0 | V25: =U25+T25+S25 -> 0 | X25: 204 | Y25: 0 | AA25: =Y25*5 -> 0 | AB25: =Y25*0.2 -> 0 | AC25: =Y25*0.3 -> 0 | AD25: =Y25*0.5 -> 0 | AE25: =AD25+AC25+AB25+AA25 -> 0 | AF25: =Z25*6 -> 0 | AG25: =AF25+AE25 -> 0
F26: ಒಟ್ಟು ಆರಂಭಿಕ ಶಿಲ್ಕು | G26: =G24+G25 -> 13.1 | H26: =H24+H25 -> -1.7 | I26: =I24+I25 -> -2.4 | J26: =I26+H26+G26 -> 9 | K26: =K24+K25 -> 50 | L26: =L24+L25 -> 0 | M26: =M24+M25 -> 0 | N26: =M26+L26+K26 -> 50 | O26: =O24+O25 -> 24.62 | P26: =P24+P25 -> -0.34 | Q26: =Q24+Q25 -> -0.48 | R26: =Q26+P26+O26 -> 23.8 | S26: =S24+S25 -> 13.905 | T26: =T24+T25 -> -0.085 | U26: =U24+U25 -> -0.12 | V26: =U26+T26+S26 -> 13.7 | X26: 205 | Y26: 0 | AA26: =Y26*5 -> 0 | AB26: =Y26*0.2 -> 0 | AC26: =Y26*0.3 -> 0 | AD26: =Y26*0.5 -> 0 | AE26: =AD26+AC26+AB26+AA26 -> 0 | AF26: =Z26*6 -> 0 | AG26: =AF26+AE26 -> 0
B27: 0 | C27: 0 | D27: 0 | E27: =D27+C27+B27 -> 0 | F27: ಬಳಕೆ | G27: =B27*0.1 -> 0 | H27: =C27*0.1 -> 0 | I27: =D27*0.15 -> 0 | J27: =I27+H27+G27 -> 0 | N27: =M27+L27+K27 -> 0 | O27: =B27*0.02 -> 0 | P27: =C27*0.02 -> 0 | Q27: =D27*0.03 -> 0 | R27: =Q27+P27+O27 -> 0 | S27: =B27*0.005 -> 0 | T27: =C27*0.005 -> 0 | U27: =D27*0.0075 -> 0 | V27: =U27+T27+S27 -> 0 | X27: 206 | Y27: 0 | AA27: =Y27*5 -> 0 | AB27: =Y27*0.2 -> 0 | AC27: =Y27*0.3 -> 0 | AD27: =Y27*0.5 -> 0 | AE27: =AD27+AC27+AB27+AA27 -> 0 | AF27: =Z27*6 -> 0 | AG27: =AF27+AE27 -> 0
F28: ಉಳಿಕೆ/ ಒಟ್ಟು | G28: =G26-G27 -> 13.1 | H28: =H26-H27 -> -1.7 | I28: =I26-I27 -> -2.4 | J28: =J26-J27 -> 9 | K28: =K26-K27 -> 50 | L28: =L26-L27 -> 0 | M28: =M26-M27 -> 0 | N28: =N26-N27 -> 50 | ... V28: =V26-V27 -> 13.7 | X28: 207 | Y28: 0 | AA28: =Y28*5 -> 0 | AB28: =Y28*0.2 -> 0 | AC28: =Y28*0.3 -> 0 | AD28: =Y28*0.5 -> 0 | AE28: =AD28+AC28+AB28+AA28 -> 0 | AF28: =Z28*6 -> 0 | AG28: =AF28+AE28 -> 0
A29: 46179 | F29: ಆರಂಭಿಕ ಶಿಲ್ಕು | G29: =G26-G27 -> 13.1 | H29: =H26-H27 -> -1.7 | I29: =I26-I27 -> -2.4 | J29: =J26-J27 -> 9 | K29: =K26-K27 -> 50 | L29: =L26-L27 -> 0 | M29: =M26-M27 -> 0 | N29: =N26-N27 -> 50 | ... V29: =V26-V27 -> 13.7 | X29: 208 | Y29: 0 | AA29: =Y29*5 -> 0 | AB29: =Y29*0.2 -> 0 | AC29: =Y29*0.3 -> 0 | AD29: =Y29*0.5 -> 0 | AE29: =AD29+AC29+AB29+AA29 -> 0 | AF29: =Z29*6 -> 0 | AG29: =AF29+AE29 -> 0
F30: ತಿಂಗಳ ಸರಬರಾಜು | G30: 0 | H30: 0 | I30: 0 | J30: =I30+H30+G30 -> 0 | K30: 0 | L30: 0 | M30: 0 | N30: 2 | O30: 0 | P30: 0 | Q30: 0 | R30: =Q30+P30+O30 -> 0 | S30: 0 | T30: 0 | U30: 0 | V30: =U30+T30+S30 -> 0 | X30: 209 | Y30: 0 | AA30: =Y30*5 -> 0 | AB30: =Y30*0.2 -> 0 | AC30: =Y30*0.3 -> 0 | AD30: =Y30*0.5 -> 0 | AE30: =AD30+AC30+AB30+AA30 -> 0 | AF30: =Z30*6 -> 0 | AG30: =AF30+AE30 -> 0
F31: ಒಟ್ಟು ಆರಂಭಿಕ ಶಿಲ್ಕು | G31: =G29+G30 -> 13.1 | H31: =H29+H30 -> -1.7 | I31: =I29+I30 -> -2.4 | J31: =I31+H31+G31 -> 9 | K31: =K29+K30 -> 50 | L31: =L29+L30 -> 0 | M31: =M29+M30 -> 0 | N31: =M31+L31+K31 -> 50 | O31: =O29+O30 -> 24.62 | P31: =P29+P30 -> -0.34 | Q31: =Q29+Q30 -> -0.48 | R31: =Q31+P31+O31 -> 23.8 | S31: =S29+S30 -> 13.905 | T31: =T29+T30 -> -0.085 | U31: =U29+U30 -> -0.12 | V31: =U31+T31+S31 -> 13.7 | X31: 210 | Y31: 0 | AA31: =Y31*5 -> 0 | AB31: =Y31*0.2 -> 0 | AC31: =Y31*0.3 -> 0 | AD31: =Y31*0.5 -> 0 | AE31: =AD31+AC31+AB31+AA31 -> 0 | AF31: =Z31*6 -> 0 | AG31: =AF31+AE31 -> 0
B32: 0 | C32: 0 | D32: 0 | E32: =D32+C32+B32 -> 0 | F32: ಬಳಕೆ | G32: =B32*0.1 -> 0 | H32: =C32*0.1 -> 0 | I32: =D32*0.15 -> 0 | J32: =I32+H32+G32 -> 0 | N32: =M32+L32+K32 -> 0 | O32: =B32*0.02 -> 0 | P32: =C32*0.02 -> 0 | Q32: =D32*0.03 -> 0 | R32: =Q32+P32+O32 -> 0 | S32: =B32*0.005 -> 0 | T32: =C32*0.005 -> 0 | U32: =D32*0.0075 -> 0 | V32: =U32+T32+S32 -> 0 | X32: 211 | Y32: 0 | AA32: =Y32*5 -> 0 | AB32: =Y32*0.2 -> 0 | AC32: =Y32*0.3 -> 0 | AD32: =Y32*0.5 -> 0 | AE32: =AD32+AC32+AB32+AA32 -> 0 | AF32: =Z32*6 -> 0 | AG32: =AF32+AE32 -> 0
F33: ಉಳಿಕೆ/ ಒಟ್ಟು | G33: =G31-G32 -> 13.1 | H33: =H31-H32 -> -1.7 | I33: =I31-I32 -> -2.4 | J33: =J31-J32 -> 9 | K33: =K31-K32 -> 50 | L33: =L31-L32 -> 0 | M33: =M31-M32 -> 0 | N33: =N31-N32 -> 50 | ... V33: =V31-V32 -> 13.7 | X33: 212 | Y33: 0 | AA33: =Y33*5 -> 0 | AB33: =Y33*0.2 -> 0 | AC33: =Y33*0.3 -> 0 | AD33: =Y33*0.5 -> 0 | AE33: =AD33+AC33+AB33+AA33 -> 0 | AF33: =Z33*6 -> 0 | AG33: =AF33+AE33 -> 0
A34: 46180 | F34: ಆರಂಭಿಕ ಶಿಲ್ಕು | G34: =G31-G32 -> 13.1 | H34: =H31-H32 -> -1.7 | I34: =I31-I32 -> -2.4 | J34: =J31-J32 -> 9 | K34: =K31-K32 -> 50 | L34: =L31-L32 -> 0 | M34: =M31-M32 -> 0 | N34: =N31-N32 -> 50 | ... V34: =V31-V32 -> 13.7 | X34: 213 | Y34: 0 | Z34: 0 | AA34: =Y34*5 -> 0 | AB34: =Y34*0.2 -> 0 | AC34: =Y34*0.3 -> 0 | AD34: =Y34*0.5 -> 0 | AE34: =AD34+AC34+AB34+AA34 -> 0 | AF34: =Z34*6 -> 0 | AG34: =AF34+AE34 -> 0
F35: ತಿಂಗಳ ಸರಬರಾಜು | G35: 0 | H35: 0 | I35: 0 | J35: =I35+H35+G35 -> 0 | K35: 0 | L35: 0 | M35: 0 | N35: 2 | O35: 0 | P35: 0 | Q35: 0 | R35: =Q35+P35+O35 -> 0 | S35: 0 | T35: 0 | U35: 0 | V35: =U35+T35+S35 -> 0 | X35: TOTAL | Y35: =SUM(Y4:Y34) -> 0 | Z35: =SUM(Z4:Z34) -> 0 | AA35: =Y35*5 -> 0 | AB35: =Y35*0.2 -> 0 | AC35: =Y35*0.3 -> 0 | AD35: =Y35*0.5 -> 0 | AE35: =AD35+AC35+AB35+AA35 -> 0 | AF35: =Z35*6 -> 0 | AG35: =AF35+AE35 -> 0
F36: ಒಟ್ಟು ಆರಂಭಿಕ ಶಿಲ್ಕು | G36: =G34+G35 -> 13.1 | H36: =H34+H35 -> -1.7 | I36: =I34+I35 -> -2.4 | J36: =I36+H36+G36 -> 9 | K36: =K34+K35 -> 50 | L36: =L34+L35 -> 0 | M36: =M34+M35 -> 0 | N36: =M36+L36+K36 -> 50 | O36: =O34+O35 -> 24.62 | P36: =P34+P35 -> -0.34 | Q36: =Q34+Q35 -> -0.48 | R36: =Q36+P36+O36 -> 23.8 | S36: =S34+S35 -> 13.905 | T36: =T34+T35 -> -0.085 | U36: =U34+U35 -> -0.12 | V36: =U36+T36+S36 -> 13.7 | X36: TOTAL | Y36: EXCLUDING GAS | AE36: =AE35-AD35 -> 0 | AF36: =AF35 -> 0 | AG36: =AE36+AF35 -> 0
B37: 0 | C37: 0 | D37: 0 | E37: =D37+C37+B37 -> 0 | F37: ಬಳಕೆ | G37: =B37*0.1 -> 0 | H37: =C37*0.1 -> 0 | I37: =D37*0.15 -> 0 | J37: =I37+H37+G37 -> 0 | N37: =M37+L37+K37 -> 0 | O37: =B37*0.02 -> 0 | P37: =C37*0.02 -> 0 | Q37: =D37*0.03 -> 0 | R37: =Q37+P37+O37 -> 0 | S37: =B37*0.005 -> 0 | T37: =C37*0.005 -> 0 | U37: =D37*0.0075 -> 0 | V37: =U37+T37+S37 -> 0 | X37: ¸ÀgÀPÁgÀzÀ ªÀw¬ÄAzÀ ¤ÃqÀÄªÀ 2 ¢£ÀzÀ (ªÉÆmÉÖ/¨Á¼ÉºÀtÄÚ/ ±ÉÃAUÁ aQÌ MlÄÖ RZÀÄð ªÀiÁvÀæ) | AC37: 250
F38: ಉಳಿಕೆ/ ಒಟ್ಟು | G38: =G36-G37 -> 13.1 | H38: =H36-H37 -> -1.7 | I38: =I36-I37 -> -2.4 | J38: =J36-J37 -> 9 | K38: =K36-K37 -> 50 | L38: =L36-L37 -> 0 | M38: =M36-M37 -> 0 | N38: =N36-N37 -> 50 | ... V38: =V36-V37 -> 13.7 | X38: CfÃA ¥ÉæÃªÀiïf ¥ËAqÉÃ±À£ï ªÀw¬ÄAzÀ (ªÉÆmÉÖ/¨Á¼ÉºÀtÄÚ/ ±ÉÃAUÁ aQÌ MlÄÖ RZÀÄð ªÀiÁvÀæ) | AC38: 125 | AD38: =AC37+AC38 -> 375
A39: 46181 | F39: ಆರಂಭಿಕ ಶಿಲ್ಕು | G39: =G36-G37 -> 13.1 | H39: =H36-H37 -> -1.7 | I39: =I36-I37 -> -2.4 | J39: =J36-J37 -> 9 | K39: =K36-K37 -> 50 | L39: =L36-L37 -> 0 | M39: =M36-M37 -> 0 | N39: =N36-N37 -> 50 | ... V39: =V36-V37 -> 13.7
F40: ತಿಂಗಳ ಸರಬರಾಜು | G40: 0 | H40: 0 | I40: 0 | J40: =I40+H40+G40 -> 0 | K40: 0 | L40: 0 | M40: 0 | N40: 2 | O40: 0 | P40: 0 | Q40: 0 | R40: =Q40+P40+O40 -> 0 | S40: 0 | T40: 0 | U40: 0 | V40: =U40+T40+S40 -> 0 | X40: ಕ್ಷೀರಭಾಗ್ಯ ವಿತರಣೆ ವಿವರ
...

Sheet MAY-M
A1: Mid Day Meal Scheme sukumarkadinakonda@gmail.com
A2: School Monthly Data Capture Format (MDCF)
A3: Instructions: Keep following registers at the time of filling the form:-
A4: 1) Enrolment Register. 2) Account 3) Bank Account Pass book. 4) Cooking cost details etc.
A5: School Details | E5: 2026-27
A6: School Name :
A7: School Dise Code: | G7: Block (ªÀ®AiÀÄzÀ ºÉ¸ÀgÀÄ) : | K7: Village/Ward :
A8: Cluster Name: | G8: School HM Name & Mobile No:
B9: Enrollment | F9: No. of Children having Aadhaar Card. | I9: No. of children applied for Aadhaar | L9: Children without Aadhaar Card (Yet to aaply for Aadhaar)
C11: 1 HPS / HS | F11: 2 HPS / HS | I11: 3 HPS / HS
B12: Bal Vatika (LKG UKG) | C12: (1-5) | D12: (6-8) | E12: Total | F12: LKG UKG, (1-5) | G12: (6-8) | H12: Total | I12: LKG UKG, (1-5) | J12: (6-8) | K12: Total | L12: LKG UKG (1-5) | M12: (6-8) | N12: Total
B13: 0 | C13: 0 | D13: 0 | E13: =B13+C13+D13 -> 0 | F13: 0 | G13: 0 | H13: =F13+G13 -> 0 | I13: 0 | J13: 0 | K13: =I13+J13 -> 0 | L13: =C13-F13-I13 -> 0 | M13: =D13-G13-J13 -> 0 | N13: =L13+M13 -> 0
A14: ±Á¯Á C.zÁ. ¨ÁåAQ£À ºÉ¸ÀgÀÄ / ¨ÁæAZï ºÉ¸ÀgÀÄ ªÀÄvÀÄÛ «¼Á¸À : B
A15: Bank A/c No : | I15: IFSC CODE:
A17: UÁå¸ï KeÉ¤ìAiÀÄ ºÉ¸ÀgÀÄ ªÀÄvÀÄÛ «¼Á¸À : | J17: Gas Company Name : | M17: IOC / HP
A18: UÁå¸ï KeÉ¤ì¬ÄAzÀ ±Á¯ÉUÉ EgÀÄªÀ zÀÆgÀ (Q¯ÉÆÃ «ÄÃlgïUÀ¼À°è) : | J18: ±Á¯ÉAiÀÄ°ègÀÄªÀ MlÄÖ ¹°AqÀgïUÀ¼À ¸ÀASÉå :
A20: Total Enrollment ( zÁR¯Áw ªÀÄPÀÌ¼À ¸ÀASÉå) | H20: Total Enrollment (©¹AiÀÄÆl ªÀiÁqÀÄªÀ ¥sÀ¯Á£ÀÄ¨sÀ«UÀ¼À ªÀÄPÀÌ¼À ¸ÀASÉå)
A21: Enrollment | B21: Bal Vatika (LKG UKG) | C21: (1-5) | D21: (6-7) | E21: 8 | F21: (9-10) | G21: Total | H21: Bal Vatika (LKG UKG) | I21: (1-5) | J21: (6-7) | K21: 8 | L21: (9-10) | M21: Total
A22: Boys | B22: 0 | C22: 0 | D22: 0 | E22: 0 | F22: 0 | G22: =B22+C22+D22+E22+F22 -> 0 | H22: 0 | I22: 0 | J22: 0 | K22: 0 | L22: 0 | M22: =L22+K22+J22+I22+H22 -> 0
A23: Girls | B23: 0 | E23: 0 | F23: 0 | G23: =B23+C23+D23+E23+F23 -> 0 | H23: 0 | I23: 0 | J23: 0 | K23: 0 | L23: 0 | M23: =L23+K23+J23+I23+H23 -> 0
A24: Total | B24: =B23+B22 -> 0 | C24: =C23+C22 -> 0 | D24: =D23+D22 -> 0 | E24: =E23+E22 -> 0 | F24: =F23+F22 -> 0 | G24: =G23+G22 -> 0 | H24: =H23+H22 -> 0 | I24: =SUM(I22:I23) -> 0 | J24: =SUM(J22:J23) -> 0 | K24: =SUM(K22:K23) -> 0 | L24: =L23+L22 -> 0 | M24: =L24+K24+J24+I24+H24 -> 0
H25: TOTAL 6-8 | J25: =J24+K24 -> 0
A26: Meals Availed Status | D26: (¥sÀ¯Á£ÀÄ¨sÀ« «zÁåyðUÀ¼À HlUÀ¼À ¸ÀASÉå) | J26: QëÃgÀ¨sÁUÀå ¥sÀ¯Á£ÀÄ¨sÀ«UÀ¼À ¸ÀASÉå
D27: Bal Vatika (LKG UKG) | E27: Primary (1-5) | F27: U.P (6-8) | G27: H.S (9-10) | H27: Total | J27: vÀgÀUÀw | K27: ºÁ®Ä PÀÄrzÀ ªÀÄPÀÌ¼À ¸ÀASÉå | M27: ¤ÃrzÀ ¢£ÀUÀ¼À ¸ÀASÉå
J28: LKG UKG | K28: 4 | M28: 6
A29: 1) No of School Days During Month (wAUÀ¼À MlÄÖ PÉ®¸ÀzÀ ¢£À) | D29: 4 | E29: 3 | F29: 5 | G29: 2 | H29: =G29+F29+E29+D29 -> 14 | J29: (1-5) | K29: 3
A30: 2) Actual No of Days M.D.M. Served (Hl ¤ÃrzÀ ¢£ÀUÀ¼À¸ÀASÉå) | D30: 5 | E30: 7 | F30: 0 | G30: 0 | H30: =G30+F30+E30+D30 -> 12 | J30: (6-8) | K30: 5 | M30: 0
A31: 3) Total Meals Served During the Month (ºÁdgÁw HlUÀ¼À ¸ÀASÉå) | D31: =H24 -> 0 | E31: =I24 -> 0 | F31: =J25 -> 0 | G31: =L24 -> 0 | H31: =G31+F31+E31+D31 -> 0 | J31: (9-10) | K31: 6 | M31: 0
J32: TOTAL | K32: =K28+K29+K30+K31 -> 18 | M32: =M28+M29+M30+M31 -> 6
A33: Cook-cum-helper details (CqÀÄUÉ ¹§âA¢AiÀÄªÀgÀ «ªÀgÀ)
A34: Cook-cum-helper Name (CqÀÄUÉ ¹§âA¢AiÀÄªÀgÀ ºÉ¸ÀgÀÄ) | C34: ªÀÄÄRå CqÀÄUÉ/ ¸À.CqÀÄUÉAiÀÄªÀgÉÃ | D34: eÁw (SC/ST/ OBC/ Gen/ minority) | F34: Age/ Date of Birth | G34: Joining year | H34: «zÁåºÀðvÉ | I34: NO of working days. | J34: NO of Attendence | K34: C.¹§âA¢AiÀÄªÀgÀÄ ¥ÀæzsÁ£À ªÀÄAwæ ¸ÀÄgÀPÁë ©üÃªÀiÁ AiÉÆÃd£É (PMSBY Scheme) £ÉÆAzÀtÂ ªÀiÁqÀ¯ÁVzÉAiÉÄÃ? (ºËzÀÄ/E®è) | M34: ¥ÀæzsÁ£À ªÀÄAwæ fÃªÀ£ï eÉÆåÃw ©üÃªÀiÁ AiÉÆÃd£É (PMJJBY Scheme) £ÉÆAzÀtÂ ªÀiÁqÀ¯ÁVzÉAiÉÄÃ? (ºËzÀÄ/E®è)
A35: 1 | C35: ಮುಖ್ಯ ಅಡುಗೆ
A36: 2 | C36: ಸಹಾಯಕ
A37: 3
A38: 4
A39: 5
A40: No of cook cum Helpers trained during the month :
A42: Cooking Cost Details (in Rs.) (vÀgÀPÁj/UÁå¸ï ªÀÄvÀÄÛ QëÃgÀ¨sÁUÀå, ªÉÆmÉÖ/¨Á¼ÉºÀtÄÚ/±ÉÃAUÁ aQÌ ºÁUÀÆ JuÉÚ, G¥ÀÄà ªÀÄvÀÄÛ EvÀgÉ RjÃ¢ ¸Á¢¯ÁégÀÄ Rað£À «ªÀgÀ)
A43: ¸Á¢¯ÁégÀÄ «ªÀgÀ | E43: DgÀA©üPÀ ±ÀÄ®ÄÌ | G43: ©qÀÄUÀqÉAiÀiÁzÀ C£ÀÄzÁ£À | I43: (MlÄÖ ªÉÆvÀÛ) | K43: (wAUÀ½£À MlÄÖ RZÀÄð) | M43: CAwªÀÄ G½PÉ
E44: 1 | G44: 2 | I44: 3 = (1+2) | K44: 4 | M44: 5 = (3-4)
...

Sheet SEP
A1: ತಿಂಗಳು ಮತ್ತು ವರ್ಷ | E1: ಶಾಲೆಯ ಹೆಸರು | P1: ಸುಕುಮಾರ್ ಕಾಡಿನಕೊಂಡ | T1: sukumarkadinakonda@gmail.com
A2: ದಿನಾಂಕ | B2: ಊಟ ಮಾಡಿದ ಮಕ್ಕಳ ಸಂಖ್ಯೆ | E2: ವಿವರ | F2: ಅಕ್ಕಿ / ಗೋಧಿ | G2: ಅಕ್ಕಿ | J2: ಗೋಧಿ | M2: ಬೇಳೆ | P2: ಎಣ್ಣೆ | T2: ದಿನಾಂಕ | U2: ಮೊಟ್ಟೆ ವಿತರಣೆ | W2: ಮೊಟ್ಟೆ ವಿತರಣೆ ಸಂಖ್ಯೆ | X2: ಮೊಟ್ಟೆ ಖರೀದಿ ವಿವರ | AC2: ಬಾಳೆಹಣ್ಣು ವಿತರಣೆ | AG2: ಬಾಳೆಹಣ್ಣು ಮತ್ತು ಮೊಟ್ಟೆ ಒಟ್ಟು ವೆಚ್ಚ
B3: 1 ರಿಂದ 5 | C3: 6 ರಿಂದ 8 | D3: ಒಟ್ಟು | G3: 1 ರಿಂದ 5 | H3: 6 ರಿಂದ 8 | I3: ಒಟ್ಟು | J3: 1 ರಿಂದ 5 | K3: 6 ರಿಂದ 8 | L3: ಒಟ್ಟು | M3: 1 ರಿಂದ 5 | N3: 6 ರಿಂದ 8 | O3: ಒಟ್ಟು | P3: 1 ರಿಂದ 5 | Q3: 6 ರಿಂದ 8 | R3: ಒಟ್ಟು | U3: 1 ರಿಂದ 5 | V3: 6 ರಿಂದ 8 | X3: ಖರೀದಿ ವೆಚ್ಚ | Y3: ಸಾಗಾಣಿಕಾ ವೆಚ್ಚ | Z3: ಬೇಯಿಸಿದ ಬಾಬ್ತು | AA3: ಗ್ಯಾಸ್ ವೆಚ್ಚ | AB3: ಮೊಟ್ಟೆಯ ಒಟ್ಟು ವೆಚ್ಚ | AC3: 1 ರಿಂದ 5 | AD3: 6 ರಿಂದ 8 | AE3: ಬಾಳೆಹಣ್ಣು ವಿತರಣೆ | AF3: ಬಾಳೆಹಣ್ಣು ವೆಚ್ಚ
E4: ಆರಂಭಿಕ ಶಿಲ್ಕು | G4: 0 | H4: 0 | I4: =H4+G4 -> 0 | J4: 0 | K4: 0 | L4: =K4+J4 -> 0 | M4: 0 | N4: 0 | O4: =N4+M4 -> 0 | P4: 0 | Q4: 0 | R4: =Q4+P4 -> 0 | T4: =A6 -> 46266 | U4: 1 | V4: 1 | W4: =V4+U4 -> 2 | X4: =W4*5 -> 10 | Y4: =W4*0.2 -> 0.4 | Z4: =W4*0.3 -> 0.6 | AA4: =W4*0.5 -> 1 | AB4: =AA4+Z4+Y4+X4 -> 12 | AC4: 1 | AD4: 1 | AE4: =AD4+AC4 -> 2 | AF4: =AE4*6 -> 12 | AG4: =AF4+AB4 -> 24
E5: ತಿಂಗಳ ಸರಬರಾಜು | G5: 0 | H5: 0 | I5: =H5+G5 -> 0 | J5: 0 | K5: 0 | L5: =K5+J5 -> 0 | M5: 0 | N5: 0 | O5: =N5+M5 -> 0 | P5: 0 | Q5: 0 | R5: =Q5+P5 -> 0 | T5: =A11 -> 46267 | U5: 0 | V5: 0 | W5: =V5+U5 -> 0 | X5: =W5*5 -> 0 | Y5: =W5*0.2 -> 0 | Z5: =W5*0.3 -> 0 | AA5: =W5*0.5 -> 0 | AB5: =AA5+Z5+Y5+X5 -> 0 | AC5: 0 | AD5: 0 | AE5: =AD5+AC5 -> 0 | AF5: =AE5*6 -> 0 | AG5: =AF5+AB5 -> 0
A6: 46266 | B6: 1 | C6: 1 | D6: =B6+C6 -> 2 | E6: ಒಟ್ಟು ಆರಂಭಿಕ ಶಿಲ್ಕು | G6: =G4+G5 -> 0 | H6: =H4+H5 -> 0 | I6: =H6+G6 -> 0 | J6: =J4+J5 -> 0 | K6: =K4+K5 -> 0 | L6: =K6+J6 -> 0 | M6: =M4+M5 -> 0 | N6: =N4+N5 -> 0 | O6: =N6+M6 -> 0 | P6: =P4+P5 -> 0 | Q6: =Q4+Q5 -> 0 | R6: =Q6+P6 -> 0 | T6: =A16 -> 46268 | U6: 0 | V6: 0 | W6: =V6+U6 -> 0 | X6: =W6*5 -> 0 | Y6: =W6*0.2 -> 0 | Z6: =W6*0.3 -> 0 | AA6: =W6*0.5 -> 0 | AB6: =AA6+Z6+Y6+X6 -> 0 | AC6: 0 | AD6: 0 | AE6: =AD6+AC6 -> 0 | AF6: =AE6*6 -> 0 | AG6: =AF6+AB6 -> 0
E7: ಬಳಕೆ | F7: RICE | G7: =IF($F7="RICE",B6*0.1,"") -> 0.1 | H7: =IF($F7="RICE",C6*0.15,"") -> 0.15 | I7: =IF($F7="RICE",G7+H7,"") -> 0.25 | J7: =IF($F7="WHEAT",B6*0.1,"") | K7: =IF($F7="WHEAT",C6*0.15,"") | L7: =IF($F7="WHEAT",J7+K7,"") | M7: =B6*0.02 -> 0.02 | N7: =C6*0.03 -> 0.03 | O7: =N7+M7 -> 0.05 | P7: =B6*0.005 -> 0.005 | Q7: =C6*0.0075 -> 0.0075 | R7: =Q7+P7 -> 0.0125 | T7: =A21 -> 46269 | U7: 0 | V7: 0 | W7: =V7+U7 -> 0 | X7: =W7*5 -> 0 | Y7: =W7*0.2 -> 0 | Z7: =W7*0.3 -> 0 | AA7: =W7*0.5 -> 0 | AB7: =AA7+Z7+Y7+X7 -> 0 | AC7: 0 | AD7: 0 | AE7: =AD7+AC7 -> 0 | AF7: =AE7*6 -> 0 | AG7: =AF7+AB7 -> 0
E8: ಉಳಿಕೆ/ ಒಟ್ಟು | G8: =IF(OR(G7="",G7=0),G6,G6-G7) -> -0.1 | H8: =IF(OR(H7="",H7=0),H6,H6-H7) -> -0.15 | I8: =IF(OR(I7="",I7=0),I6,I6-I7) -> -0.25 | J8: =IF(OR(J7="",J7=0),J6,J6-J7) -> 0 | K8: =IF(OR(K7="",K7=0),K6,K6-K7) -> 0 | L8: =IF(OR(L7="",L7=0),L6,L6-L7) -> 0 | M8: =M6-M7 -> -0.02 | N8: =N6-N7 -> -0.03 | O8: =O6-O7 -> -0.05 | P8: =P6-P7 -> -0.005 | Q8: =Q6-Q7 -> -0.0075 | R8: =R6-R7 -> -0.0125 | T8: =A26 -> 46270 | U8: 0 | V8: 0 | W8: =V8+U8 -> 0 | X8: =W8*5 -> 0 | Y8: =W8*0.2 -> 0 | Z8: =W8*0.3 -> 0 | AA8: =W8*0.5 -> 0 | AB8: =AA8+Z8+Y8+X8 -> 0 | AC8: 0 | AD8: 0 | AE8: =AD8+AC8 -> 0 | AF8: =AE8*6 -> 0 | AG8: =AF8+AB8 -> 0
E9: ಆರಂಭಿಕ ಶಿಲ್ಕು | G9: =G8 -> -0.1 | H9: =H8 -> -0.15 | I9: =I8 -> -0.25 | J9: =J8 -> 0 | K9: =K8 -> 0 | L9: =L8 -> 0 | M9: =M8 -> -0.02 | N9: =N8 -> -0.03 | ... R9: =R8 -> -0.0125 | T9: =A31 -> 46271 | U9: 0 | V9: 0 | W9: =V9+U9 -> 0 | X9: =W9*5 -> 0 | Y9: =W9*0.2 -> 0 | Z9: =W9*0.3 -> 0 | AA9: =W9*0.5 -> 0 | AB9: =AA9+Z9+Y9+X9 -> 0 | AC9: 0 | AD9: 0 | AE9: =AD9+AC9 -> 0 | AF9: =AE9*6 -> 0 | AG9: =AF9+AB9 -> 0
E10: ತಿಂಗಳ ಸರಬರಾಜು | G10: 0 | H10: 0 | I10: =H10+G10 -> 0 | J10: 0 | K10: 0 | L10: =K10+J10 -> 0 | M10: 0 | N10: 0 | O10: =N10+M10 -> 0 | P10: 0 | Q10: 0 | R10: =Q10+P10 -> 0 | T10: =A36 -> 46272 | U10: 0 | V10: 0 | W10: =V10+U10 -> 0 | X10: =W10*5 -> 0 | Y10: =W10*0.2 -> 0 | Z10: =W10*0.3 -> 0 | AA10: =W10*0.5 -> 0 | AB10: =AA10+Z10+Y10+X10 -> 0 | AC10: 0 | AD10: 0 | AE10: =AD10+AC10 -> 0 | AF10: =AE10*6 -> 0 | AG10: =AF10+AB10 -> 0
A11: 46267 | B11: 0 | C11: 0 | D11: =B11+C11 -> 0 | E11: ಒಟ್ಟು ಆರಂಭಿಕ ಶಿಲ್ಕು | G11: =G9+G10 -> -0.1 | H11: =H9+H10 -> -0.15 | I11: =H11+G11 -> -0.25 | J11: =J9+J10 -> 0 | K11: =K9+K10 -> 0 | L11: =K11+J11 -> 0 | M11: =M9+M10 -> -0.02 | N11: =N9+N10 -> -0.03 | O11: =N11+M11 -> -0.05 | P11: =P9+P10 -> -0.005 | Q11: =Q9+Q10 -> -0.0075 | R11: =Q11+P11 -> -0.0125 | T11: =A41 -> 46273 | U11: 0 | V11: 0 | W11: =V11+U11 -> 0 | X11: =W11*5 -> 0 | Y11: =W11*0.2 -> 0 | Z11: =W11*0.3 -> 0 | AA11: =W11*0.5 -> 0 | AB11: =AA11+Z11+Y11+X11 -> 0 | AC11: 0 | AD11: 0 | AE11: =AD11+AC11 -> 0 | AF11: =AE11*6 -> 0 | AG11: =AF11+AB11 -> 0
E12: ಬಳಕೆ | F12: RICE | G12: =IF($F12="RICE",B11*0.1,"") -> 0 | H12: =IF($F12="RICE",C11*0.15,"") -> 0 | I12: =IF($F12="RICE",G12+H12,"") -> 0 | J12: =IF($F12="WHEAT",B11*0.1,"") | K12: =IF($F12="WHEAT",C11*0.15,"") | L12: =IF($F12="WHEAT",J12+K12,"") | M12: =B11*0.02 -> 0 | N12: =C11*0.03 -> 0 | O12: =N12+M12 -> 0 | P12: =B11*0.005 -> 0 | Q12: =C11*0.0075 -> 0 | R12: =Q12+P12 -> 0 | T12: =A46 -> 46274 | U12: 0 | V12: 0 | W12: =V12+U12 -> 0 | X12: =W12*5 -> 0 | Y12: =W12*0.2 -> 0 | Z12: =W12*0.3 -> 0 | AA12: =W12*0.5 -> 0 | AB12: =AA12+Z12+Y12+X12 -> 0 | AC12: 0 | AD12: 0 | AE12: =AD12+AC12 -> 0 | AF12: =AE12*6 -> 0 | AG12: =AF12+AB12 -> 0
E13: ಉಳಿಕೆ/ ಒಟ್ಟು | G13: =IF(OR(G12="",G12=0),G11,G11-G12) -> -0.1 | H13: =IF(OR(H12="",H12=0),H11,H11-H12) -> -0.15 | I13: =IF(OR(I12="",I12=0),I11,I11-I12) -> -0.25 | J13: =IF(OR(J12="",J12=0),J11,J11-J12) -> 0 | K13: =IF(OR(K12="",K12=0),K11,K11-K12) -> 0 | L13: =IF(OR(L12="",L12=0),L11,L11-L12) -> 0 | M13: =M11-M12 -> -0.02 | N13: =N11-N12 -> -0.03 | O13: =O11-O12 -> -0.05 | P13: =P11-P12 -> -0.005 | Q13: =Q11-Q12 -> -0.0075 | R13: =R11-R12 -> -0.0125 | T13: =A51 -> 46275 | U13: 0 | V13: 0 | W13: =V13+U13 -> 0 | X13: =W13*5 -> 0 | Y13: =W13*0.2 -> 0 | Z13: =W13*0.3 -> 0 | AA13: =W13*0.5 -> 0 | AB13: =AA13+Z13+Y13+X13 -> 0 | AC13: 0 | AD13: 0 | AE13: =AD13+AC13 -> 0 | AF13: =AE13*6 -> 0 | AG13: =AF13+AB13 -> 0
E14: ಆರಂಭಿಕ ಶಿಲ್ಕು | G14: =G13 -> -0.1 | H14: =H13 -> -0.15 | I14: =I13 -> -0.25 | J14: =J13 -> 0 | K14: =K13 -> 0 | L14: =L13 -> 0 | M14: =M13 -> -0.02 | N14: =N13 -> -0.03 | ... R14: =R13 -> -0.0125 | T14: =A56 -> 46276 | U14: 0 | V14: 0 | W14: =V14+U14 -> 0 | X14: =W14*5 -> 0 | Y14: =W14*0.2 -> 0 | Z14: =W14*0.3 -> 0 | AA14: =W14*0.5 -> 0 | AB14: =AA14+Z14+Y14+X14 -> 0 | AC14: 0 | AD14: 0 | AE14: =AD14+AC14 -> 0 | AF14: =AE14*6 -> 0 | AG14: =AF14+AB14 -> 0
E15: ತಿಂಗಳ ಸರಬರಾಜು | G15: 0 | H15: 0 | I15: =H15+G15 -> 0 | J15: 0 | K15: 0 | L15: =K15+J15 -> 0 | M15: 0 | N15: 0 | O15: =N15+M15 -> 0 | P15: 0 | Q15: 0 | R15: =Q15+P15 -> 0 | T15: =A61 -> 46277 | U15: 0 | V15: 0 | W15: =V15+U15 -> 0 | X15: =W15*5 -> 0 | Y15: =W15*0.2 -> 0 | Z15: =W15*0.3 -> 0 | AA15: =W15*0.5 -> 0 | AB15: =AA15+Z15+Y15+X15 -> 0 | AC15: 0 | AD15: 0 | AE15: =AD15+AC15 -> 0 | AF15: =AE15*6 -> 0 | AG15: =AF15+AB15 -> 0
A16: 46268 | B16: 0 | C16: 0 | D16: =B16+C16 -> 0 | E16: ಒಟ್ಟು ಆರಂಭಿಕ ಶಿಲ್ಕು | G16: =G14+G15 -> -0.1 | H16: =H14+H15 -> -0.15 | I16: =H16+G16 -> -0.25 | J16: =J14+J15 -> 0 | K16: =K14+K15 -> 0 | L16: =K16+J16 -> 0 | M16: =M14+M15 -> -0.02 | N16: =N14+N15 -> -0.03 | O16: =N16+M16 -> -0.05 | P16: =P14+P15 -> -0.005 | Q16: =Q14+Q15 -> -0.0075 | R16: =Q16+P16 -> -0.0125 | T16: =A66 -> 46278 | U16: 0 | V16: 0 | W16: =V16+U16 -> 0 | X16: =W16*5 -> 0 | Y16: =W16*0.2 -> 0 | Z16: =W16*0.3 -> 0 | AA16: =W16*0.5 -> 0 | AB16: =AA16+Z16+Y16+X16 -> 0 | AC16: 0 | AD16: 0 | AE16: =AD16+AC16 -> 0 | AF16: =AE16*6 -> 0 | AG16: =AF16+AB16 -> 0
E17: ಬಳಕೆ | F17: RICE | G17: =IF($F17="RICE",B16*0.1,"") -> 0 | H17: =IF($F17="RICE",C16*0.15,"") -> 0 | I17: =IF($F17="RICE",G17+H17,"") -> 0 | J17: =IF($F17="WHEAT",B16*0.1,"") | K17: =IF($F17="WHEAT",C16*0.15,"") | L17: =IF($F17="WHEAT",J17+K17,"") | M17: =B16*0.02 -> 0 | N17: =C16*0.03 -> 0 | O17: =N17+M17 -> 0 | P17: =B16*0.005 -> 0 | Q17: =C16*0.0075 -> 0 | R17: =Q17+P17 -> 0 | T17: =A71 -> 46279 | U17: 0 | V17: 0 | W17: =V17+U17 -> 0 | X17: =W17*5 -> 0 | Y17: =W17*0.2 -> 0 | Z17: =W17*0.3 -> 0 | AA17: =W17*0.5 -> 0 | AB17: =AA17+Z17+Y17+X17 -> 0 | AC17: 0 | AD17: 0 | AE17: =AD17+AC17 -> 0 | AF17: =AE17*6 -> 0 | AG17: =AF17+AB17 -> 0
E18: ಉಳಿಕೆ/ ಒಟ್ಟು | G18: =IF(OR(G17="",G17=0),G16,G16-G17) -> -0.1 | H18: =IF(OR(H17="",H17=0),H16,H16-H17) -> -0.15 | I18: =IF(OR(I17="",I17=0),I16,I16-I17) -> -0.25 | J18: =IF(OR(J17="",J17=0),J16,J16-J17) -> 0 | K18: =IF(OR(K17="",K17=0),K16,K16-K17) -> 0 | L18: =IF(OR(L17="",L17=0),L16,L16-L17) -> 0 | M18: =M16-M17 -> -0.02 | N18: =N16-N17 -> -0.03 | O18: =O16-O17 -> -0.05 | P18: =P16-P17 -> -0.005 | Q18: =Q16-Q17 -> -0.0075 | R18: =R16-R17 -> -0.0125 | T18: =A76 -> 46280 | U18: 0 | V18: 0 | W18: =V18+U18 -> 0 | X18: =W18*5 -> 0 | Y18: =W18*0.2 -> 0 | Z18: =W18*0.3 -> 0 | AA18: =W18*0.5 -> 0 | AB18: =AA18+Z18+Y18+X18 -> 0 | AC18: 0 | AD18: 0 | AE18: =AD18+AC18 -> 0 | AF18: =AE18*6 -> 0 | AG18: =AF18+AB18 -> 0
E19: ಆರಂಭಿಕ ಶಿಲ್ಕು | G19: =G18 -> -0.1 | H19: =H18 -> -0.15 | I19: =I18 -> -0.25 | J19: =J18 -> 0 | K19: =K18 -> 0 | L19: =L18 -> 0 | M19: =M18 -> -0.02 | N19: =N18 -> -0.03 | ... R19: =R18 -> -0.0125 | T19: =A81 -> 46281 | U19: 0 | V19: 0 | W19: =V19+U19 -> 0 | X19: =W19*5 -> 0 | Y19: =W19*0.2 -> 0 | Z19: =W19*0.3 -> 0 | AA19: =W19*0.5 -> 0 | AB19: =AA19+Z19+Y19+X19 -> 0 | AC19: 0 | AD19: 0 | AE19: =AD19+AC19 -> 0 | AF19: =AE19*6 -> 0 | AG19: =AF19+AB19 -> 0
E20: ತಿಂಗಳ ಸರಬರಾಜು | G20: 0 | H20: 0 | I20: =H20+G20 -> 0 | J20: 0 | K20: 0 | L20: =K20+J20 -> 0 | M20: 0 | N20: 0 | O20: =N20+M20 -> 0 | P20: 0 | Q20: 0 | R20: =Q20+P20 -> 0 | T20: =A86 -> 46282 | U20: 0 | V20: 0 | W20: =V20+U20 -> 0 | X20: =W20*5 -> 0 | Y20: =W20*0.2 -> 0 | Z20: =W20*0.3 -> 0 | AA20: =W20*0.5 -> 0 | AB20: =AA20+Z20+Y20+X20 -> 0 | AC20: 0 | AD20: 0 | AE20: =AD20+AC20 -> 0 | AF20: =AE20*6 -> 0 | AG20: =AF20+AB20 -> 0
A21: 46269 | B21: 0 | C21: 0 | D21: =B21+C21 -> 0 | E21: ಒಟ್ಟು ಆರಂಭಿಕ ಶಿಲ್ಕು | G21: =G19+G20 -> -0.1 | H21: =H19+H20 -> -0.15 | I21: =H21+G21 -> -0.25 | J21: =J19+J20 -> 0 | K21: =K19+K20 -> 0 | L21: =K21+J21 -> 0 | M21: =M19+M20 -> -0.02 | N21: =N19+N20 -> -0.03 | O21: =N21+M21 -> -0.05 | P21: =P19+P20 -> -0.005 | Q21: =Q19+Q20 -> -0.0075 | R21: =Q21+P21 -> -0.0125 | T21: =A91 -> 46283 | U21: 0 | V21: 0 | W21: =V21+U21 -> 0 | X21: =W21*5 -> 0 | Y21: =W21*0.2 -> 0 | Z21: =W21*0.3 -> 0 | AA21: =W21*0.5 -> 0 | AB21: =AA21+Z21+Y21+X21 -> 0 | AC21: 0 | AD21: 0 | AE21: =AD21+AC21 -> 0 | AF21: =AE21*6 -> 0 | AG21: =AF21+AB21 -> 0
E22: ಬಳಕೆ | F22: WHEAT | G22: =IF($F22="RICE",B21*0.1,"") | H22: =IF($F22="RICE",C21*0.15,"") | I22: =IF($F22="RICE",G22+H22,"") | J22: =IF($F22="WHEAT",B21*0.1,"") -> 0 | K22: =IF($F22="WHEAT",C21*0.15,"") -> 0 | L22: =IF($F22="WHEAT",J22+K22,"") -> 0 | M22: =B21*0.02 -> 0 | N22: =C21*0.03 -> 0 | O22: =N22+M22 -> 0 | P22: =B21*0.005 -> 0 | Q22: =C21*0.0075 -> 0 | R22: =Q22+P22 -> 0 | T22: =A96 -> 46284 | U22: 0 | V22: 0 | W22: =V22+U22 -> 0 | X22: =W22*5 -> 0 | Y22: =W22*0.2 -> 0 | Z22: =W22*0.3 -> 0 | AA22: =W22*0.5 -> 0 | AB22: =AA22+Z22+Y22+X22 -> 0 | AC22: 0 | AD22: 0 | AE22: =AD22+AC22 -> 0 | AF22: =AE22*6 -> 0 | AG22: =AF22+AB22 -> 0
E23: ಉಳಿಕೆ/ ಒಟ್ಟು | G23: =IF(OR(G22="",G22=0),G21,G21-G22) -> -0.1 | H23: =IF(OR(H22="",H22=0),H21,H21-H22) -> -0.15 | I23: =IF(OR(I22="",I22=0),I21,I21-I22) -> -0.25 | J23: =IF(OR(J22="",J22=0),J21,J21-J22) -> 0 | K23: =IF(OR(K22="",K22=0),K21,K21-K22) -> 0 | L23: =IF(OR(L22="",L22=0),L21,L21-L22) -> 0 | M23: =M21-M22 -> -0.02 | N23: =N21-N22 -> -0.03 | O23: =O21-O22 -> -0.05 | P23: =P21-P22 -> -0.005 | Q23: =Q21-Q22 -> -0.0075 | R23: =R21-R22 -> -0.0125 | T23: =A101 -> 46285 | U23: 0 | V23: 0 | W23: =V23+U23 -> 0 | X23: =W23*5 -> 0 | Y23: =W23*0.2 -> 0 | Z23: =W23*0.3 -> 0 | AA23: =W23*0.5 -> 0 | AB23: =AA23+Z23+Y23+X23 -> 0 | AC23: 0 | AD23: 0 | AE23: =AD23+AC23 -> 0 | AF23: =AE23*6 -> 0 | AG23: =AF23+AB23 -> 0
E24: ಆರಂಭಿಕ ಶಿಲ್ಕು | G24: =G23 -> -0.1 | H24: =H23 -> -0.15 | I24: =I23 -> -0.25 | J24: =J23 -> 0 | K24: =K23 -> 0 | L24: =L23 -> 0 | M24: =M23 -> -0.02 | N24: =N23 -> -0.03 | ... R24: =R23 -> -0.0125 | T24: =A106 -> 46286 | U24: 0 | V24: 0 | W24: =V24+U24 -> 0 | X24: =W24*5 -> 0 | Y24: =W24*0.2 -> 0 | Z24: =W24*0.3 -> 0 | AA24: =W24*0.5 -> 0 | AB24: =AA24+Z24+Y24+X24 -> 0 | AC24: 0 | AD24: 0 | AE24: =AD24+AC24 -> 0 | AF24: =AE24*6 -> 0 | AG24: =AF24+AB24 -> 0
E25: ತಿಂಗಳ ಸರಬರಾಜು | G25: 0 | H25: 0 | I25: =H25+G25 -> 0 | J25: 0 | K25: 0 | L25: =K25+J25 -> 0 | M25: 0 | N25: 0 | O25: =N25+M25 -> 0 | P25: 0 | Q25: 0 | R25: =Q25+P25 -> 0 | T25: =A111 -> 46287 | U25: 0 | V25: 0 | W25: =V25+U25 -> 0 | X25: =W25*5 -> 0 | Y25: =W25*0.2 -> 0 | Z25: =W25*0.3 -> 0 | AA25: =W25*0.5 -> 0 | AB25: =AA25+Z25+Y25+X25 -> 0 | AC25: 0 | AD25: 0 | AE25: =AD25+AC25 -> 0 | AF25: =AE25*6 -> 0 | AG25: =AF25+AB25 -> 0
A26: 46270 | B26: 0 | C26: 0 | D26: =B26+C26 -> 0 | E26: ಒಟ್ಟು ಆರಂಭಿಕ ಶಿಲ್ಕು | G26: =G24+G25 -> -0.1 | H26: =H24+H25 -> -0.15 | I26: =H26+G26 -> -0.25 | J26: =J24+J25 -> 0 | K26: =K24+K25 -> 0 | L26: =K26+J26 -> 0 | M26: =M24+M25 -> -0.02 | N26: =N24+N25 -> -0.03 | O26: =N26+M26 -> -0.05 | P26: =P24+P25 -> -0.005 | Q26: =Q24+Q25 -> -0.0075 | R26: =Q26+P26 -> -0.0125 | T26: =A116 -> 46288 | U26: 0 | V26: 0 | W26: =V26+U26 -> 0 | X26: =W26*5 -> 0 | Y26: =W26*0.2 -> 0 | Z26: =W26*0.3 -> 0 | AA26: =W26*0.5 -> 0 | AB26: =AA26+Z26+Y26+X26 -> 0 | AC26: 0 | AD26: 0 | AE26: =AD26+AC26 -> 0 | AF26: =AE26*6 -> 0 | AG26: =AF26+AB26 -> 0
E27: ಬಳಕೆ | F27: RICE | G27: =IF($F27="RICE",B26*0.1,"") -> 0 | H27: =IF($F27="RICE",C26*0.15,"") -> 0 | I27: =IF($F27="RICE",G27+H27,"") -> 0 | J27: =IF($F27="WHEAT",B26*0.1,"") | K27: =IF($F27="WHEAT",C26*0.15,"") | L27: =IF($F27="WHEAT",J27+K27,"") | M27: =B26*0.02 -> 0 | N27: =C26*0.03 -> 0 | O27: =N27+M27 -> 0 | P27: =B26*0.005 -> 0 | Q27: =C26*0.0075 -> 0 | R27: =Q27+P27 -> 0 | T27: =A121 -> 46289 | U27: 0 | V27: 0 | W27: =V27+U27 -> 0 | X27: =W27*5 -> 0 | Y27: =W27*0.2 -> 0 | Z27: =W27*0.3 -> 0 | AA27: =W27*0.5 -> 0 | AB27: =AA27+Z27+Y27+X27 -> 0 | AC27: 0 | AD27: 0 | AE27: =AD27+AC27 -> 0 | AF27: =AE27*6 -> 0 | AG27: =AF27+AB27 -> 0
E28: ಉಳಿಕೆ/ ಒಟ್ಟು | G28: =IF(OR(G27="",G27=0),G26,G26-G27) -> -0.1 | H28: =IF(OR(H27="",H27=0),H26,H26-H27) -> -0.15 | I28: =IF(OR(I27="",I27=0),I26,I26-I27) -> -0.25 | J28: =IF(OR(J27="",J27=0),J26,J26-J27) -> 0 | K28: =IF(OR(K27="",K27=0),K26,K26-K27) -> 0 | L28: =IF(OR(L27="",L27=0),L26,L26-L27) -> 0 | M28: =M26-M27 -> -0.02 | N28: =N26-N27 -> -0.03 | O28: =O26-O27 -> -0.05 | P28: =P26-P27 -> -0.005 | Q28: =Q26-Q27 -> -0.0075 | R28: =R26-R27 -> -0.0125 | T28: =A126 -> 46290 | U28: 0 | V28: 0 | W28: =V28+U28 -> 0 | X28: =W28*5 -> 0 | Y28: =W28*0.2 -> 0 | Z28: =W28*0.3 -> 0 | AA28: =W28*0.5 -> 0 | AB28: =AA28+Z28+Y28+X28 -> 0 | AC28: 0 | AD28: 0 | AE28: =AD28+AC28 -> 0 | AF28: =AE28*6 -> 0 | AG28: =AF28+AB28 -> 0
E29: ಆರಂಭಿಕ ಶಿಲ್ಕು | G29: =G28 -> -0.1 | H29: =H28 -> -0.15 | I29: =I28 -> -0.25 | J29: =J28 -> 0 | K29: =K28 -> 0 | L29: =L28 -> 0 | M29: =M28 -> -0.02 | N29: =N28 -> -0.03 | ... R29: =R28 -> -0.0125 | T29: =A131 -> 46291 | U29: 0 | V29: 0 | W29: =V29+U29 -> 0 | X29: =W29*5 -> 0 | Y29: =W29*0.2 -> 0 | Z29: =W29*0.3 -> 0 | AA29: =W29*0.5 -> 0 | AB29: =AA29+Z29+Y29+X29 -> 0 | AC29: 0 | AD29: 0 | AE29: =AD29+AC29 -> 0 | AF29: =AE29*6 -> 0 | AG29: =AF29+AB29 -> 0
E30: ತಿಂಗಳ ಸರಬರಾಜು | G30: 0 | H30: 0 | I30: =H30+G30 -> 0 | J30: 0 | K30: 0 | L30: =K30+J30 -> 0 | M30: 0 | N30: 0 | O30: =N30+M30 -> 0 | P30: 0 | Q30: 0 | R30: =Q30+P30 -> 0 | T30: =A136 -> 46292 | U30: 0 | V30: 0 | W30: =V30+U30 -> 0 | X30: =W30*5 -> 0 | Y30: =W30*0.2 -> 0 | Z30: =W30*0.3 -> 0 | AA30: =W30*0.5 -> 0 | AB30: =AA30+Z30+Y30+X30 -> 0 | AC30: 0 | AD30: 0 | AE30: =AD30+AC30 -> 0 | AF30: =AE30*6 -> 0 | AG30: =AF30+AB30 -> 0
A31: 46271 | B31: 0 | C31: 0 | D31: =B31+C31 -> 0 | E31: ಒಟ್ಟು ಆರಂಭಿಕ ಶಿಲ್ಕು | G31: =G29+G30 -> -0.1 | H31: =H29+H30 -> -0.15 | I31: =H31+G31 -> -0.25 | J31: =J29+J30 -> 0 | K31: =K29+K30 -> 0 | L31: =K31+J31 -> 0 | M31: =M29+M30 -> -0.02 | N31: =N29+N30 -> -0.03 | O31: =N31+M31 -> -0.05 | P31: =P29+P30 -> -0.005 | Q31: =Q29+Q30 -> -0.0075 | R31: =Q31+P31 -> -0.0125 | T31: =A141 -> 46293 | U31: 0 | V31: 0 | W31: =V31+U31 -> 0 | X31: =W31*5 -> 0 | Y31: =W31*0.2 -> 0 | Z31: =W31*0.3 -> 0 | AA31: =W31*0.5 -> 0 | AB31: =AA31+Z31+Y31+X31 -> 0 | AC31: 0 | AD31: 0 | AE31: =AD31+AC31 -> 0 | AF31: =AE31*6 -> 0 | AG31: =AF31+AB31 -> 0
E32: ಬಳಕೆ | F32: RICE | G32: =IF($F32="RICE",B31*0.1,"") -> 0 | H32: =IF($F32="RICE",C31*0.15,"") -> 0 | I32: =IF($F32="RICE",G32+H32,"") -> 0 | J32: =IF($F32="WHEAT",B31*0.1,"") | K32: =IF($F32="WHEAT",C31*0.15,"") | L32: =IF($F32="WHEAT",J32+K32,"") | M32: =B31*0.02 -> 0 | N32: =C31*0.03 -> 0 | O32: =N32+M32 -> 0 | P32: =B31*0.005 -> 0 | Q32: =C31*0.0075 -> 0 | R32: =Q32+P32 -> 0 | T32: =A146 -> 46294 | U32: 0 | V32: 0 | W32: =V32+U32 -> 0 | X32: =W32*5 -> 0 | Y32: =W32*0.2 -> 0 | Z32: =W32*0.3 -> 0 | AA32: =W32*0.5 -> 0 | AB32: =AA32+Z32+Y32+X32 -> 0 | AC32: 0 | AD32: 0 | AE32: =AD32+AC32 -> 0 | AF32: =AE32*6 -> 0 | AG32: =AF32+AB32 -> 0
E33: ಉಳಿಕೆ/ ಒಟ್ಟು | G33: =IF(OR(G32="",G32=0),G31,G31-G32) -> -0.1 | H33: =IF(OR(H32="",H32=0),H31,H31-H32) -> -0.15 | I33: =IF(OR(I32="",I32=0),I31,I31-I32) -> -0.25 | J33: =IF(OR(J32="",J32=0),J31,J31-J32) -> 0 | K33: =IF(OR(K32="",K32=0),K31,K31-K32) -> 0 | L33: =IF(OR(L32="",L32=0),L31,L31-L32) -> 0 | M33: =M31-M32 -> -0.02 | N33: =N31-N32 -> -0.03 | O33: =O31-O32 -> -0.05 | P33: =P31-P32 -> -0.005 | Q33: =Q31-Q32 -> -0.0075 | R33: =R31-R32 -> -0.0125 | T33: =A151 -> 46295 | U33: 0 | V33: 0 | W33: =V33+U33 -> 0 | X33: =W33*5 -> 0 | Y33: =W33*0.2 -> 0 | Z33: =W33*0.3 -> 0 | AA33: =W33*0.5 -> 0 | AB33: =AA33+Z33+Y33+X33 -> 0 | AC33: 0 | AD33: 0 | AE33: =AD33+AC33 -> 0 | AF33: =AE33*6 -> 0 | AG33: =AF33+AB33 -> 0
E34: ಆರಂಭಿಕ ಶಿಲ್ಕು | G34: =G33 -> -0.1 | H34: =H33 -> -0.15 | I34: =I33 -> -0.25 | J34: =J33 -> 0 | K34: =K33 -> 0 | L34: =L33 -> 0 | M34: =M33 -> -0.02 | N34: =N33 -> -0.03 | ... R34: =R33 -> -0.0125 | T34: =A156 -> 0 | U34: 0 | V34: 0 | W34: =V34+U34 -> 0 | X34: =W34*5 -> 0 | Y34: =W34*0.2 -> 0 | Z34: =W34*0.3 -> 0 | AA34: =W34*0.5 -> 0 | AB34: =AA34+Z34+Y34+X34 -> 0 | AC34: 0 | AD34: 0 | AE34: =AD34+AC34 -> 0 | AF34: =AE34*6 -> 0 | AG34: =AF34+AB34 -> 0
E35: ತಿಂಗಳ ಸರಬರಾಜು | G35: 0 | H35: 0 | I35: =H35+G35 -> 0 | J35: 0 | K35: 0 | L35: =K35+J35 -> 0 | M35: 0 | N35: 0 | O35: =N35+M35 -> 0 | P35: 0 | Q35: 0 | R35: =Q35+P35 -> 0 | T35: TOTAL | U35: =SUM(U4:U34) -> 1 | V35: =SUM(V4:V34) -> 1 | W35: =V35+U35 -> 2 | X35: =W35*5 -> 10 | Y35: =W35*0.2 -> 0.4 | Z35: =W35*0.3 -> 0.6 | AA35: =W35*0.5 -> 1 | AB35: =AA35+Z35+Y35+X35 -> 12 | AC35: =SUM(AC4:AC34) -> 1 | AD35: =SUM(AD4:AD34) -> 1 | AE35: =AD35+AC35 -> 2 | AF35: =AE35*6 -> 12 | AG35: =AF35+AB35 -> 24
A36: 46272 | B36: 0 | C36: 0 | D36: =B36+C36 -> 0 | E36: ಒಟ್ಟು ಆರಂಭಿಕ ಶಿಲ್ಕು | G36: =G34+G35 -> -0.1 | H36: =H34+H35 -> -0.15 | I36: =H36+G36 -> -0.25 | J36: =J34+J35 -> 0 | K36: =K34+K35 -> 0 | L36: =K36+J36 -> 0 | M36: =M34+M35 -> -0.02 | N36: =N34+N35 -> -0.03 | O36: =N36+M36 -> -0.05 | P36: =P34+P35 -> -0.005 | Q36: =Q34+Q35 -> -0.0075 | R36: =Q36+P36 -> -0.0125 | T36: TOTAL | X36: 6 RS | Y36: 5.5 RS | Z36: 5.20 RS | AB36: 6 RS
E37: ಬಳಕೆ | F37: RICE | G37: =IF($F37="RICE",B36*0.1,"") -> 0 | H37: =IF($F37="RICE",C36*0.15,"") -> 0 | I37: =IF($F37="RICE",G37+H37,"") -> 0 | J37: =IF($F37="WHEAT",B36*0.1,"") | K37: =IF($F37="WHEAT",C36*0.15,"") | L37: =IF($F37="WHEAT",J37+K37,"") | M37: =B36*0.02 -> 0 | N37: =C36*0.03 -> 0 | O37: =N37+M37 -> 0 | P37: =B36*0.005 -> 0 | Q37: =C36*0.0075 -> 0 | R37: =Q37+P37 -> 0 | T37: AMOUNT OF GOVT EGG IN MONTH | X37: 0 | Y37: 0 | Z37: 0 | AB37: GOVT. BANANA | AC37: 0 | AE37: NUMBER OF DAYS EGG DISTRIBUTED- GOVT. | AG37: 0
E38: ಉಳಿಕೆ/ ಒಟ್ಟು | G38: =IF(OR(G37="",G37=0),G36,G36-G37) -> -0.1 | H38: =IF(OR(H37="",H37=0),H36,H36-H37) -> -0.15 | I38: =IF(OR(I37="",I37=0),I36,I36-I37) -> -0.25 | J38: =IF(OR(J37="",J37=0),J36,J36-J37) -> 0 | K38: =IF(OR(K37="",K37=0),K36,K36-K37) -> 0 | L38: =IF(OR(L37="",L37=0),L36,L36-L37) -> 0 | M38: =M36-M37 -> -0.02 | N38: =N36-N37 -> -0.03 | O38: =O36-O37 -> -0.05 | P38: =P36-P37 -> -0.005 | Q38: =Q36-Q37 -> -0.0075 | R38: =R36-R37 -> -0.0125 | T38: AMOUNT OF APF EGG IN MONTH | X38: =X39-X37 -> 12 | Y38: =Y39-Y37 -> 11 | Z38: =Z39-Z37 -> 10.4 | AB38: APF BANANA | AC38: 0 | AE38: NUMBER OF DAYS EGG DISTRIBUTED- APF | AG38: =AG40-AG37 -> 0
E39: ಆರಂಭಿಕ ಶಿಲ್ಕು | G39: =G38 -> -0.1 | H39: =H38 -> -0.15 | I39: =I38 -> -0.25 | J39: =J38 -> 0 | K39: =K38 -> 0 | L39: =L38 -> 0 | M39: =M38 -> -0.02 | N39: =N38 -> -0.03 | ... R39: =R38 -> -0.0125 | W39: TOTAL | X39: =AB35 -> 12 | Y39: =X35+Y35+Z35 -> 11 | Z39: =X35+Y35 -> 10.4 | AB39: TOTAL | AC39: =AC38+AC37 -> 0
E40: ತಿಂಗಳ ಸರಬರಾಜು | G40: 0 | H40: 0 | I40: =H40+G40 -> 0 | J40: 0 | K40: 0 | L40: =K40+J40 -> 0 | M40: 0 | N40: 0 | O40: =N40+M40 -> 0 | P40: 0 | Q40: 0 | R40: =Q40+P40 -> 0 | T40: ಕ್ಷೀರಭಾಗ್ಯ ವಿತರಣೆ ವಿವರ | AE40: TOTAL WORKING DAYS | AG40: 0
...

Sheet Sheet3
C2: LKG-UKG | D2: 1ರಿಂದ 5 | E2: 6ರಿಂದ 8
B3: ಅಕ್ಕಿ | C3: 0.100 ಕೆಜಿ | D3: 0.100 ಕೆಜಿ | E3: 0.150 ಕೆಜಿ
B4: ಬೇಳೆ | C4: 0.020 ಕೆಜಿ | D4: 0.020 ಕೆಜಿ | E4: 0.030 ಕೆಜಿ
B5: ಎಣ್ಣೆ | C5: 0.005 ಲೀ | D5: 0.005 ಲೀ | E5: 0.007.5 ಲೀ
B6: ಉಪ್ಪು | C6: 0.002 ಕೆಜಿ | D6: 0.002 ಕೆಜಿ | E6: 0.004 ಕೆಜಿ
C7: 0.04 ರೂ | D7: 0.04 ರೂ | E7: 0.08 ರೂ
B9: ತರಕಾರಿ | C9: 1.80 ರೂ | D9: 1.80 ರೂ | E9: 2.70 ರೂ
B10: ಸಾಂಬಾರ ಪದಾರ್ಥ | C10: 0.55 ರೂ | D10: 0.55 ರೂ | E10: 0.77 ರೂ
B12: ಹಾಲು | C12: 0.018 ಕೆಜಿ | D12: 0.018 ಕೆಜಿ | E12: 0.018 ಕೆಜಿ
B14: ಸಕ್ಕರೆ ಮತ್ತು ಇತರೆ | C14: 0.32 + .012ರೂ | D14: 0.32 + .012ರೂ | E14: 0.32 + .012ರೂ
B15: milk gas | C15: 0.15 | D15: 0.15 | E15: 0.15
B17: EGG GAS | C17: 0.5 | D17: 0.5 | E17: 0.5
